BEGIN:VCALENDAR
VERSION:2.0
PRODID:-//The Confederation of Autosport Car Clubs - ECPv6.15.20//NONSGML v1.0//EN
CALSCALE:GREGORIAN
METHOD:PUBLISH
X-WR-CALNAME:The Confederation of Autosport Car Clubs
X-ORIGINAL-URL:https://www.caccautosport.org
X-WR-CALDESC:Events for The Confederation of Autosport Car Clubs
REFRESH-INTERVAL;VALUE=DURATION:PT1H
X-Robots-Tag:noindex
X-PUBLISHED-TTL:PT1H
BEGIN:VTIMEZONE
TZID:America/Vancouver
BEGIN:DAYLIGHT
TZOFFSETFROM:-0800
TZOFFSETTO:-0700
TZNAME:PDT
DTSTART:20240310T100000
END:DAYLIGHT
BEGIN:STANDARD
TZOFFSETFROM:-0700
TZOFFSETTO:-0800
TZNAME:PST
DTSTART:20241103T090000
END:STANDARD
BEGIN:DAYLIGHT
TZOFFSETFROM:-0800
TZOFFSETTO:-0700
TZNAME:PDT
DTSTART:20250309T100000
END:DAYLIGHT
BEGIN:STANDARD
TZOFFSETFROM:-0700
TZOFFSETTO:-0800
TZNAME:PST
DTSTART:20251102T090000
END:STANDARD
BEGIN:DAYLIGHT
TZOFFSETFROM:-0800
TZOFFSETTO:-0700
TZNAME:PDT
DTSTART:20260308T100000
END:DAYLIGHT
BEGIN:STANDARD
TZOFFSETFROM:-0700
TZOFFSETTO:-0800
TZNAME:PST
DTSTART:20261101T090000
END:STANDARD
END:VTIMEZONE
BEGIN:VEVENT
DTSTART;VALUE=DATE:20250517
DTEND;VALUE=DATE:20250519
DTSTAMP:20260424T075239
CREATED:20250320T152018Z
LAST-MODIFIED:20250320T152018Z
UID:9216-1747440000-1747612799@www.caccautosport.org
SUMMARY:KMMS Knox Mountain Hillclimb
DESCRIPTION:The Leavitt Machinery Knox Mountain Hill Climb is an annual event at Knox Mountain Park\, in the City of Kelowna BC\, Canada. The 2.2 mile (3.5 km) paved road to the summit is narrow with off-camber corners\, steep grades\, and climbs approximately 800 feet (245 meters) in elevation for an average grade of 6.7%. The current hill record is 1m:34.903\, held by Aran Cook of Edmonton\, Alberta.
URL:https://www.caccautosport.org/event/kmms-knox-mountain-hillclimb/
LOCATION:Knox Mountain\, Kelowna\, BC\, Canada
CATEGORIES:Hillclimb,Time Attack
END:VEVENT
BEGIN:VEVENT
DTSTART;TZID=America/Vancouver:20250517T080000
DTEND;TZID=America/Vancouver:20250517T170000
DTSTAMP:20260424T075239
CREATED:20250507T160952Z
LAST-MODIFIED:20250519T205658Z
UID:9338-1747468800-1747501200@www.caccautosport.org
SUMMARY:KGAA Autoslalom/Autocross - CANCELLED
DESCRIPTION:🏁 Autocross Event Schedule\nDate: May 17th\nLocation: WFP Cranbrook\nStart Time: 8:00 AM\nEnd Time: 5:00 PM \n📋 Schedule:\n6:30 AM – 8:00 AM \n\nCourse Setup & Tech Inspection\n(Volunteers and course designers finalize setup\, open tech inspection for early arrivals.)\n\n7:30 AM – 8:00 AM \n\nRegistration Check-In Open\n(Get spots\, sign waivers\, confirm run groups.)\n\n8:00 AM – 8:15 AM \n\nDriver’s Meeting\n(Mandatory. Go over safety\, schedule\, and run group assignments.)\n\n🏎 Morning Session:\n8:30 AM – 10:30 AM \n\nHeat A – Morning Runs\n(Heat A drivers run\, Heat B drivers work.)\n\n10:30 AM – 12:30 PM \n\nHeat B – Morning Runs\n(Heat B drivers run\, Heat A drivers work.)\n\n🍔 Lunch Break:\n12:30 PM – 1:15 PM \n\nLunch Break\n(Food trucks\, bring-your-own\, or relax.)\n\n🏎 Afternoon Session:\n1:15 PM – 3:15 PM \n\nHeat A – Afternoon Runs\n(Heat A drivers run\, Heat B drivers work.)\n\n3:15 PM – 5:00 PM \n\nHeat B – Afternoon Runs\n(Heat B drivers run\, Heat A drivers work.)\n\n🛠️ Event Wrap-Up:\n5:00 PM – 5:30 PM \n\nCourse Takedown & Cleanup\n(All hands on deck\, many hands make light work!)\n\nNotes:\n\nBe at the driver’s meeting to participate.\nWorkers must check in before their assigned heats.\nRespect all event staff and fellow participants.\n\nLet’s have fun and stay safe!
URL:https://www.caccautosport.org/event/kgaa-autocross/
LOCATION:Western Financial Place\, 1777 2nd St N\, Cranbrook\, V1C 7G9\, Canada
CATEGORIES:Autocross,Autoslalom
END:VEVENT
END:VCALENDAR