BEGIN:VCALENDAR
VERSION:2.0
PRODID:-//The Confederation of Autosport Car Clubs - ECPv6.15.20//NONSGML v1.0//EN
CALSCALE:GREGORIAN
METHOD:PUBLISH
X-ORIGINAL-URL:https://www.caccautosport.org
X-WR-CALDESC:Events for The Confederation of Autosport Car Clubs
REFRESH-INTERVAL;VALUE=DURATION:PT1H
X-Robots-Tag:noindex
X-PUBLISHED-TTL:PT1H
BEGIN:VTIMEZONE
TZID:America/Vancouver
BEGIN:DAYLIGHT
TZOFFSETFROM:-0800
TZOFFSETTO:-0700
TZNAME:PDT
DTSTART:20250309T100000
END:DAYLIGHT
BEGIN:STANDARD
TZOFFSETFROM:-0700
TZOFFSETTO:-0800
TZNAME:PST
DTSTART:20251102T090000
END:STANDARD
BEGIN:DAYLIGHT
TZOFFSETFROM:-0800
TZOFFSETTO:-0700
TZNAME:PDT
DTSTART:20260308T100000
END:DAYLIGHT
BEGIN:STANDARD
TZOFFSETFROM:-0700
TZOFFSETTO:-0800
TZNAME:PST
DTSTART:20261101T090000
END:STANDARD
BEGIN:DAYLIGHT
TZOFFSETFROM:-0800
TZOFFSETTO:-0700
TZNAME:PDT
DTSTART:20270314T100000
END:DAYLIGHT
BEGIN:STANDARD
TZOFFSETFROM:-0700
TZOFFSETTO:-0800
TZNAME:PST
DTSTART:20271107T090000
END:STANDARD
END:VTIMEZONE
BEGIN:VEVENT
DTSTART;VALUE=DATE:20260516
DTEND;VALUE=DATE:20260518
DTSTAMP:20260423T111956
CREATED:20260409T224830Z
LAST-MODIFIED:20260409T224857Z
UID:9815-1778889600-1779062399@www.caccautosport.org
SUMMARY:KMMS Hillclimb
DESCRIPTION:The Leavitt Machinery Knox Mountain Hill Climb is an annual event at Knox Mountain Park\, in the City of Kelowna BC\, Canada. The 2.2 mile (3.5 km) paved road to the summit is narrow with off-camber corners\, steep grades\, and climbs approximately 800 feet (245 meters) in elevation for an average grade of 6.7%. The current hill record is 1m:34.903\, held by Aran Cook of Edmonton\, Alberta.\nFor more details about the hill\, see our website at https://knoxmountainhillclimb.ca.
URL:https://www.caccautosport.org/event/kmms-hillclimb/
LOCATION:Knox Mountain\, Kelowna\, BC\, Canada
CATEGORIES:Hillclimb,Time Attack
END:VEVENT
END:VCALENDAR