BEGIN:VCALENDAR
VERSION:2.0
PRODID:-//The Confederation of Autosport Car Clubs - ECPv6.15.20//NONSGML v1.0//EN
CALSCALE:GREGORIAN
METHOD:PUBLISH
X-WR-CALNAME:The Confederation of Autosport Car Clubs
X-ORIGINAL-URL:https://www.caccautosport.org
X-WR-CALDESC:Events for The Confederation of Autosport Car Clubs
REFRESH-INTERVAL;VALUE=DURATION:PT1H
X-Robots-Tag:noindex
X-PUBLISHED-TTL:PT1H
BEGIN:VTIMEZONE
TZID:America/Vancouver
BEGIN:DAYLIGHT
TZOFFSETFROM:-0800
TZOFFSETTO:-0700
TZNAME:PDT
DTSTART:20200308T100000
END:DAYLIGHT
BEGIN:STANDARD
TZOFFSETFROM:-0700
TZOFFSETTO:-0800
TZNAME:PST
DTSTART:20201101T090000
END:STANDARD
BEGIN:DAYLIGHT
TZOFFSETFROM:-0800
TZOFFSETTO:-0700
TZNAME:PDT
DTSTART:20210314T100000
END:DAYLIGHT
BEGIN:STANDARD
TZOFFSETFROM:-0700
TZOFFSETTO:-0800
TZNAME:PST
DTSTART:20211107T090000
END:STANDARD
BEGIN:DAYLIGHT
TZOFFSETFROM:-0800
TZOFFSETTO:-0700
TZNAME:PDT
DTSTART:20220313T100000
END:DAYLIGHT
BEGIN:STANDARD
TZOFFSETFROM:-0700
TZOFFSETTO:-0800
TZNAME:PST
DTSTART:20221106T090000
END:STANDARD
BEGIN:DAYLIGHT
TZOFFSETFROM:-0800
TZOFFSETTO:-0700
TZNAME:PDT
DTSTART:20230312T100000
END:DAYLIGHT
BEGIN:STANDARD
TZOFFSETFROM:-0700
TZOFFSETTO:-0800
TZNAME:PST
DTSTART:20231105T090000
END:STANDARD
END:VTIMEZONE
BEGIN:VEVENT
DTSTART;TZID=America/Vancouver:20221108T190000
DTEND;TZID=America/Vancouver:20221108T203000
DTSTAMP:20260423T154803
CREATED:20220927T180214Z
LAST-MODIFIED:20221004T144434Z
UID:5294-1667934000-1667939400@www.caccautosport.org
SUMMARY:CACC Time Attack Discipline Fall Meeting
DESCRIPTION:
URL:https://www.caccautosport.org/event/cacc-time-attack-discipline-fall-general-meeting/
LOCATION:Virtual Meeting
CATEGORIES:Administration,Time Attack
END:VEVENT
BEGIN:VEVENT
DTSTART;TZID=America/Vancouver:20221105T100000
DTEND;TZID=America/Vancouver:20221105T140000
DTSTAMP:20260423T154803
CREATED:20220927T180545Z
LAST-MODIFIED:20221013T161739Z
UID:5297-1667642400-1667656800@www.caccautosport.org
SUMMARY:CACC Race Discipline Fall Meeting
DESCRIPTION:
URL:https://www.caccautosport.org/event/cacc-race-discipline-fall-2022-general-meeting/
LOCATION:Virtual Meeting
CATEGORIES:Administration,Road Racing
END:VEVENT
BEGIN:VEVENT
DTSTART;TZID=America/Vancouver:20221103T190000
DTEND;TZID=America/Vancouver:20221103T200000
DTSTAMP:20260423T154803
CREATED:20221014T013025Z
LAST-MODIFIED:20221014T013026Z
UID:5420-1667502000-1667505600@www.caccautosport.org
SUMMARY:CACC Karting Discipline Fall Meeting
DESCRIPTION:
URL:https://www.caccautosport.org/event/cacc-karting-discipline-fall-meeting/
LOCATION:Virtual Meeting
CATEGORIES:Administration,Karting
END:VEVENT
BEGIN:VEVENT
DTSTART;TZID=America/Vancouver:20221101T190000
DTEND;TZID=America/Vancouver:20221101T200000
DTSTAMP:20260423T154803
CREATED:20221004T144414Z
LAST-MODIFIED:20221013T161806Z
UID:5350-1667329200-1667332800@www.caccautosport.org
SUMMARY:CACC Autoslalom Discipline Fall Meeting
DESCRIPTION:
URL:https://www.caccautosport.org/event/cacc-autoslalom-discipline-fall-meeting-2/
LOCATION:Virtual Meeting
CATEGORIES:Administration,Auto Slalom
END:VEVENT
BEGIN:VEVENT
DTSTART;TZID=America/Vancouver:20221025T190000
DTEND;TZID=America/Vancouver:20221025T203000
DTSTAMP:20260423T154803
CREATED:20220929T144803Z
LAST-MODIFIED:20221013T161709Z
UID:5324-1666724400-1666729800@www.caccautosport.org
SUMMARY:CACC Officials Discipline Fall Meeting
DESCRIPTION:
URL:https://www.caccautosport.org/event/cacc-officials-discipline-fall-general-meeting/
LOCATION:Virtual Meeting
CATEGORIES:Administration,Officials
END:VEVENT
BEGIN:VEVENT
DTSTART;TZID=America/Vancouver:20221020T183000
DTEND;TZID=America/Vancouver:20221020T193000
DTSTAMP:20260423T154803
CREATED:20221010T153004Z
LAST-MODIFIED:20221013T161831Z
UID:5382-1666290600-1666294200@www.caccautosport.org
SUMMARY:CACC Vintage Discipline Fall Meeting
DESCRIPTION:
URL:https://www.caccautosport.org/event/cacc-vintage-discipline-fall-meeting/
LOCATION:Virtual Meeting
CATEGORIES:Administration,Vintage Racing
END:VEVENT
BEGIN:VEVENT
DTSTART;TZID=America/Vancouver:20211121T100000
DTEND;TZID=America/Vancouver:20211121T140000
DTSTAMP:20260423T154803
CREATED:20211029T170858Z
LAST-MODIFIED:20211029T170858Z
UID:4143-1637488800-1637503200@www.caccautosport.org
SUMMARY:CACC Fall General Meeting
DESCRIPTION:
URL:https://www.caccautosport.org/event/cacc-fall-general-meeting/
LOCATION:Virtual Meeting
CATEGORIES:Administration
END:VEVENT
BEGIN:VEVENT
DTSTART;TZID=America/Vancouver:20211120T100000
DTEND;TZID=America/Vancouver:20211120T120000
DTSTAMP:20260423T154803
CREATED:20211029T170629Z
LAST-MODIFIED:20211029T170629Z
UID:4138-1637402400-1637409600@www.caccautosport.org
SUMMARY:CACC Race  Discipline Fall Meeting
DESCRIPTION:
URL:https://www.caccautosport.org/event/cacc-race-discipline-fall-meeting/
LOCATION:Virtual Meeting
CATEGORIES:Administration
END:VEVENT
BEGIN:VEVENT
DTSTART;TZID=America/Vancouver:20211118T190000
DTEND;TZID=America/Vancouver:20211118T203000
DTSTAMP:20260423T154803
CREATED:20211029T170544Z
LAST-MODIFIED:20211029T170544Z
UID:4136-1637262000-1637267400@www.caccautosport.org
SUMMARY:CACC Autoslalom Discipline Fall Meeting
DESCRIPTION:
URL:https://www.caccautosport.org/event/cacc-autoslalom-discipline-fall-meeting/
LOCATION:Virtual Meeting
CATEGORIES:Administration
END:VEVENT
BEGIN:VEVENT
DTSTART;TZID=America/Vancouver:20211117T190000
DTEND;TZID=America/Vancouver:20211117T203000
DTSTAMP:20260423T154803
CREATED:20211029T170452Z
LAST-MODIFIED:20211029T170452Z
UID:4134-1637175600-1637181000@www.caccautosport.org
SUMMARY:CACC Officials  Discipline Fall Meeting
DESCRIPTION:
URL:https://www.caccautosport.org/event/cacc-officials-discipline-fall-meeting/
LOCATION:Virtual Meeting
CATEGORIES:Administration
END:VEVENT
BEGIN:VEVENT
DTSTART;TZID=America/Vancouver:20211116T190000
DTEND;TZID=America/Vancouver:20211116T203000
DTSTAMP:20260423T154803
CREATED:20211029T170355Z
LAST-MODIFIED:20211029T170644Z
UID:4132-1637089200-1637094600@www.caccautosport.org
SUMMARY:CACC Time Attack Discipline Fall Meeting
DESCRIPTION:
URL:https://www.caccautosport.org/event/time-attack-discipline-fall-meeting/
LOCATION:Virtual Meeting
CATEGORIES:Administration
END:VEVENT
BEGIN:VEVENT
DTSTART;TZID=America/Vancouver:20211115T190000
DTEND;TZID=America/Vancouver:20211115T203000
DTSTAMP:20260423T154803
CREATED:20211029T170310Z
LAST-MODIFIED:20211029T170654Z
UID:4130-1637002800-1637008200@www.caccautosport.org
SUMMARY:CACC Ice Race Discipline Fall Meeting
DESCRIPTION:
URL:https://www.caccautosport.org/event/ice-race-discipline-fall-meeting-2/
LOCATION:Virtual Meeting
CATEGORIES:Administration
END:VEVENT
BEGIN:VEVENT
DTSTART;TZID=America/Vancouver:20211114T190000
DTEND;TZID=America/Vancouver:20211114T203000
DTSTAMP:20260423T154803
CREATED:20211029T170011Z
LAST-MODIFIED:20211029T170711Z
UID:4125-1636916400-1636921800@www.caccautosport.org
SUMMARY:CACC Karting Discipline Fall Meeting
DESCRIPTION:
URL:https://www.caccautosport.org/event/ice-race-discipline-fall-meeting/
LOCATION:Virtual Meeting
CATEGORIES:Administration
END:VEVENT
END:VCALENDAR