BEGIN:VCALENDAR
VERSION:2.0
PRODID:-//The Confederation of Autosport Car Clubs - ECPv6.15.20//NONSGML v1.0//EN
CALSCALE:GREGORIAN
METHOD:PUBLISH
X-ORIGINAL-URL:https://www.caccautosport.org
X-WR-CALDESC:Events for The Confederation of Autosport Car Clubs
REFRESH-INTERVAL;VALUE=DURATION:PT1H
X-Robots-Tag:noindex
X-PUBLISHED-TTL:PT1H
BEGIN:VTIMEZONE
TZID:America/Vancouver
BEGIN:DAYLIGHT
TZOFFSETFROM:-0800
TZOFFSETTO:-0700
TZNAME:PDT
DTSTART:20230312T100000
END:DAYLIGHT
BEGIN:STANDARD
TZOFFSETFROM:-0700
TZOFFSETTO:-0800
TZNAME:PST
DTSTART:20231105T090000
END:STANDARD
BEGIN:DAYLIGHT
TZOFFSETFROM:-0800
TZOFFSETTO:-0700
TZNAME:PDT
DTSTART:20240310T100000
END:DAYLIGHT
BEGIN:STANDARD
TZOFFSETFROM:-0700
TZOFFSETTO:-0800
TZNAME:PST
DTSTART:20241103T090000
END:STANDARD
BEGIN:DAYLIGHT
TZOFFSETFROM:-0800
TZOFFSETTO:-0700
TZNAME:PDT
DTSTART:20250309T100000
END:DAYLIGHT
BEGIN:STANDARD
TZOFFSETFROM:-0700
TZOFFSETTO:-0800
TZNAME:PST
DTSTART:20251102T090000
END:STANDARD
END:VTIMEZONE
BEGIN:VEVENT
DTSTART;TZID=America/Vancouver:20240305T190000
DTEND;TZID=America/Vancouver:20240305T200000
DTSTAMP:20260425T033605
CREATED:20240208T174949Z
LAST-MODIFIED:20240209T170317Z
UID:8628-1709665200-1709668800@www.caccautosport.org
SUMMARY:CACC Autoslalom Discipline Spring Meeting
DESCRIPTION:Join Zoom Meeting\nhttps://us06web.zoom.us/j/83441382903\nMeeting ID: 834 4138 2903\n—\nOne tap mobile\n+16473744685\,\,83441382903# Canada\n+16475580588\,\,83441382903# Canada\n—\nDial by your location\n• +1 647 374 4685 Canada\n• +1 647 558 0588 Canada\n• +1 778 907 2071 Canada\n• +1 780 666 0144 Canada\n• +1 204 272 7920 Canada\n• +1 438 809 7799 Canada\n• +1 587 328 1099 Canada\nMeeting ID: 834 4138 2903\nFind your local number: https://us06web.zoom.us/u/kdYS82a8L5 \nWhen\nTuesday Mar 5\, 2024 ⋅ 7pm – 7:30pm (Pacific Time – Vancouver)\nLocation\nhttps://us06web.zoom.us/j/83441382903
URL:https://www.caccautosport.org/event/cacc-autoslalom-spring-discipline-meeting/
LOCATION:Virtual Meeting
CATEGORIES:Auto Slalom,Autocross,Discipline Meeting
END:VEVENT
BEGIN:VEVENT
DTSTART;VALUE=DATE:20240317
DTEND;VALUE=DATE:20240318
DTSTAMP:20260425T033605
CREATED:20240121T185724Z
LAST-MODIFIED:20240121T185746Z
UID:8598-1710633600-1710719999@www.caccautosport.org
SUMMARY:VMSC Autoslalom at VIMC
DESCRIPTION:VMSC Proposed Schedule\n2024 Autoslalom at VIMC\nApplicable to all Autoslalom events at Vancouver Island Motorsport Circuit for 2024\nVenue:\nVancouver Island Motorsports Circuit (VIMC)\n4063 Cowichan Valley Hwy\, Duncan\, BC V9L 6K4\nEvent Schedule:\n0930 Gates Open for Registration and Tech\n0940 Course open for walking\n1030 Novice Briefing\n1040 Drivers Meeting\n1100 First run group on track\n1500 Last group off track – Actual time may vary.\nRun Groups/Work Assignments:\nEntrants will be assigned a run group and a work assignment at registration.
URL:https://www.caccautosport.org/event/vmsc-autoslalom-at-vimc-8/
LOCATION:Vancouver Island Motorsport Circuit\, 4063 Cowichan Valley Hwy\, Lake Cowichan\, BC\, V9L 6K4\, Canada
CATEGORIES:Auto Slalom,Autocross
END:VEVENT
END:VCALENDAR