BEGIN:VCALENDAR
VERSION:2.0
PRODID:-//The Confederation of Autosport Car Clubs - ECPv6.15.20//NONSGML v1.0//EN
CALSCALE:GREGORIAN
METHOD:PUBLISH
X-ORIGINAL-URL:https://www.caccautosport.org
X-WR-CALDESC:Events for The Confederation of Autosport Car Clubs
REFRESH-INTERVAL;VALUE=DURATION:PT1H
X-Robots-Tag:noindex
X-PUBLISHED-TTL:PT1H
BEGIN:VTIMEZONE
TZID:America/Vancouver
BEGIN:DAYLIGHT
TZOFFSETFROM:-0800
TZOFFSETTO:-0700
TZNAME:PDT
DTSTART:20230312T100000
END:DAYLIGHT
BEGIN:STANDARD
TZOFFSETFROM:-0700
TZOFFSETTO:-0800
TZNAME:PST
DTSTART:20231105T090000
END:STANDARD
BEGIN:DAYLIGHT
TZOFFSETFROM:-0800
TZOFFSETTO:-0700
TZNAME:PDT
DTSTART:20240310T100000
END:DAYLIGHT
BEGIN:STANDARD
TZOFFSETFROM:-0700
TZOFFSETTO:-0800
TZNAME:PST
DTSTART:20241103T090000
END:STANDARD
BEGIN:DAYLIGHT
TZOFFSETFROM:-0800
TZOFFSETTO:-0700
TZNAME:PDT
DTSTART:20250309T100000
END:DAYLIGHT
BEGIN:STANDARD
TZOFFSETFROM:-0700
TZOFFSETTO:-0800
TZNAME:PST
DTSTART:20251102T090000
END:STANDARD
END:VTIMEZONE
BEGIN:VEVENT
DTSTART;VALUE=DATE:20240407
DTEND;VALUE=DATE:20240408
DTSTAMP:20260425T033505
CREATED:20240121T185639Z
LAST-MODIFIED:20240121T185810Z
UID:8596-1712448000-1712534399@www.caccautosport.org
SUMMARY:VMSC Autoslalom at VIMC
DESCRIPTION:VMSC Proposed Schedule\n2024 Autoslalom at VIMC\nApplicable to all Autoslalom events at Vancouver Island Motorsport Circuit for 2024\nVenue:\nVancouver Island Motorsports Circuit (VIMC)\n4063 Cowichan Valley Hwy\, Duncan\, BC V9L 6K4\nEvent Schedule:\n0930 Gates Open for Registration and Tech\n0940 Course open for walking\n1030 Novice Briefing\n1040 Drivers Meeting\n1100 First run group on track\n1500 Last group off track – Actual time may vary.\nRun Groups/Work Assignments:\nEntrants will be assigned a run group and a work assignment at registration.
URL:https://www.caccautosport.org/event/vmsc-autoslalom-at-vimc-7/
LOCATION:Vancouver Island Motorsport Circuit\, 4063 Cowichan Valley Hwy\, Lake Cowichan\, BC\, V9L 6K4\, Canada
CATEGORIES:Auto Slalom,Autocross
END:VEVENT
BEGIN:VEVENT
DTSTART;TZID=America/Vancouver:20240413T073000
DTEND;TZID=America/Vancouver:20240413T150000
DTSTAMP:20260425T033505
CREATED:20240317T170506Z
LAST-MODIFIED:20240419T164008Z
UID:8708-1712993400-1713020400@www.caccautosport.org
SUMMARY:OPDA Okanagan Autocross - Vernon
DESCRIPTION:
URL:https://www.caccautosport.org/event/opda-okanagan-autocross-10/
LOCATION:Kal Tire Place\, 3445 43rd Avenue\, Vernon\, BC\, Canada
CATEGORIES:Auto Slalom,Autocross
ORGANIZER;CN="Okanagan Precision Driving Association":MAILTO:web@okanaganautocross.net
END:VEVENT
BEGIN:VEVENT
DTSTART;TZID=America/Vancouver:20240414T080000
DTEND;TZID=America/Vancouver:20240414T170000
DTSTAMP:20260425T033505
CREATED:20240405T233006Z
LAST-MODIFIED:20240405T233006Z
UID:8780-1713081600-1713114000@www.caccautosport.org
SUMMARY:VCMC Autoslalom
DESCRIPTION:VCMC 2024 Autoslalom Event Schedule\nThis event schedule plan applies to all autoslalom events in VCMC’s 2024 season.\n7:30 AM Gates are open as well as Tech and Registration\n8:30 AM Tech and Registration Close\n8:45 AM Senior Driver lead novice course walk\n9:00 AM Drivers meeting\n9:30 AM First car\n5:00 PM Final Car\, Driver’s closing meeting
URL:https://www.caccautosport.org/event/vcmc-autoslalom-4/
LOCATION:Mission Raceway Park – Kart Track\, 32670 Dyke Road\, Mission\, BC\, Canada
CATEGORIES:Auto Slalom,Autocross
END:VEVENT
BEGIN:VEVENT
DTSTART;TZID=America/Vancouver:20240419T080000
DTEND;TZID=America/Vancouver:20240419T170000
DTSTAMP:20260425T033505
CREATED:20240317T171038Z
LAST-MODIFIED:20240419T163937Z
UID:8718-1713513600-1713546000@www.caccautosport.org
SUMMARY:OPDA Okanagan Autocross - Kelowna
DESCRIPTION:
URL:https://www.caccautosport.org/event/opda-okanagan-autocross-15/
LOCATION:Okanagan College West Lot\, 1000 K.L.O Road\, Kelowna\, BC\, Canada
CATEGORIES:Auto Slalom,Autocross
ORGANIZER;CN="Okanagan Precision Driving Association":MAILTO:web@okanaganautocross.net
END:VEVENT
BEGIN:VEVENT
DTSTART;TZID=America/Vancouver:20240420T080000
DTEND;TZID=America/Vancouver:20240420T170000
DTSTAMP:20260425T033505
CREATED:20240309T160250Z
LAST-MODIFIED:20240309T160250Z
UID:8689-1713600000-1713632400@www.caccautosport.org
SUMMARY:OPDA Okanagan Autocross - Introduction to Autocross
DESCRIPTION:
URL:https://www.caccautosport.org/event/opda-okanagan-autocross-introduction-to-autocross/
LOCATION:Okanagan College West Lot\, 1000 K.L.O Road\, Kelowna\, BC\, Canada
CATEGORIES:Auto Slalom,Autocross,Autoslalom Driver Training
ORGANIZER;CN="Okanagan Precision Driving Association":MAILTO:web@okanaganautocross.net
END:VEVENT
BEGIN:VEVENT
DTSTART;TZID=America/Vancouver:20240426T163000
DTEND;TZID=America/Vancouver:20240426T203000
DTSTAMP:20260425T033505
CREATED:20240317T171114Z
LAST-MODIFIED:20240419T163921Z
UID:8720-1714149000-1714163400@www.caccautosport.org
SUMMARY:OPDA Okanagan Autocross - Kelowna
DESCRIPTION:
URL:https://www.caccautosport.org/event/opda-okanagan-autocross-16/
LOCATION:Okanagan College West Lot\, 1000 K.L.O Road\, Kelowna\, BC\, Canada
CATEGORIES:Auto Slalom,Autocross
ORGANIZER;CN="Okanagan Precision Driving Association":MAILTO:web@okanaganautocross.net
END:VEVENT
END:VCALENDAR