BEGIN:VCALENDAR
VERSION:2.0
PRODID:-//The Confederation of Autosport Car Clubs - ECPv6.15.20//NONSGML v1.0//EN
CALSCALE:GREGORIAN
METHOD:PUBLISH
X-WR-CALNAME:The Confederation of Autosport Car Clubs
X-ORIGINAL-URL:https://www.caccautosport.org
X-WR-CALDESC:Events for The Confederation of Autosport Car Clubs
REFRESH-INTERVAL;VALUE=DURATION:PT1H
X-Robots-Tag:noindex
X-PUBLISHED-TTL:PT1H
BEGIN:VTIMEZONE
TZID:America/Vancouver
BEGIN:DAYLIGHT
TZOFFSETFROM:-0800
TZOFFSETTO:-0700
TZNAME:PDT
DTSTART:20240310T100000
END:DAYLIGHT
BEGIN:STANDARD
TZOFFSETFROM:-0700
TZOFFSETTO:-0800
TZNAME:PST
DTSTART:20241103T090000
END:STANDARD
BEGIN:DAYLIGHT
TZOFFSETFROM:-0800
TZOFFSETTO:-0700
TZNAME:PDT
DTSTART:20250309T100000
END:DAYLIGHT
BEGIN:STANDARD
TZOFFSETFROM:-0700
TZOFFSETTO:-0800
TZNAME:PST
DTSTART:20251102T090000
END:STANDARD
BEGIN:DAYLIGHT
TZOFFSETFROM:-0800
TZOFFSETTO:-0700
TZNAME:PDT
DTSTART:20260308T100000
END:DAYLIGHT
BEGIN:STANDARD
TZOFFSETFROM:-0700
TZOFFSETTO:-0800
TZNAME:PST
DTSTART:20261101T090000
END:STANDARD
END:VTIMEZONE
BEGIN:VEVENT
DTSTART;TZID=America/Vancouver:20250704T163000
DTEND;TZID=America/Vancouver:20250704T210000
DTSTAMP:20260424T051554
CREATED:20250324T192139Z
LAST-MODIFIED:20250324T192601Z
UID:9229-1751646600-1751662800@www.caccautosport.org
SUMMARY:OPDA Okanagan Autocross - Kelowna
DESCRIPTION:Autocross\, also known as autoslalom or solo\, is an inexpensive form of motorsport petition that uses traffic cones in a paved lot to produce a small road course for competitive events. Participants compete to see who can make it through the course the quickest and without dislocating cones or going off course. Two seconds are added to the driver’s time with each cone violation. Leaving the defined course path results in a disqualification of your time for that run. \nAutocross is considered one of the safest forms of motorsport because competitors are racing against the clock rather than against other cars. Vehicles are launched once the previous competitor has completed the course or at sufficient intervals that no interaction will occur. Autocross events test driver skill and car handling rather than all out speed and aggression. \nAutocross events may not achieve the breakneck speeds of road races\, but it’s one of the most challenging and intense forms of motorsport in which you can participate. With low barriers to entry\, almost anyone with a valid driver’s license\, a car and the desire for motorsport competition can join the fun.
URL:https://www.caccautosport.org/event/opda-okanagan-autocross-autoslalom/
LOCATION:Okanagan College West Lot\, 1000 K.L.O Road\, Kelowna\, BC\, Canada
CATEGORIES:Auto Slalom,Autocross
ORGANIZER;CN="Okanagan Precision Driving Association":MAILTO:web@okanaganautocross.net
END:VEVENT
BEGIN:VEVENT
DTSTART;TZID=America/Vancouver:20250718T163000
DTEND;TZID=America/Vancouver:20250718T203000
DTSTAMP:20260424T051554
CREATED:20250604T162004Z
LAST-MODIFIED:20250604T162110Z
UID:9381-1752856200-1752870600@www.caccautosport.org
SUMMARY:OPDA Okanagan Autocross - Kelowna
DESCRIPTION:This Okanagan Autocross event is being held at Okanagan College\, west parking lot\, 1000 K.L.O. Road in Kelowna\, BC. \n3:30 PM – Setup begins\n4:30 PM – Onsite check-in\n5:00 PM – Course walk\n5:45 PM – Driver’s meeting\n6:00 PM – Competition begins \nAll competitors must check-in at the registration table on arrival and complete the course walk in order to participate in the event. \nParticipants must be familiar with the OPDA Okanagan Autoslalom Supplementary Regulations and the CACC Autoslalom Regulations. \nPlease remember that an approved helmet is required\, and that no open-toed shoes are allowed. Also note that\, competitors are required to submit a completed technical self-declaration form to the technical inspector once annually for each vehicle used in an Okanagan Autocross event. \nThe Okanagan Precision Driving Association reserves the right to retain all or partial payment for cancellations less than 48 hours before the event. Failing to appear (no-show) will result in a full forfeit of the event fee. If you wish to cancel your event registration\, please visit the event dashboard and choose “Cancel registration”.
URL:https://www.caccautosport.org/event/opda-autocross-kelowna-3/
LOCATION:Okanagan College West Lot\, 1000 K.L.O Road\, Kelowna\, BC\, Canada
CATEGORIES:Auto Slalom,Autoslalom - Restricted
ORGANIZER;CN="Okanagan Precision Driving Association":MAILTO:web@okanaganautocross.net
END:VEVENT
BEGIN:VEVENT
DTSTART;VALUE=DATE:20250719
DTEND;VALUE=DATE:20250721
DTSTAMP:20260424T051554
CREATED:20250414T200347Z
LAST-MODIFIED:20250414T200347Z
UID:9307-1752883200-1753055999@www.caccautosport.org
SUMMARY:PRMA Autoslalom
DESCRIPTION:
URL:https://www.caccautosport.org/event/prma-autoslalom-12/
LOCATION:Quesnel Caribou Raceway Park\, 785 Oval Rd\, Quesnel\, BC\, V2J4R6\, Canada
CATEGORIES:Auto Slalom,Autocross
END:VEVENT
BEGIN:VEVENT
DTSTART;TZID=America/Vancouver:20250726T080000
DTEND;TZID=America/Vancouver:20250726T170000
DTSTAMP:20260424T051554
CREATED:20250507T183150Z
LAST-MODIFIED:20250707T203110Z
UID:9343-1753516800-1753549200@www.caccautosport.org
SUMMARY:KGAA Autoslalom/Autocross - CANCELLED
DESCRIPTION:🏁 Autocross Event Schedule\nLocation: WFP Cranbrook\nStart Time: 8:00 AM\nEnd Time: 5:00 PM \n📋 Schedule:\n6:30 AM – 8:00 AM \n\nCourse Setup & Tech Inspection\n(Volunteers and course designers finalize setup\, open tech inspection for early arrivals.)\n\n7:30 AM – 8:00 AM \n\nRegistration Check-In Open\n(Get spots\, sign waivers\, confirm run groups.)\n\n8:00 AM – 8:15 AM \n\nDriver’s Meeting\n(Mandatory. Go over safety\, schedule\, and run group assignments.)\n\n🏎 Morning Session:\n8:30 AM – 10:30 AM \n\nHeat A – Morning Runs\n(Heat A drivers run\, Heat B drivers work.)\n\n10:30 AM – 12:30 PM \n\nHeat B – Morning Runs\n(Heat B drivers run\, Heat A drivers work.)\n\n🍔 Lunch Break:\n12:30 PM – 1:15 PM \n\nLunch Break\n(Food trucks\, bring-your-own\, or relax.)\n\n🏎 Afternoon Session:\n1:15 PM – 3:15 PM \n\nHeat A – Afternoon Runs\n(Heat A drivers run\, Heat B drivers work.)\n\n3:15 PM – 5:00 PM \n\nHeat B – Afternoon Runs\n(Heat B drivers run\, Heat A drivers work.)\n\n🛠️ Event Wrap-Up:\n5:00 PM – 5:30 PM \n\nCourse Takedown & Cleanup\n(All hands on deck\, many hands make light work!)\n\nNotes:\n\nBe at the driver’s meeting to participate.\nWorkers must check in before their assigned heats.\nRespect all event staff and fellow participants.\n\nLet’s have fun and stay safe!
URL:https://www.caccautosport.org/event/kgaa-autoslalom-autocross-2/
LOCATION:Western Financial Place\, 1777 2nd St N\, Cranbrook\, V1C 7G9\, Canada
CATEGORIES:Auto Slalom,Autocross
END:VEVENT
END:VCALENDAR