BEGIN:VCALENDAR
VERSION:2.0
PRODID:-//The Confederation of Autosport Car Clubs - ECPv6.15.20//NONSGML v1.0//EN
CALSCALE:GREGORIAN
METHOD:PUBLISH
X-ORIGINAL-URL:https://www.caccautosport.org
X-WR-CALDESC:Events for The Confederation of Autosport Car Clubs
REFRESH-INTERVAL;VALUE=DURATION:PT1H
X-Robots-Tag:noindex
X-PUBLISHED-TTL:PT1H
BEGIN:VTIMEZONE
TZID:America/Vancouver
BEGIN:DAYLIGHT
TZOFFSETFROM:-0800
TZOFFSETTO:-0700
TZNAME:PDT
DTSTART:20240310T100000
END:DAYLIGHT
BEGIN:STANDARD
TZOFFSETFROM:-0700
TZOFFSETTO:-0800
TZNAME:PST
DTSTART:20241103T090000
END:STANDARD
BEGIN:DAYLIGHT
TZOFFSETFROM:-0800
TZOFFSETTO:-0700
TZNAME:PDT
DTSTART:20250309T100000
END:DAYLIGHT
BEGIN:STANDARD
TZOFFSETFROM:-0700
TZOFFSETTO:-0800
TZNAME:PST
DTSTART:20251102T090000
END:STANDARD
BEGIN:DAYLIGHT
TZOFFSETFROM:-0800
TZOFFSETTO:-0700
TZNAME:PDT
DTSTART:20260308T100000
END:DAYLIGHT
BEGIN:STANDARD
TZOFFSETFROM:-0700
TZOFFSETTO:-0800
TZNAME:PST
DTSTART:20261101T090000
END:STANDARD
END:VTIMEZONE
BEGIN:VEVENT
DTSTART;VALUE=DATE:20250802
DTEND;VALUE=DATE:20250804
DTSTAMP:20260424T013920
CREATED:20250619T195228Z
LAST-MODIFIED:20250619T195240Z
UID:9412-1754092800-1754265599@www.caccautosport.org
SUMMARY:VCMC Autoslalom - Open
DESCRIPTION:The Event – Cup 3/4 (Saturday/Sunday) VCMC is excited to bring you another AutoX event in Merritt\, BC\, at the Airport. This event will be a double header (Saturday and Sunday) you will need to register for both Cup 3 and Cup 4 for access to both days. The facility offers a large apron and a full runway that can be used for the event surface. For people who want to participate both days\, the Saturday event starts later to allow time for the drive to Merritt in the morning. This helps to save on hotel costs. \nOnsite Camping\nThere is camping space onsite for tents and some RVs on Friday and Saturday nights. Access to the site will be provided starting at 5pm on Friday.
URL:https://www.caccautosport.org/event/vcmc-autoslalom-open/
LOCATION:Merritt Regional Airport\, 4510 Airport Rd\, Merritt\, BC\, V1K 1M5\, Canada
CATEGORIES:Auto Slalom,Autocross
END:VEVENT
BEGIN:VEVENT
DTSTART;VALUE=DATE:20250803
DTEND;VALUE=DATE:20250804
DTSTAMP:20260424T013920
CREATED:20250414T195517Z
LAST-MODIFIED:20250414T195517Z
UID:9299-1754179200-1754265599@www.caccautosport.org
SUMMARY:PRMA Autoslalom
DESCRIPTION:Join us for our famous Taylor\, BC Chain-up Auto-X Event! Event runs from 9am-6pm with Drivers meeting at 9AM Sharp.\nDrivers will be classed based on tire tread wear 200 and under is Comp Class\, 201 and up is Street Class. NEW for this\nyear we will be using a bigger split to improve competition. Street Class will be broken down into 2WD and 4WD\nclasses\, as will Comp Class. there will also be a class for beginners new to the sport.\nSNELL 2015 Helmet is the minimum.\nDrivers and Passengers MUST attend the drivers meeting held at 9am sharp or face a 20$ penalty.\nAll Participants must sign a waiver\, located on site and pay 60$ as a driver.\nDrivers may share a vehicle\, maximum of 2 drivers per vehicle.\nAll Vehicles must pass a thorough SELF TECHNICAL DELCLARATION available to complete on site via QR code. Please\nensure you have a way to complete this required forms\, no tablets etc. are provided.\nTrack will be active from 930-12 with a 45 min break for lunch\, the resuming until 4PM when recreational runs will\nbegin for 1 hour\, followed by track takedown 5-6pm.\nIf you have any questions\, please reach out to Ryan Mucci @ 250-261-1710.
URL:https://www.caccautosport.org/event/prma-autoslalom-9/
LOCATION:Taylor Chain-up\, Taylor Hill\, Taylor\, BC\, Canada
CATEGORIES:Auto Slalom,Autocross
END:VEVENT
BEGIN:VEVENT
DTSTART;TZID=America/Vancouver:20250810T073000
DTEND;TZID=America/Vancouver:20250810T153000
DTSTAMP:20260424T013920
CREATED:20250324T193432Z
LAST-MODIFIED:20250324T193432Z
UID:9249-1754811000-1754839800@www.caccautosport.org
SUMMARY:OPDA Okanagan Autocross - Vernon
DESCRIPTION:
URL:https://www.caccautosport.org/event/opda-okanagan-autocross-vernon-9/
LOCATION:Kal Tire Place\, 3445 43rd Avenue\, Vernon\, BC\, Canada
CATEGORIES:Auto Slalom,Autocross,Autoslalom
ORGANIZER;CN="Okanagan Precision Driving Association":MAILTO:web@okanaganautocross.net
END:VEVENT
BEGIN:VEVENT
DTSTART;TZID=America/Vancouver:20250817T073000
DTEND;TZID=America/Vancouver:20250817T153000
DTSTAMP:20260424T013920
CREATED:20250324T193406Z
LAST-MODIFIED:20250324T193406Z
UID:9250-1755415800-1755444600@www.caccautosport.org
SUMMARY:OPDA Okanagan Autocross - Vernon
DESCRIPTION:
URL:https://www.caccautosport.org/event/opda-okanagan-autocross-vernon-8/
LOCATION:Kal Tire Place\, 3445 43rd Avenue\, Vernon\, BC\, Canada
CATEGORIES:Auto Slalom,Autocross,Autoslalom
ORGANIZER;CN="Okanagan Precision Driving Association":MAILTO:web@okanaganautocross.net
END:VEVENT
BEGIN:VEVENT
DTSTART;TZID=America/Vancouver:20250824T073000
DTEND;TZID=America/Vancouver:20250824T153000
DTSTAMP:20260424T013920
CREATED:20250324T193334Z
LAST-MODIFIED:20250324T193334Z
UID:9251-1756020600-1756049400@www.caccautosport.org
SUMMARY:OPDA Okanagan Autocross - Vernon
DESCRIPTION:
URL:https://www.caccautosport.org/event/opda-okanagan-autocross-vernon-7/
LOCATION:Kal Tire Place\, 3445 43rd Avenue\, Vernon\, BC\, Canada
CATEGORIES:Auto Slalom,Autocross,Autoslalom
ORGANIZER;CN="Okanagan Precision Driving Association":MAILTO:web@okanaganautocross.net
END:VEVENT
BEGIN:VEVENT
DTSTART;VALUE=DATE:20250831
DTEND;VALUE=DATE:20250901
DTSTAMP:20260424T013920
CREATED:20250414T195557Z
LAST-MODIFIED:20250414T195557Z
UID:9301-1756598400-1756684799@www.caccautosport.org
SUMMARY:PRMA Autoslalom
DESCRIPTION:Join us for our famous Taylor\, BC Chain-up Auto-X Event! Event runs from 9am-6pm with Drivers meeting at 9AM Sharp.\nDrivers will be classed based on tire tread wear 200 and under is Comp Class\, 201 and up is Street Class. NEW for this\nyear we will be using a bigger split to improve competition. Street Class will be broken down into 2WD and 4WD\nclasses\, as will Comp Class. there will also be a class for beginners new to the sport.\nSNELL 2015 Helmet is the minimum.\nDrivers and Passengers MUST attend the drivers meeting held at 9am sharp or face a 20$ penalty.\nAll Participants must sign a waiver\, located on site and pay 60$ as a driver.\nDrivers may share a vehicle\, maximum of 2 drivers per vehicle.\nAll Vehicles must pass a thorough SELF TECHNICAL DELCLARATION available to complete on site via QR code. Please\nensure you have a way to complete this required forms\, no tablets etc. are provided.\nTrack will be active from 930-12 with a 45 min break for lunch\, the resuming until 4PM when recreational runs will\nbegin for 1 hour\, followed by track takedown 5-6pm.\nIf you have any questions\, please reach out to Ryan Mucci @ 250-261-1710.
URL:https://www.caccautosport.org/event/prma-autoslalom-10/
LOCATION:Taylor Chain-up\, Taylor Hill\, Taylor\, BC\, Canada
CATEGORIES:Auto Slalom,Autocross
END:VEVENT
END:VCALENDAR