BEGIN:VCALENDAR
VERSION:2.0
PRODID:-//The Confederation of Autosport Car Clubs - ECPv6.15.20//NONSGML v1.0//EN
CALSCALE:GREGORIAN
METHOD:PUBLISH
X-WR-CALNAME:The Confederation of Autosport Car Clubs
X-ORIGINAL-URL:https://www.caccautosport.org
X-WR-CALDESC:Events for The Confederation of Autosport Car Clubs
REFRESH-INTERVAL;VALUE=DURATION:PT1H
X-Robots-Tag:noindex
X-PUBLISHED-TTL:PT1H
BEGIN:VTIMEZONE
TZID:America/Vancouver
BEGIN:DAYLIGHT
TZOFFSETFROM:-0800
TZOFFSETTO:-0700
TZNAME:PDT
DTSTART:20240310T100000
END:DAYLIGHT
BEGIN:STANDARD
TZOFFSETFROM:-0700
TZOFFSETTO:-0800
TZNAME:PST
DTSTART:20241103T090000
END:STANDARD
BEGIN:DAYLIGHT
TZOFFSETFROM:-0800
TZOFFSETTO:-0700
TZNAME:PDT
DTSTART:20250309T100000
END:DAYLIGHT
BEGIN:STANDARD
TZOFFSETFROM:-0700
TZOFFSETTO:-0800
TZNAME:PST
DTSTART:20251102T090000
END:STANDARD
BEGIN:DAYLIGHT
TZOFFSETFROM:-0800
TZOFFSETTO:-0700
TZNAME:PDT
DTSTART:20260308T100000
END:DAYLIGHT
BEGIN:STANDARD
TZOFFSETFROM:-0700
TZOFFSETTO:-0800
TZNAME:PST
DTSTART:20261101T090000
END:STANDARD
END:VTIMEZONE
BEGIN:VEVENT
DTSTART;VALUE=DATE:20250913
DTEND;VALUE=DATE:20250915
DTSTAMP:20260423T220122
CREATED:20250809T141009Z
LAST-MODIFIED:20250809T141009Z
UID:9424-1757721600-1757894399@www.caccautosport.org
SUMMARY:Canadian National Autoslalom Championship
DESCRIPTION:
URL:https://www.caccautosport.org/event/canadian-national-autoslalom-championship/
LOCATION:Merritt Regional Airport\, 4510 Airport Rd\, Merritt\, BC\, V1K 1M5\, Canada
CATEGORIES:Auto Slalom,Autocross
END:VEVENT
BEGIN:VEVENT
DTSTART;VALUE=DATE:20250928
DTEND;VALUE=DATE:20250929
DTSTAMP:20260423T220122
CREATED:20250324T193256Z
LAST-MODIFIED:20250618T160539Z
UID:9252-1759017600-1759103999@www.caccautosport.org
SUMMARY:OPDA Okanagan Autocross - Kelowna - Sunday
DESCRIPTION:
URL:https://www.caccautosport.org/event/opda-okanagan-autocross-2-day-vernon-eliminator/
LOCATION:Okanagan College West Lot\, 1000 K.L.O Road\, Kelowna\, BC\, Canada
CATEGORIES:Auto Slalom,Autocross
ORGANIZER;CN="Okanagan Precision Driving Association":MAILTO:web@okanaganautocross.net
END:VEVENT
BEGIN:VEVENT
DTSTART;VALUE=DATE:20250928
DTEND;VALUE=DATE:20250929
DTSTAMP:20260423T220122
CREATED:20250820T153612Z
LAST-MODIFIED:20250820T153612Z
UID:9429-1759017600-1759103999@www.caccautosport.org
SUMMARY:VMSC Autoslalom
DESCRIPTION:
URL:https://www.caccautosport.org/event/vmsc-autoslalom-11/
LOCATION:Vancouver Island Motorsport Circuit\, 4063 Cowichan Valley Hwy\, Lake Cowichan\, BC\, V9L 6K4\, Canada
CATEGORIES:Auto Slalom,Autoslalom - Restricted
END:VEVENT
END:VCALENDAR