BEGIN:VCALENDAR
VERSION:2.0
PRODID:-//The Confederation of Autosport Car Clubs - ECPv6.15.20//NONSGML v1.0//EN
CALSCALE:GREGORIAN
METHOD:PUBLISH
X-ORIGINAL-URL:https://www.caccautosport.org
X-WR-CALDESC:Events for The Confederation of Autosport Car Clubs
REFRESH-INTERVAL;VALUE=DURATION:PT1H
X-Robots-Tag:noindex
X-PUBLISHED-TTL:PT1H
BEGIN:VTIMEZONE
TZID:America/Vancouver
BEGIN:DAYLIGHT
TZOFFSETFROM:-0800
TZOFFSETTO:-0700
TZNAME:PDT
DTSTART:20210314T100000
END:DAYLIGHT
BEGIN:STANDARD
TZOFFSETFROM:-0700
TZOFFSETTO:-0800
TZNAME:PST
DTSTART:20211107T090000
END:STANDARD
BEGIN:DAYLIGHT
TZOFFSETFROM:-0800
TZOFFSETTO:-0700
TZNAME:PDT
DTSTART:20220313T100000
END:DAYLIGHT
BEGIN:STANDARD
TZOFFSETFROM:-0700
TZOFFSETTO:-0800
TZNAME:PST
DTSTART:20221106T090000
END:STANDARD
BEGIN:DAYLIGHT
TZOFFSETFROM:-0800
TZOFFSETTO:-0700
TZNAME:PDT
DTSTART:20230312T100000
END:DAYLIGHT
BEGIN:STANDARD
TZOFFSETFROM:-0700
TZOFFSETTO:-0800
TZNAME:PST
DTSTART:20231105T090000
END:STANDARD
BEGIN:DAYLIGHT
TZOFFSETFROM:-0800
TZOFFSETTO:-0700
TZNAME:PDT
DTSTART:20240310T100000
END:DAYLIGHT
BEGIN:STANDARD
TZOFFSETFROM:-0700
TZOFFSETTO:-0800
TZNAME:PST
DTSTART:20241103T090000
END:STANDARD
BEGIN:DAYLIGHT
TZOFFSETFROM:-0800
TZOFFSETTO:-0700
TZNAME:PDT
DTSTART:20250309T100000
END:DAYLIGHT
BEGIN:STANDARD
TZOFFSETFROM:-0700
TZOFFSETTO:-0800
TZNAME:PST
DTSTART:20251102T090000
END:STANDARD
BEGIN:DAYLIGHT
TZOFFSETFROM:-0800
TZOFFSETTO:-0700
TZNAME:PDT
DTSTART:20260308T100000
END:DAYLIGHT
BEGIN:STANDARD
TZOFFSETFROM:-0700
TZOFFSETTO:-0800
TZNAME:PST
DTSTART:20261101T090000
END:STANDARD
END:VTIMEZONE
BEGIN:VEVENT
DTSTART;TZID=America/Vancouver:20250503T083000
DTEND;TZID=America/Vancouver:20250503T160000
DTSTAMP:20260423T134933
CREATED:20250324T191414Z
LAST-MODIFIED:20250324T192724Z
UID:9219-1746261000-1746288000@www.caccautosport.org
SUMMARY:OPDA Okanagan Autocross Driver Training - Kelowna
DESCRIPTION:The Okanagan Precision Driving Association (OPDA) is pleased to announce its second annual Introduction to Autocross driver training program scheduled for Saturday\, April 19\, 2025. \nThe goal of our Introduction to Autocross day is to introduce beginners to the fun and exciting sport of Autocross. Sorry\, experienced Autocrossers will not be accepted.  \nThis is a full day of Autocross driver training beginning with classroom instruction\, followed by graduated in-car\, on-course training and culminating in Autocross mini-competition. \nFor 2025\, entrants will receive a free 2025 membership in the Okanagan Precision Driving Association. An OPDA membership\, normally costing $50\, entitles members to register and compete in any 2025 Okanagan Autocross event. \nThe event is open to all age groups and no experience is required. Participants must hold a valid driver’s license and provide their own car or arrange to share a car with another participant. A certified helmet is required but one will be provided if not available (supplies are limited). \nOur aim is to provide each student with individual instruction from seasoned Autocross competitors. Accordingly\, attendance will be capped at 20 students in order to provide a high instructor to student ratio.  \nStudents can familiarize themselves with the basics of Autocross by viewing this introductory video prior to the event.
URL:https://www.caccautosport.org/event/opda-autocross-driver-training-open/
LOCATION:Okanagan College West Lot\, 1000 K.L.O Road\, Kelowna\, BC\, Canada
CATEGORIES:Auto Slalom,Autocross,Autoslalom Driver Training
ORGANIZER;CN="Okanagan Precision Driving Association":MAILTO:web@okanaganautocross.net
END:VEVENT
BEGIN:VEVENT
DTSTART;TZID=America/Vancouver:20240420T080000
DTEND;TZID=America/Vancouver:20240420T170000
DTSTAMP:20260423T134933
CREATED:20240309T160250Z
LAST-MODIFIED:20240309T160250Z
UID:8689-1713600000-1713632400@www.caccautosport.org
SUMMARY:OPDA Okanagan Autocross - Introduction to Autocross
DESCRIPTION:
URL:https://www.caccautosport.org/event/opda-okanagan-autocross-introduction-to-autocross/
LOCATION:Okanagan College West Lot\, 1000 K.L.O Road\, Kelowna\, BC\, Canada
CATEGORIES:Auto Slalom,Autocross,Autoslalom Driver Training
ORGANIZER;CN="Okanagan Precision Driving Association":MAILTO:web@okanaganautocross.net
END:VEVENT
BEGIN:VEVENT
DTSTART;TZID=America/Vancouver:20230930T070000
DTEND;TZID=America/Vancouver:20230930T170000
DTSTAMP:20260423T134933
CREATED:20230901T162301Z
LAST-MODIFIED:20230901T162301Z
UID:8135-1696057200-1696093200@www.caccautosport.org
SUMMARY:VCMC Autoslalom Driver Training
DESCRIPTION:Velocity Driver Training Schedule 2023\n6:30 Gates open\n7:00 Tech / Reg\n7:30 Drivers to the tent\n8:30 Course walks\n9:30 First group\n10:15 Second group\n11:00 first break out\n12:00 Lunch\n1:00 Second break out\n2:00 Third break out\n3:00 Group Two\n3:45 Group one\n4:30 Last wheels turned\n5:00 Wrap up
URL:https://www.caccautosport.org/event/vcmc-autoslalom-driver-training-3/
LOCATION:Adesa Auctions Richmond\, 16179 Blundell Rd\, Richmond\, BC\, V6W 0A3\, Canada
CATEGORIES:Auto Slalom,Autocross,Autoslalom Driver Training
END:VEVENT
BEGIN:VEVENT
DTSTART;TZID=America/Vancouver:20230812T080000
DTEND;TZID=America/Vancouver:20230812T170000
DTSTAMP:20260423T134933
CREATED:20230320T151419Z
LAST-MODIFIED:20230627T000324Z
UID:7256-1691827200-1691859600@www.caccautosport.org
SUMMARY:VCMC Autoslalom Driver Training - CANCELLED
DESCRIPTION:
URL:https://www.caccautosport.org/event/vcmc-autoslalom-driver-training-2/
LOCATION:Mission Raceway Park – Kart Track\, 32670 Dyke Road\, Mission\, BC\, Canada
CATEGORIES:Auto Slalom,Autocross,Autoslalom Driver Training
END:VEVENT
BEGIN:VEVENT
DTSTART;TZID=America/Vancouver:20230513T080000
DTEND;TZID=America/Vancouver:20230513T170000
DTSTAMP:20260423T134933
CREATED:20230320T151327Z
LAST-MODIFIED:20230506T154409Z
UID:7254-1683964800-1683997200@www.caccautosport.org
SUMMARY:VCMC Autoslalom Driver Training - CANCELED
DESCRIPTION:
URL:https://www.caccautosport.org/event/vcmc-autoslalom-driver-training/
LOCATION:Mission Raceway Park – Kart Track\, 32670 Dyke Road\, Mission\, BC\, Canada
CATEGORIES:Auto Slalom,Autocross,Autoslalom Driver Training
END:VEVENT
BEGIN:VEVENT
DTSTART;TZID=America/Vancouver:20230422T080000
DTEND;TZID=America/Vancouver:20230422T160000
DTSTAMP:20260423T134933
CREATED:20230214T001132Z
LAST-MODIFIED:20230214T001132Z
UID:6890-1682150400-1682179200@www.caccautosport.org
SUMMARY:OPDA Introduction to Autocross
DESCRIPTION:The Okanagan Precision Driving Association (OPDA) will be hosting an Introduction to Autocross Day on Saturday\, April 22\, 2023 to introduce beginners to the fun and exciting sport of Autocross. \nThe event is open to all age groups and no experience is necessary. Participants must hold a valid driver’s license and provide their own car or share a car with another participant. A certified helmet is required but one will be provided if not available (supplies are limited). \nAttendance will be limited to between 15 and 20 in order to provide a high instructor to student ratio\, with the goal of giving each student one-on-one instruction by seasoned Autocross competitors\, so register early to get a spot.
URL:https://www.caccautosport.org/event/opda-introduction-to-autocross-2/
LOCATION:Okanagan College West Lot\, 1000 K.L.O Road\, Kelowna\, BC\, Canada
CATEGORIES:Auto Slalom,Autocross,Autoslalom Driver Training
ORGANIZER;CN="Okanagan Precision Driving Association":MAILTO:web@okanaganautocross.net
END:VEVENT
BEGIN:VEVENT
DTSTART;TZID=America/Vancouver:20220424T083000
DTEND;TZID=America/Vancouver:20220424T160000
DTSTAMP:20260423T134933
CREATED:20220407T142621Z
LAST-MODIFIED:20220407T142621Z
UID:4508-1650789000-1650816000@www.caccautosport.org
SUMMARY:OPDA Introduction to Autocross
DESCRIPTION:The event is open to all age groups and no experience is necessary. Participants must hold a valid driver’s license and provide their own car or share a car with another participant. A certified helmet is required but one will be provided if not available (supplies are limited). \nAttendance will be limited to between 15 and 20 in order to provide a high instructor to student ratio\, with the goal of giving each student one-on-one instruction by seasoned Autocross competitors.
URL:https://www.caccautosport.org/event/opda-introduction-to-autocross/
LOCATION:Okanagan College West Lot\, 1000 K.L.O Road\, Kelowna\, BC\, Canada
CATEGORIES:Auto Slalom,Autocross,Autoslalom Driver Training
ORGANIZER;CN="Okanagan Precision Driving Association":MAILTO:web@okanaganautocross.net
END:VEVENT
END:VCALENDAR