BEGIN:VCALENDAR
VERSION:2.0
PRODID:-//The Confederation of Autosport Car Clubs - ECPv6.15.20//NONSGML v1.0//EN
CALSCALE:GREGORIAN
METHOD:PUBLISH
X-ORIGINAL-URL:https://www.caccautosport.org
X-WR-CALDESC:Events for The Confederation of Autosport Car Clubs
REFRESH-INTERVAL;VALUE=DURATION:PT1H
X-Robots-Tag:noindex
X-PUBLISHED-TTL:PT1H
BEGIN:VTIMEZONE
TZID:America/Vancouver
BEGIN:DAYLIGHT
TZOFFSETFROM:-0800
TZOFFSETTO:-0700
TZNAME:PDT
DTSTART:20200308T100000
END:DAYLIGHT
BEGIN:STANDARD
TZOFFSETFROM:-0700
TZOFFSETTO:-0800
TZNAME:PST
DTSTART:20201101T090000
END:STANDARD
BEGIN:DAYLIGHT
TZOFFSETFROM:-0800
TZOFFSETTO:-0700
TZNAME:PDT
DTSTART:20210314T100000
END:DAYLIGHT
BEGIN:STANDARD
TZOFFSETFROM:-0700
TZOFFSETTO:-0800
TZNAME:PST
DTSTART:20211107T090000
END:STANDARD
BEGIN:DAYLIGHT
TZOFFSETFROM:-0800
TZOFFSETTO:-0700
TZNAME:PDT
DTSTART:20220313T100000
END:DAYLIGHT
BEGIN:STANDARD
TZOFFSETFROM:-0700
TZOFFSETTO:-0800
TZNAME:PST
DTSTART:20221106T090000
END:STANDARD
BEGIN:DAYLIGHT
TZOFFSETFROM:-0800
TZOFFSETTO:-0700
TZNAME:PDT
DTSTART:20230312T100000
END:DAYLIGHT
BEGIN:STANDARD
TZOFFSETFROM:-0700
TZOFFSETTO:-0800
TZNAME:PST
DTSTART:20231105T090000
END:STANDARD
BEGIN:DAYLIGHT
TZOFFSETFROM:-0800
TZOFFSETTO:-0700
TZNAME:PDT
DTSTART:20240310T100000
END:DAYLIGHT
BEGIN:STANDARD
TZOFFSETFROM:-0700
TZOFFSETTO:-0800
TZNAME:PST
DTSTART:20241103T090000
END:STANDARD
END:VTIMEZONE
BEGIN:VEVENT
DTSTART;TZID=America/Vancouver:20230312T093000
DTEND;TZID=America/Vancouver:20230312T150000
DTSTAMP:20260424T050130
CREATED:20230202T033158Z
LAST-MODIFIED:20230202T033158Z
UID:6649-1678613400-1678633200@www.caccautosport.org
SUMMARY:VMSC Autoslalom at VIMC
DESCRIPTION:Applicable to all Autoslalom events at Vancouver Island Motorsport Circuit for 2023 \nVenue:\nVancouver Island Motorsports Circuit (VIMC)\n4063 Cowichan Valley Hwy\, Duncan\, BC V9L 6K4 \nEvent Schedule:\n0930 Gates Open for Registration and Tech\n0940 Course open for walking\n1030 Novice Briefing\n1040 Drivers Meeting\n1100 First run group on track\n1500 Last group off track – Actual time may vary. \nRun Groups/Work Assignments:\nEntrants will be assigned a run group and a work assignment at registration.
URL:https://www.caccautosport.org/event/vmsc-autoslalom-at-vimc-2/
LOCATION:Vancouver Island Motorsport Circuit\, 4063 Cowichan Valley Hwy\, Lake Cowichan\, BC\, V9L 6K4\, Canada
CATEGORIES:Auto Slalom,Autocross
END:VEVENT
BEGIN:VEVENT
DTSTART;TZID=America/Vancouver:20230212T093000
DTEND;TZID=America/Vancouver:20230212T150000
DTSTAMP:20260424T050130
CREATED:20230202T033017Z
LAST-MODIFIED:20230202T033017Z
UID:6647-1676194200-1676214000@www.caccautosport.org
SUMMARY:VMSC Autoslalom at VIMC
DESCRIPTION:Applicable to all Autoslalom events at Vancouver Island Motorsport Circuit for 2023 \nVenue:\nVancouver Island Motorsports Circuit (VIMC)\n4063 Cowichan Valley Hwy\, Duncan\, BC V9L 6K4 \nEvent Schedule:\n0930 Gates Open for Registration and Tech\n0940 Course open for walking\n1030 Novice Briefing\n1040 Drivers Meeting\n1100 First run group on track\n1500 Last group off track – Actual time may vary. \nRun Groups/Work Assignments:\nEntrants will be assigned a run group and a work assignment at registration.
URL:https://www.caccautosport.org/event/vmsc-autoslalom-at-vimc/
LOCATION:Vancouver Island Motorsport Circuit\, 4063 Cowichan Valley Hwy\, Lake Cowichan\, BC\, V9L 6K4\, Canada
CATEGORIES:Auto Slalom,Autocross
END:VEVENT
BEGIN:VEVENT
DTSTART;TZID=America/Vancouver:20221101T190000
DTEND;TZID=America/Vancouver:20221101T200000
DTSTAMP:20260424T050130
CREATED:20221004T144414Z
LAST-MODIFIED:20221013T161806Z
UID:5350-1667329200-1667332800@www.caccautosport.org
SUMMARY:CACC Autoslalom Discipline Fall Meeting
DESCRIPTION:
URL:https://www.caccautosport.org/event/cacc-autoslalom-discipline-fall-meeting-2/
LOCATION:Virtual Meeting
CATEGORIES:Administration,Auto Slalom
END:VEVENT
BEGIN:VEVENT
DTSTART;TZID=America/Vancouver:20221016T080000
DTEND;TZID=America/Vancouver:20221016T170000
DTSTAMP:20260424T050130
CREATED:20220720T150243Z
LAST-MODIFIED:20220720T150244Z
UID:4856-1665907200-1665939600@www.caccautosport.org
SUMMARY:VCMC Autoslalom Cup Series 7
DESCRIPTION:
URL:https://www.caccautosport.org/event/vcmc-autoslalom-cup-series-7/
LOCATION:Mission Raceway Park – Kart Track\, 32670 Dyke Road\, Mission\, BC\, Canada
CATEGORIES:Auto Slalom,Autocross
END:VEVENT
BEGIN:VEVENT
DTSTART;TZID=America/Vancouver:20220924T073000
DTEND;TZID=America/Vancouver:20220925T170000
DTSTAMP:20260424T050131
CREATED:20220327T160615Z
LAST-MODIFIED:20220327T160615Z
UID:4444-1664004600-1664125200@www.caccautosport.org
SUMMARY:OPDA Okanagan Autocross - 2-Day Eliminator
DESCRIPTION:
URL:https://www.caccautosport.org/event/opda-okanagan-autocross-2-day-eliminator/
LOCATION:Kal Tire Place\, 3445 43rd Avenue\, Vernon\, BC\, Canada
CATEGORIES:Auto Slalom,Autocross
ORGANIZER;CN="Okanagan Precision Driving Association":MAILTO:web@okanaganautocross.net
END:VEVENT
BEGIN:VEVENT
DTSTART;TZID=America/Vancouver:20220918T080000
DTEND;TZID=America/Vancouver:20220918T170000
DTSTAMP:20260424T050131
CREATED:20220720T144049Z
LAST-MODIFIED:20220720T144050Z
UID:4854-1663488000-1663520400@www.caccautosport.org
SUMMARY:VCMC Autoslalom Cup Series 6
DESCRIPTION:
URL:https://www.caccautosport.org/event/vcmc-autoslalom-cup-series-6/
LOCATION:Mission Raceway Park – Kart Track\, 32670 Dyke Road\, Mission\, BC\, Canada
CATEGORIES:Auto Slalom,Autocross
END:VEVENT
BEGIN:VEVENT
DTSTART;TZID=America/Vancouver:20220911T090000
DTEND;TZID=America/Vancouver:20220911T160000
DTSTAMP:20260424T050131
CREATED:20220620T180343Z
LAST-MODIFIED:20220902T160733Z
UID:4702-1662886800-1662912000@www.caccautosport.org
SUMMARY:VMSC Autoslalom
DESCRIPTION:
URL:https://www.caccautosport.org/event/vmsc-autoslalom-4/
LOCATION:Westshore Motorsports Park\, 2207 Millstream Rd\, Victoria\, BC\, V9B0J7\, Canada
CATEGORIES:Auto Slalom,Autocross
END:VEVENT
BEGIN:VEVENT
DTSTART;TZID=America/Vancouver:20220911T073000
DTEND;TZID=America/Vancouver:20220911T150000
DTSTAMP:20260424T050131
CREATED:20220327T160519Z
LAST-MODIFIED:20220327T160519Z
UID:4442-1662881400-1662908400@www.caccautosport.org
SUMMARY:OPDA Okanagan Autocross
DESCRIPTION:
URL:https://www.caccautosport.org/event/opda-okanagan-autocross-6/
LOCATION:Kal Tire Place\, 3445 43rd Avenue\, Vernon\, BC\, Canada
CATEGORIES:Auto Slalom,Autocross
ORGANIZER;CN="Okanagan Precision Driving Association":MAILTO:web@okanaganautocross.net
END:VEVENT
BEGIN:VEVENT
DTSTART;TZID=America/Vancouver:20220828T080000
DTEND;TZID=America/Vancouver:20220828T170000
DTSTAMP:20260424T050131
CREATED:20220720T143942Z
LAST-MODIFIED:20220720T143943Z
UID:4852-1661673600-1661706000@www.caccautosport.org
SUMMARY:VCMC Autoslalom Cup Series 5
DESCRIPTION:
URL:https://www.caccautosport.org/event/vcmc-autoslalom-cup-series-5/
LOCATION:Mission Raceway Park – Kart Track\, 32670 Dyke Road\, Mission\, BC\, Canada
CATEGORIES:Auto Slalom,Autocross
END:VEVENT
BEGIN:VEVENT
DTSTART;VALUE=DATE:20220828
DTEND;VALUE=DATE:20220829
DTSTAMP:20260424T050131
CREATED:20220327T162249Z
LAST-MODIFIED:20220327T162249Z
UID:4462-1661644800-1661731199@www.caccautosport.org
SUMMARY:Street Cats Car Club Autocross
DESCRIPTION:
URL:https://www.caccautosport.org/event/street-cats-car-club-autocross-4/
LOCATION:Western Financial Place\, 1777 2nd St N\, Cranbrook\, V1C 7G9\, Canada
CATEGORIES:Auto Slalom,Autocross
END:VEVENT
BEGIN:VEVENT
DTSTART;TZID=America/Vancouver:20220826T163000
DTEND;TZID=America/Vancouver:20220826T203000
DTSTAMP:20260424T050131
CREATED:20220407T143019Z
LAST-MODIFIED:20220407T143019Z
UID:4512-1661531400-1661545800@www.caccautosport.org
SUMMARY:OPDA Okanagan Autocross Kelowna
DESCRIPTION:
URL:https://www.caccautosport.org/event/opda-okanagan-autocross-kelowna-2/
LOCATION:Okanagan College West Lot\, 1000 K.L.O Road\, Kelowna\, BC\, Canada
CATEGORIES:Auto Slalom,Autocross
ORGANIZER;CN="Okanagan Precision Driving Association":MAILTO:web@okanaganautocross.net
END:VEVENT
BEGIN:VEVENT
DTSTART;TZID=America/Vancouver:20220821T090000
DTEND;TZID=America/Vancouver:20220821T160000
DTSTAMP:20260424T050131
CREATED:20220620T180236Z
LAST-MODIFIED:20220620T180237Z
UID:4700-1661072400-1661097600@www.caccautosport.org
SUMMARY:VMSC Autoslalom
DESCRIPTION:
URL:https://www.caccautosport.org/event/vmsc-autoslalom-3/
LOCATION:Westshore Motorsports Park\, 2207 Millstream Rd\, Victoria\, BC\, V9B0J7\, Canada
CATEGORIES:Auto Slalom,Autocross
END:VEVENT
BEGIN:VEVENT
DTSTART;TZID=America/Vancouver:20220821T073000
DTEND;TZID=America/Vancouver:20220821T150000
DTSTAMP:20260424T050131
CREATED:20220327T160437Z
LAST-MODIFIED:20220407T145634Z
UID:4440-1661067000-1661094000@www.caccautosport.org
SUMMARY:OPDA Okanagan Autocross Vernon
DESCRIPTION:
URL:https://www.caccautosport.org/event/opda-okanagan-autocross-5/
LOCATION:Kal Tire Place\, 3445 43rd Avenue\, Vernon\, BC\, Canada
CATEGORIES:Auto Slalom,Autocross
ORGANIZER;CN="Okanagan Precision Driving Association":MAILTO:web@okanaganautocross.net
END:VEVENT
BEGIN:VEVENT
DTSTART;TZID=America/Vancouver:20220820T080000
DTEND;TZID=America/Vancouver:20220820T170000
DTSTAMP:20260424T050131
CREATED:20220517T234832Z
LAST-MODIFIED:20220517T234832Z
UID:4674-1660982400-1661014800@www.caccautosport.org
SUMMARY:PRMA Autocross
DESCRIPTION:
URL:https://www.caccautosport.org/event/prma-autocross-10/
LOCATION:Taylor Chain-up\, Taylor Hill\, Taylor\, BC\, Canada
CATEGORIES:Auto Slalom,Autocross
END:VEVENT
BEGIN:VEVENT
DTSTART;TZID=America/Vancouver:20220819T163000
DTEND;TZID=America/Vancouver:20220819T203000
DTSTAMP:20260424T050131
CREATED:20220407T142800Z
LAST-MODIFIED:20220407T143044Z
UID:4510-1660926600-1660941000@www.caccautosport.org
SUMMARY:OPDA Okanagan Autocross Kelowna
DESCRIPTION:
URL:https://www.caccautosport.org/event/opda-okanagan-autocross-kelowna/
LOCATION:Okanagan College West Lot\, 1000 K.L.O Road\, Kelowna\, BC\, Canada
CATEGORIES:Auto Slalom,Autocross
ORGANIZER;CN="Okanagan Precision Driving Association":MAILTO:web@okanaganautocross.net
END:VEVENT
BEGIN:VEVENT
DTSTART;TZID=America/Vancouver:20220813T080000
DTEND;TZID=America/Vancouver:20220813T170000
DTSTAMP:20260424T050131
CREATED:20220720T143805Z
LAST-MODIFIED:20220720T143806Z
UID:4850-1660377600-1660410000@www.caccautosport.org
SUMMARY:VCMC Autoslalom Cup Series 4
DESCRIPTION:
URL:https://www.caccautosport.org/event/vcmc-autoslalom-cup-series-4/
LOCATION:Mission Raceway Park – Kart Track\, 32670 Dyke Road\, Mission\, BC\, Canada
CATEGORIES:Auto Slalom,Autocross
END:VEVENT
BEGIN:VEVENT
DTSTART;TZID=America/Vancouver:20220812T163000
DTEND;TZID=America/Vancouver:20220812T203000
DTSTAMP:20260424T050131
CREATED:20220407T145556Z
LAST-MODIFIED:20220407T145556Z
UID:4537-1660321800-1660336200@www.caccautosport.org
SUMMARY:OPDA Okanagan Autocross Kelowna
DESCRIPTION:
URL:https://www.caccautosport.org/event/opda-okanagan-autocross-kelowna-14/
LOCATION:Okanagan College West Lot\, 1000 K.L.O Road\, Kelowna\, BC\, Canada
CATEGORIES:Auto Slalom,Autocross
ORGANIZER;CN="Okanagan Precision Driving Association":MAILTO:web@okanaganautocross.net
END:VEVENT
BEGIN:VEVENT
DTSTART;TZID=America/Vancouver:20220807T080000
DTEND;TZID=America/Vancouver:20220807T170000
DTSTAMP:20260424T050131
CREATED:20220517T234732Z
LAST-MODIFIED:20220517T234753Z
UID:4672-1659859200-1659891600@www.caccautosport.org
SUMMARY:PRMA Autocross
DESCRIPTION:
URL:https://www.caccautosport.org/event/prma-autocross-9/
LOCATION:Taylor Chain-up\, Taylor Hill\, Taylor\, BC\, Canada
CATEGORIES:Auto Slalom,Autocross
END:VEVENT
BEGIN:VEVENT
DTSTART;TZID=America/Vancouver:20220805T163000
DTEND;TZID=America/Vancouver:20220805T203000
DTSTAMP:20260424T050131
CREATED:20220407T145518Z
LAST-MODIFIED:20220407T145518Z
UID:4535-1659717000-1659731400@www.caccautosport.org
SUMMARY:OPDA Okanagan Autocross Kelowna
DESCRIPTION:
URL:https://www.caccautosport.org/event/opda-okanagan-autocross-kelowna-13/
LOCATION:Okanagan College West Lot\, 1000 K.L.O Road\, Kelowna\, BC\, Canada
CATEGORIES:Auto Slalom,Autocross
ORGANIZER;CN="Okanagan Precision Driving Association":MAILTO:web@okanaganautocross.net
END:VEVENT
BEGIN:VEVENT
DTSTART;TZID=America/Vancouver:20220731T090000
DTEND;TZID=America/Vancouver:20220731T160000
DTSTAMP:20260424T050131
CREATED:20220620T180131Z
LAST-MODIFIED:20220620T180131Z
UID:4698-1659258000-1659283200@www.caccautosport.org
SUMMARY:VMSC Autoslalom
DESCRIPTION:
URL:https://www.caccautosport.org/event/vmsc-autoslalom-2/
LOCATION:Westshore Motorsports Park\, 2207 Millstream Rd\, Victoria\, BC\, V9B0J7\, Canada
CATEGORIES:Auto Slalom,Autocross
END:VEVENT
BEGIN:VEVENT
DTSTART;VALUE=DATE:20220731
DTEND;VALUE=DATE:20220801
DTSTAMP:20260424T050131
CREATED:20220327T162206Z
LAST-MODIFIED:20220327T162206Z
UID:4460-1659225600-1659311999@www.caccautosport.org
SUMMARY:Street Cats Car Club Autocross
DESCRIPTION:
URL:https://www.caccautosport.org/event/street-cats-car-club-autocross-3/
LOCATION:Western Financial Place\, 1777 2nd St N\, Cranbrook\, V1C 7G9\, Canada
CATEGORIES:Auto Slalom,Autocross
END:VEVENT
BEGIN:VEVENT
DTSTART;TZID=America/Vancouver:20220729T163000
DTEND;TZID=America/Vancouver:20220729T203000
DTSTAMP:20260424T050131
CREATED:20220407T145431Z
LAST-MODIFIED:20220407T145431Z
UID:4533-1659112200-1659126600@www.caccautosport.org
SUMMARY:OPDA Okanagan Autocross Kelowna
DESCRIPTION:
URL:https://www.caccautosport.org/event/opda-okanagan-autocross-kelowna-12/
LOCATION:Okanagan College West Lot\, 1000 K.L.O Road\, Kelowna\, BC\, Canada
CATEGORIES:Auto Slalom,Autocross
ORGANIZER;CN="Okanagan Precision Driving Association":MAILTO:web@okanaganautocross.net
END:VEVENT
BEGIN:VEVENT
DTSTART;VALUE=DATE:20220723
DTEND;VALUE=DATE:20220724
DTSTAMP:20260424T050131
CREATED:20220517T234419Z
LAST-MODIFIED:20220517T234531Z
UID:4670-1658534400-1658620799@www.caccautosport.org
SUMMARY:PRMA Autocross
DESCRIPTION:
URL:https://www.caccautosport.org/event/prma-autocross-8/
LOCATION:Taylor Chain-up\, Taylor Hill\, Taylor\, BC\, Canada
CATEGORIES:Auto Slalom,Autocross
END:VEVENT
BEGIN:VEVENT
DTSTART;TZID=America/Vancouver:20220717T073000
DTEND;TZID=America/Vancouver:20220717T150000
DTSTAMP:20260424T050131
CREATED:20220327T160313Z
LAST-MODIFIED:20220407T145645Z
UID:4438-1658043000-1658070000@www.caccautosport.org
SUMMARY:OPDA Okanagan Autocross Vernon
DESCRIPTION:
URL:https://www.caccautosport.org/event/opda-okanagan-autocross-4/
LOCATION:Kal Tire Place\, 3445 43rd Avenue\, Vernon\, BC\, Canada
CATEGORIES:Auto Slalom,Autocross
ORGANIZER;CN="Okanagan Precision Driving Association":MAILTO:web@okanaganautocross.net
END:VEVENT
BEGIN:VEVENT
DTSTART;TZID=America/Vancouver:20220715T163000
DTEND;TZID=America/Vancouver:20220715T203000
DTSTAMP:20260424T050131
CREATED:20220407T145325Z
LAST-MODIFIED:20220407T145325Z
UID:4531-1657902600-1657917000@www.caccautosport.org
SUMMARY:OPDA Okanagan Autocross Kelowna
DESCRIPTION:
URL:https://www.caccautosport.org/event/opda-okanagan-autocross-kelowna-11/
LOCATION:Okanagan College West Lot\, 1000 K.L.O Road\, Kelowna\, BC\, Canada
CATEGORIES:Auto Slalom,Autocross
ORGANIZER;CN="Okanagan Precision Driving Association":MAILTO:web@okanaganautocross.net
END:VEVENT
BEGIN:VEVENT
DTSTART;TZID=America/Vancouver:20220710T090000
DTEND;TZID=America/Vancouver:20220710T160000
DTSTAMP:20260424T050131
CREATED:20220620T180002Z
LAST-MODIFIED:20220620T180005Z
UID:4696-1657443600-1657468800@www.caccautosport.org
SUMMARY:VMSC Autoslalom
DESCRIPTION:
URL:https://www.caccautosport.org/event/vmsc-autoslalom/
LOCATION:Westshore Motorsports Park\, 2207 Millstream Rd\, Victoria\, BC\, V9B0J7\, Canada
CATEGORIES:Auto Slalom,Autocross
END:VEVENT
BEGIN:VEVENT
DTSTART;VALUE=DATE:20220703
DTEND;VALUE=DATE:20220704
DTSTAMP:20260424T050131
CREATED:20220517T233751Z
LAST-MODIFIED:20220517T233751Z
UID:4668-1656806400-1656892799@www.caccautosport.org
SUMMARY:PRMA Autocross
DESCRIPTION:
URL:https://www.caccautosport.org/event/prma-autocross-7/
LOCATION:Taylor Chain-up\, Taylor Hill\, Taylor\, BC\, Canada
CATEGORIES:Auto Slalom,Autocross
END:VEVENT
BEGIN:VEVENT
DTSTART;VALUE=DATE:20220626
DTEND;VALUE=DATE:20220627
DTSTAMP:20260424T050131
CREATED:20220327T162113Z
LAST-MODIFIED:20220327T162113Z
UID:4458-1656201600-1656287999@www.caccautosport.org
SUMMARY:Street Cats Car Club Autocross
DESCRIPTION:
URL:https://www.caccautosport.org/event/street-cats-car-club-autocross-2/
LOCATION:Western Financial Place\, 1777 2nd St N\, Cranbrook\, V1C 7G9\, Canada
CATEGORIES:Auto Slalom,Autocross
END:VEVENT
BEGIN:VEVENT
DTSTART;VALUE=DATE:20220625
DTEND;VALUE=DATE:20220626
DTSTAMP:20260424T050131
CREATED:20220517T235054Z
LAST-MODIFIED:20220517T235109Z
UID:4678-1656115200-1656201599@www.caccautosport.org
SUMMARY:PRMA Autocross
DESCRIPTION:
URL:https://www.caccautosport.org/event/prma-autocross-12/
LOCATION:Quesnel Caribou Raceway Park\, 785 Oval Rd\, Quesnel\, BC\, V2J4R6\, Canada
CATEGORIES:Auto Slalom,Autocross
END:VEVENT
BEGIN:VEVENT
DTSTART;VALUE=DATE:20220625
DTEND;VALUE=DATE:20220626
DTSTAMP:20260424T050131
CREATED:20220404T153608Z
LAST-MODIFIED:20220404T153608Z
UID:4503-1656115200-1656201599@www.caccautosport.org
SUMMARY:VMSC Autocross
DESCRIPTION:
URL:https://www.caccautosport.org/event/vmsc-autocross-14/
LOCATION:Westshore Motorsports Park\, 2207 Millstream Rd\, Victoria\, BC\, V9B0J7\, Canada
CATEGORIES:Auto Slalom,Autocross
END:VEVENT
BEGIN:VEVENT
DTSTART;TZID=America/Vancouver:20220624T163000
DTEND;TZID=America/Vancouver:20220624T203000
DTSTAMP:20260424T050131
CREATED:20220407T145220Z
LAST-MODIFIED:20220407T145220Z
UID:4529-1656088200-1656102600@www.caccautosport.org
SUMMARY:OPDA Okanagan Autocross Kelowna
DESCRIPTION:
URL:https://www.caccautosport.org/event/opda-okanagan-autocross-kelowna-10/
LOCATION:Okanagan College West Lot\, 1000 K.L.O Road\, Kelowna\, BC\, Canada
CATEGORIES:Auto Slalom,Autocross
ORGANIZER;CN="Okanagan Precision Driving Association":MAILTO:web@okanaganautocross.net
END:VEVENT
BEGIN:VEVENT
DTSTART;TZID=America/Vancouver:20220619T073000
DTEND;TZID=America/Vancouver:20220619T150000
DTSTAMP:20260424T050131
CREATED:20220327T160136Z
LAST-MODIFIED:20220407T145704Z
UID:4436-1655623800-1655650800@www.caccautosport.org
SUMMARY:OPDA Okanagan Autocross Vernon
DESCRIPTION:
URL:https://www.caccautosport.org/event/opda-okanagan-autocross-3/
LOCATION:Kal Tire Place\, 3445 43rd Avenue\, Vernon\, BC\, Canada
CATEGORIES:Auto Slalom,Autocross
ORGANIZER;CN="Okanagan Precision Driving Association":MAILTO:web@okanaganautocross.net
END:VEVENT
BEGIN:VEVENT
DTSTART;VALUE=DATE:20220612
DTEND;VALUE=DATE:20220613
DTSTAMP:20260424T050131
CREATED:20220525T182714Z
LAST-MODIFIED:20220525T182714Z
UID:4687-1654992000-1655078399@www.caccautosport.org
SUMMARY:VCMC Autoslalom Event
DESCRIPTION:
URL:https://www.caccautosport.org/event/vcmc-autoslalom-event/
LOCATION:Mission Raceway Park – Kart Track\, 32670 Dyke Road\, Mission\, BC\, Canada
CATEGORIES:Auto Slalom,Autocross
END:VEVENT
BEGIN:VEVENT
DTSTART;VALUE=DATE:20220612
DTEND;VALUE=DATE:20220613
DTSTAMP:20260424T050131
CREATED:20220517T233507Z
LAST-MODIFIED:20220517T233631Z
UID:4666-1654992000-1655078399@www.caccautosport.org
SUMMARY:PRMA Autocross
DESCRIPTION:
URL:https://www.caccautosport.org/event/prma-autocross-5/
LOCATION:Taylor Chain-up\, Taylor Hill\, Taylor\, BC\, Canada
CATEGORIES:Auto Slalom,Autocross
END:VEVENT
BEGIN:VEVENT
DTSTART;VALUE=DATE:20220612
DTEND;VALUE=DATE:20220613
DTSTAMP:20260424T050131
CREATED:20220404T153501Z
LAST-MODIFIED:20220404T153501Z
UID:4501-1654992000-1655078399@www.caccautosport.org
SUMMARY:VMSC Autocross
DESCRIPTION:
URL:https://www.caccautosport.org/event/vmsc-autocross-13/
LOCATION:Westshore Motorsports Park\, 2207 Millstream Rd\, Victoria\, BC\, V9B0J7\, Canada
CATEGORIES:Auto Slalom,Autocross
END:VEVENT
BEGIN:VEVENT
DTSTART;TZID=America/Vancouver:20220610T163000
DTEND;TZID=America/Vancouver:20220610T203000
DTSTAMP:20260424T050131
CREATED:20220407T145135Z
LAST-MODIFIED:20220407T145135Z
UID:4527-1654878600-1654893000@www.caccautosport.org
SUMMARY:OPDA Okanagan Autocross Kelowna
DESCRIPTION:
URL:https://www.caccautosport.org/event/opda-okanagan-autocross-kelowna-9/
LOCATION:Okanagan College West Lot\, 1000 K.L.O Road\, Kelowna\, BC\, Canada
CATEGORIES:Auto Slalom,Autocross
ORGANIZER;CN="Okanagan Precision Driving Association":MAILTO:web@okanaganautocross.net
END:VEVENT
BEGIN:VEVENT
DTSTART;TZID=America/Vancouver:20220603T163000
DTEND;TZID=America/Vancouver:20220603T203000
DTSTAMP:20260424T050131
CREATED:20220407T145006Z
LAST-MODIFIED:20220407T145006Z
UID:4525-1654273800-1654288200@www.caccautosport.org
SUMMARY:OPDA Okanagan Autocross Kelowna
DESCRIPTION:
URL:https://www.caccautosport.org/event/opda-okanagan-autocross-kelowna-8/
LOCATION:Okanagan College West Lot\, 1000 K.L.O Road\, Kelowna\, BC\, Canada
CATEGORIES:Auto Slalom,Autocross
ORGANIZER;CN="Okanagan Precision Driving Association":MAILTO:web@okanaganautocross.net
END:VEVENT
BEGIN:VEVENT
DTSTART;VALUE=DATE:20220529
DTEND;VALUE=DATE:20220530
DTSTAMP:20260424T050131
CREATED:20220327T162020Z
LAST-MODIFIED:20220327T162020Z
UID:4456-1653782400-1653868799@www.caccautosport.org
SUMMARY:Street Cats Car Club Autocross
DESCRIPTION:
URL:https://www.caccautosport.org/event/street-cats-car-club-autocross/
LOCATION:Western Financial Place\, 1777 2nd St N\, Cranbrook\, V1C 7G9\, Canada
CATEGORIES:Auto Slalom,Autocross
END:VEVENT
BEGIN:VEVENT
DTSTART;VALUE=DATE:20220528
DTEND;VALUE=DATE:20220530
DTSTAMP:20260424T050131
CREATED:20220427T205910Z
LAST-MODIFIED:20220427T205910Z
UID:4592-1653696000-1653868799@www.caccautosport.org
SUMMARY:VCMC Autoslalom 2-day Blitz
DESCRIPTION:
URL:https://www.caccautosport.org/event/vcmc-autoslalom-2-day-blitz/
LOCATION:Mission Raceway Park – Kart Track\, 32670 Dyke Road\, Mission\, BC\, Canada
CATEGORIES:Auto Slalom,Autocross
END:VEVENT
BEGIN:VEVENT
DTSTART;VALUE=DATE:20220528
DTEND;VALUE=DATE:20220529
DTSTAMP:20260424T050131
CREATED:20220517T235030Z
LAST-MODIFIED:20220517T235144Z
UID:4676-1653696000-1653782399@www.caccautosport.org
SUMMARY:PRMA Autocross
DESCRIPTION:
URL:https://www.caccautosport.org/event/prma-autocross-11/
LOCATION:Quesnel Caribou Raceway Park\, 785 Oval Rd\, Quesnel\, BC\, V2J4R6\, Canada
CATEGORIES:Auto Slalom,Autocross
END:VEVENT
BEGIN:VEVENT
DTSTART;TZID=America/Vancouver:20220527T163000
DTEND;TZID=America/Vancouver:20220527T203000
DTSTAMP:20260424T050131
CREATED:20220407T144917Z
LAST-MODIFIED:20220407T144917Z
UID:4523-1653669000-1653683400@www.caccautosport.org
SUMMARY:OPDA Okanagan Autocross Kelowna
DESCRIPTION:
URL:https://www.caccautosport.org/event/opda-okanagan-autocross-kelowna-7/
LOCATION:Okanagan College West Lot\, 1000 K.L.O Road\, Kelowna\, BC\, Canada
CATEGORIES:Auto Slalom,Autocross
ORGANIZER;CN="Okanagan Precision Driving Association":MAILTO:web@okanaganautocross.net
END:VEVENT
BEGIN:VEVENT
DTSTART;VALUE=DATE:20220514
DTEND;VALUE=DATE:20220515
DTSTAMP:20260424T050131
CREATED:20220427T205807Z
LAST-MODIFIED:20220427T205945Z
UID:4590-1652486400-1652572799@www.caccautosport.org
SUMMARY:VCMC Autoslalom (Cup 2)
DESCRIPTION:
URL:https://www.caccautosport.org/event/vcmc-autoslalom-cup-2/
LOCATION:Mission Raceway Park – Kart Track\, 32670 Dyke Road\, Mission\, BC\, Canada
CATEGORIES:Auto Slalom,Autocross
END:VEVENT
BEGIN:VEVENT
DTSTART;TZID=America/Vancouver:20220513T163000
DTEND;TZID=America/Vancouver:20220513T203000
DTSTAMP:20260424T050131
CREATED:20220407T144805Z
LAST-MODIFIED:20220407T144805Z
UID:4521-1652459400-1652473800@www.caccautosport.org
SUMMARY:OPDA Okanagan Autocross Kelowna
DESCRIPTION:
URL:https://www.caccautosport.org/event/opda-okanagan-autocross-kelowna-6/
LOCATION:Okanagan College West Lot\, 1000 K.L.O Road\, Kelowna\, BC\, Canada
CATEGORIES:Auto Slalom,Autocross
ORGANIZER;CN="Okanagan Precision Driving Association":MAILTO:web@okanaganautocross.net
END:VEVENT
BEGIN:VEVENT
DTSTART;TZID=America/Vancouver:20220506T163000
DTEND;TZID=America/Vancouver:20220506T203000
DTSTAMP:20260424T050131
CREATED:20220407T144704Z
LAST-MODIFIED:20220407T144704Z
UID:4519-1651854600-1651869000@www.caccautosport.org
SUMMARY:OPDA Okanagan Autocross Kelowna
DESCRIPTION:
URL:https://www.caccautosport.org/event/opda-okanagan-autocross-kelowna-5/
LOCATION:Okanagan College West Lot\, 1000 K.L.O Road\, Kelowna\, BC\, Canada
CATEGORIES:Auto Slalom,Autocross
ORGANIZER;CN="Okanagan Precision Driving Association":MAILTO:web@okanaganautocross.net
END:VEVENT
BEGIN:VEVENT
DTSTART;TZID=America/Vancouver:20220501T073000
DTEND;TZID=America/Vancouver:20220501T150000
DTSTAMP:20260424T050131
CREATED:20220327T160054Z
LAST-MODIFIED:20220407T145736Z
UID:4434-1651390200-1651417200@www.caccautosport.org
SUMMARY:OPDA Okanagan Autocross Vernon
DESCRIPTION:
URL:https://www.caccautosport.org/event/opda-okanagan-autocross-2/
LOCATION:Kal Tire Place\, 3445 43rd Avenue\, Vernon\, BC\, Canada
CATEGORIES:Auto Slalom,Autocross
ORGANIZER;CN="Okanagan Precision Driving Association":MAILTO:web@okanaganautocross.net
END:VEVENT
BEGIN:VEVENT
DTSTART;VALUE=DATE:20220430
DTEND;VALUE=DATE:20220501
DTSTAMP:20260424T050131
CREATED:20220404T153339Z
LAST-MODIFIED:20220404T153705Z
UID:4499-1651276800-1651363199@www.caccautosport.org
SUMMARY:VMSC Autocross
DESCRIPTION:
URL:https://www.caccautosport.org/event/vmsc-autocross-12/
LOCATION:Westshore Motorsports Park\, 2207 Millstream Rd\, Victoria\, BC\, V9B0J7\, Canada
CATEGORIES:Auto Slalom,Autocross
END:VEVENT
BEGIN:VEVENT
DTSTART;TZID=America/Vancouver:20220424T083000
DTEND;TZID=America/Vancouver:20220424T160000
DTSTAMP:20260424T050131
CREATED:20220407T142621Z
LAST-MODIFIED:20220407T142621Z
UID:4508-1650789000-1650816000@www.caccautosport.org
SUMMARY:OPDA Introduction to Autocross
DESCRIPTION:The event is open to all age groups and no experience is necessary. Participants must hold a valid driver’s license and provide their own car or share a car with another participant. A certified helmet is required but one will be provided if not available (supplies are limited). \nAttendance will be limited to between 15 and 20 in order to provide a high instructor to student ratio\, with the goal of giving each student one-on-one instruction by seasoned Autocross competitors.
URL:https://www.caccautosport.org/event/opda-introduction-to-autocross/
LOCATION:Okanagan College West Lot\, 1000 K.L.O Road\, Kelowna\, BC\, Canada
CATEGORIES:Auto Slalom,Autocross,Autoslalom Driver Training
ORGANIZER;CN="Okanagan Precision Driving Association":MAILTO:web@okanaganautocross.net
END:VEVENT
BEGIN:VEVENT
DTSTART;VALUE=DATE:20220424
DTEND;VALUE=DATE:20220425
DTSTAMP:20260424T050131
CREATED:20220327T162751Z
LAST-MODIFIED:20220327T162751Z
UID:4469-1650758400-1650844799@www.caccautosport.org
SUMMARY:VCMC Autoslalom
DESCRIPTION:
URL:https://www.caccautosport.org/event/vcmc-autoslalom-2/
LOCATION:Mission Raceway Park – Kart Track\, 32670 Dyke Road\, Mission\, BC\, Canada
CATEGORIES:Auto Slalom,Autocross
END:VEVENT
BEGIN:VEVENT
DTSTART;TZID=America/Vancouver:20220422T163000
DTEND;TZID=America/Vancouver:20220422T203000
DTSTAMP:20260424T050131
CREATED:20220407T144505Z
LAST-MODIFIED:20220407T144505Z
UID:4515-1650645000-1650659400@www.caccautosport.org
SUMMARY:OPDA Okanagan Autocross Kelowna
DESCRIPTION:
URL:https://www.caccautosport.org/event/opda-okanagan-autocross-kelowna-3/
LOCATION:Okanagan College West Lot\, 1000 K.L.O Road\, Kelowna\, BC\, Canada
CATEGORIES:Auto Slalom,Autocross
ORGANIZER;CN="Okanagan Precision Driving Association":MAILTO:web@okanaganautocross.net
END:VEVENT
BEGIN:VEVENT
DTSTART;VALUE=DATE:20220410
DTEND;VALUE=DATE:20220411
DTSTAMP:20260424T050131
CREATED:20220404T153253Z
LAST-MODIFIED:20220404T153253Z
UID:4497-1649548800-1649635199@www.caccautosport.org
SUMMARY:VMSC Autocross
DESCRIPTION:
URL:https://www.caccautosport.org/event/vmsc-autocross-11/
LOCATION:Westshore Motorsports Park\, 2207 Millstream Rd\, Victoria\, BC\, V9B0J7\, Canada
CATEGORIES:Auto Slalom,Autocross
END:VEVENT
BEGIN:VEVENT
DTSTART;VALUE=DATE:20220410
DTEND;VALUE=DATE:20220411
DTSTAMP:20260424T050131
CREATED:20220327T162702Z
LAST-MODIFIED:20220327T162702Z
UID:4467-1649548800-1649635199@www.caccautosport.org
SUMMARY:VCMC Autoslalom
DESCRIPTION:
URL:https://www.caccautosport.org/event/vcmc-autoslalom/
LOCATION:Mission Raceway Park – Kart Track\, 32670 Dyke Road\, Mission\, BC\, Canada
CATEGORIES:Auto Slalom,Autocross
END:VEVENT
BEGIN:VEVENT
DTSTART;TZID=America/Vancouver:20220403T073000
DTEND;TZID=America/Vancouver:20220403T150000
DTSTAMP:20260424T050131
CREATED:20220327T155926Z
LAST-MODIFIED:20220407T145756Z
UID:4432-1648971000-1648998000@www.caccautosport.org
SUMMARY:OPDA Okanagan Autocross Vernon
DESCRIPTION:
URL:https://www.caccautosport.org/event/opda-okanagan-autocross/
LOCATION:Kal Tire Place\, 3445 43rd Avenue\, Vernon\, BC\, Canada
CATEGORIES:Auto Slalom,Autocross
ORGANIZER;CN="Okanagan Precision Driving Association":MAILTO:web@okanaganautocross.net
END:VEVENT
BEGIN:VEVENT
DTSTART;VALUE=DATE:20211003
DTEND;VALUE=DATE:20211004
DTSTAMP:20260424T050131
CREATED:20210909T153330Z
LAST-MODIFIED:20210909T153330Z
UID:4018-1633219200-1633305599@www.caccautosport.org
SUMMARY:VMSC Autocross
DESCRIPTION:
URL:https://www.caccautosport.org/event/vmsc-autocross-7/
LOCATION:Westshore Motorsports Park\, 2207 Millstream Rd\, Victoria\, BC\, V9B0J7\, Canada
CATEGORIES:Auto Slalom,Autocross
END:VEVENT
END:VCALENDAR