BEGIN:VCALENDAR
VERSION:2.0
PRODID:-//The Confederation of Autosport Car Clubs - ECPv6.15.20//NONSGML v1.0//EN
CALSCALE:GREGORIAN
METHOD:PUBLISH
X-ORIGINAL-URL:https://www.caccautosport.org
X-WR-CALDESC:Events for The Confederation of Autosport Car Clubs
REFRESH-INTERVAL;VALUE=DURATION:PT1H
X-Robots-Tag:noindex
X-PUBLISHED-TTL:PT1H
BEGIN:VTIMEZONE
TZID:America/Vancouver
BEGIN:DAYLIGHT
TZOFFSETFROM:-0800
TZOFFSETTO:-0700
TZNAME:PDT
DTSTART:20230312T100000
END:DAYLIGHT
BEGIN:STANDARD
TZOFFSETFROM:-0700
TZOFFSETTO:-0800
TZNAME:PST
DTSTART:20231105T090000
END:STANDARD
BEGIN:DAYLIGHT
TZOFFSETFROM:-0800
TZOFFSETTO:-0700
TZNAME:PDT
DTSTART:20240310T100000
END:DAYLIGHT
BEGIN:STANDARD
TZOFFSETFROM:-0700
TZOFFSETTO:-0800
TZNAME:PST
DTSTART:20241103T090000
END:STANDARD
BEGIN:DAYLIGHT
TZOFFSETFROM:-0800
TZOFFSETTO:-0700
TZNAME:PDT
DTSTART:20250309T100000
END:DAYLIGHT
BEGIN:STANDARD
TZOFFSETFROM:-0700
TZOFFSETTO:-0800
TZNAME:PST
DTSTART:20251102T090000
END:STANDARD
END:VTIMEZONE
BEGIN:VEVENT
DTSTART;TZID=America/Vancouver:20240505T090000
DTEND;TZID=America/Vancouver:20240505T180000
DTSTAMP:20260425T173120
CREATED:20240418T142254Z
LAST-MODIFIED:20240418T142254Z
UID:8799-1714899600-1714932000@www.caccautosport.org
SUMMARY:PRMA Autocross
DESCRIPTION:Event Itinerary for all PRMA run events.\nNo Pre-Registration Available currently. We apologise for this inconvenience.\nRegistration opens at 9am and runs until 10am.\nDriver’s Meeting and course walk will take place at 1015-1030. It will be announced over loudspeaker for those attending the event.\nTech Inspections are to be submitted and waivers must be signed to obtain a wristband showing it to marshals before car will be let out on track.\nFollowing a 1 car at a time\, timed lap event.\nCars on track by 1030am\, running until 1230pm APPRX.\n1230-115 Lunch break.\n130-4pm Cars back on track.\n4-5PM non-comp runs (Fun Runs)\n5-6pm Track cleanup.
URL:https://www.caccautosport.org/event/prma-autocross-13/
LOCATION:Taylor Chain-up\, Taylor Hill\, Taylor\, BC\, Canada
CATEGORIES:Auto Slalom,Autocross
END:VEVENT
BEGIN:VEVENT
DTSTART;TZID=America/Vancouver:20240510T163000
DTEND;TZID=America/Vancouver:20240510T203000
DTSTAMP:20260425T173120
CREATED:20240317T171204Z
LAST-MODIFIED:20240419T163905Z
UID:8722-1715358600-1715373000@www.caccautosport.org
SUMMARY:OPDA Okanagan Autocross - Kelowna
DESCRIPTION:
URL:https://www.caccautosport.org/event/opda-okanagan-autocross-17/
LOCATION:Okanagan College West Lot\, 1000 K.L.O Road\, Kelowna\, BC\, Canada
CATEGORIES:Auto Slalom,Autocross
ORGANIZER;CN="Okanagan Precision Driving Association":MAILTO:web@okanaganautocross.net
END:VEVENT
BEGIN:VEVENT
DTSTART;TZID=America/Vancouver:20240512T080000
DTEND;TZID=America/Vancouver:20240512T170000
DTSTAMP:20260425T173120
CREATED:20240405T233049Z
LAST-MODIFIED:20240405T233049Z
UID:8782-1715500800-1715533200@www.caccautosport.org
SUMMARY:VCMC Autoslalom
DESCRIPTION:VCMC 2024 Autoslalom Event Schedule\nThis event schedule plan applies to all autoslalom events in VCMC’s 2024 season.\n7:30 AM Gates are open as well as Tech and Registration\n8:30 AM Tech and Registration Close\n8:45 AM Senior Driver lead novice course walk\n9:00 AM Drivers meeting\n9:30 AM First car\n5:00 PM Final Car\, Driver’s closing meeting
URL:https://www.caccautosport.org/event/vcmc-autoslalom-5/
LOCATION:Mission Raceway Park – Kart Track\, 32670 Dyke Road\, Mission\, BC\, Canada
CATEGORIES:Auto Slalom,Autocross
END:VEVENT
BEGIN:VEVENT
DTSTART;TZID=America/Vancouver:20240524T163000
DTEND;TZID=America/Vancouver:20240524T203000
DTSTAMP:20260425T173120
CREATED:20240317T171250Z
LAST-MODIFIED:20240419T163850Z
UID:8724-1716568200-1716582600@www.caccautosport.org
SUMMARY:OPDA Okanagan Autocross - Kelowna
DESCRIPTION:
URL:https://www.caccautosport.org/event/opda-okanagan-autocross-18/
LOCATION:Okanagan College West Lot\, 1000 K.L.O Road\, Kelowna\, BC\, Canada
CATEGORIES:Auto Slalom,Autocross
ORGANIZER;CN="Okanagan Precision Driving Association":MAILTO:web@okanaganautocross.net
END:VEVENT
BEGIN:VEVENT
DTSTART;TZID=America/Vancouver:20240526T080000
DTEND;TZID=America/Vancouver:20240526T170000
DTSTAMP:20260425T173120
CREATED:20240405T233133Z
LAST-MODIFIED:20240405T233133Z
UID:8784-1716710400-1716742800@www.caccautosport.org
SUMMARY:VCMC Autoslalom
DESCRIPTION:VCMC 2024 Autoslalom Event Schedule\nThis event schedule plan applies to all autoslalom events in VCMC’s 2024 season.\n7:30 AM Gates are open as well as Tech and Registration\n8:30 AM Tech and Registration Close\n8:45 AM Senior Driver lead novice course walk\n9:00 AM Drivers meeting\n9:30 AM First car\n5:00 PM Final Car\, Driver’s closing meeting
URL:https://www.caccautosport.org/event/vcmc-autoslalom-6/
LOCATION:Mission Raceway Park – Kart Track\, 32670 Dyke Road\, Mission\, BC\, Canada
CATEGORIES:Auto Slalom,Autocross
END:VEVENT
BEGIN:VEVENT
DTSTART;TZID=America/Vancouver:20240531T163000
DTEND;TZID=America/Vancouver:20240531T203000
DTSTAMP:20260425T173120
CREATED:20240317T171329Z
LAST-MODIFIED:20240419T163720Z
UID:8726-1717173000-1717187400@www.caccautosport.org
SUMMARY:OPDA Okanagan Autocross - Kelowna
DESCRIPTION:
URL:https://www.caccautosport.org/event/opda-okanagan-autocross-19/
LOCATION:Okanagan College West Lot\, 1000 K.L.O Road\, Kelowna\, BC\, Canada
CATEGORIES:Auto Slalom,Autocross
ORGANIZER;CN="Okanagan Precision Driving Association":MAILTO:web@okanaganautocross.net
END:VEVENT
END:VCALENDAR