BEGIN:VCALENDAR
VERSION:2.0
PRODID:-//The Confederation of Autosport Car Clubs - ECPv6.15.20//NONSGML v1.0//EN
CALSCALE:GREGORIAN
METHOD:PUBLISH
X-ORIGINAL-URL:https://www.caccautosport.org
X-WR-CALDESC:Events for The Confederation of Autosport Car Clubs
REFRESH-INTERVAL;VALUE=DURATION:PT1H
X-Robots-Tag:noindex
X-PUBLISHED-TTL:PT1H
BEGIN:VTIMEZONE
TZID:America/Vancouver
BEGIN:DAYLIGHT
TZOFFSETFROM:-0800
TZOFFSETTO:-0700
TZNAME:PDT
DTSTART:20230312T100000
END:DAYLIGHT
BEGIN:STANDARD
TZOFFSETFROM:-0700
TZOFFSETTO:-0800
TZNAME:PST
DTSTART:20231105T090000
END:STANDARD
BEGIN:DAYLIGHT
TZOFFSETFROM:-0800
TZOFFSETTO:-0700
TZNAME:PDT
DTSTART:20240310T100000
END:DAYLIGHT
BEGIN:STANDARD
TZOFFSETFROM:-0700
TZOFFSETTO:-0800
TZNAME:PST
DTSTART:20241103T090000
END:STANDARD
BEGIN:DAYLIGHT
TZOFFSETFROM:-0800
TZOFFSETTO:-0700
TZNAME:PDT
DTSTART:20250309T100000
END:DAYLIGHT
BEGIN:STANDARD
TZOFFSETFROM:-0700
TZOFFSETTO:-0800
TZNAME:PST
DTSTART:20251102T090000
END:STANDARD
END:VTIMEZONE
BEGIN:VEVENT
DTSTART;TZID=America/Vancouver:20240607T163000
DTEND;TZID=America/Vancouver:20240607T203000
DTSTAMP:20260425T114547
CREATED:20240317T171413Z
LAST-MODIFIED:20240419T163706Z
UID:8728-1717777800-1717792200@www.caccautosport.org
SUMMARY:OPDA Okanagan Autocross - Kelowna
DESCRIPTION:
URL:https://www.caccautosport.org/event/opda-okanagan-autocross-20/
LOCATION:Okanagan College West Lot\, 1000 K.L.O Road\, Kelowna\, BC\, Canada
CATEGORIES:Auto Slalom,Autocross
ORGANIZER;CN="Okanagan Precision Driving Association":MAILTO:web@okanaganautocross.net
END:VEVENT
BEGIN:VEVENT
DTSTART;TZID=America/Vancouver:20240614T163000
DTEND;TZID=America/Vancouver:20240614T203000
DTSTAMP:20260425T114547
CREATED:20240317T171447Z
LAST-MODIFIED:20240419T163654Z
UID:8730-1718382600-1718397000@www.caccautosport.org
SUMMARY:OPDA Okanagan Autocross - Kelowna
DESCRIPTION:
URL:https://www.caccautosport.org/event/opda-okanagan-autocross-21/
LOCATION:Okanagan College West Lot\, 1000 K.L.O Road\, Kelowna\, BC\, Canada
CATEGORIES:Auto Slalom,Autocross
ORGANIZER;CN="Okanagan Precision Driving Association":MAILTO:web@okanaganautocross.net
END:VEVENT
BEGIN:VEVENT
DTSTART;VALUE=DATE:20240615
DTEND;VALUE=DATE:20240616
DTSTAMP:20260425T114547
CREATED:20240523T154515Z
LAST-MODIFIED:20240523T154646Z
UID:8868-1718409600-1718495999@www.caccautosport.org
SUMMARY:PRMA Autocross
DESCRIPTION:2024 Auto X Dates for Peace Region Motorsports Association \n May 5th/2024- Auto-X @ Taylor\, BC Chain-up Area \nJune 15-16th/2024- Auto-X 2 Day Event @ Quesnel Caribou Raceway\, Quesnel BC \nJune 30th/2024- Auto-X @ Home Hardware\, Fort St John\, BC \nJuly 27-28/2024- Auto-X 2 Day Event @ Quesnel Caribou Raceway\, Quesnel BC \nAugust 11/2024- Auto-X @ Taylor\, BC Chain-up Area \nAugust 25/2024- Auto-X @ Taylor\, BC Chain-up Area \n Event Itinerary for all PRMA run events.  \nNo Pre-Registration Available currently. We apologise for this inconvenience. \nRegistration opens at 9am and runs until 10am. \nDriver’s Meeting and course walk will take place at 1015-1030. It will be announced over loudspeaker for those attending the event. \nTech Inspections are to be submitted and waivers must be signed to obtain a wristband showing it to marshals before car will be let out on track.  \nFollowing a 1 car at a time\, timed lap event. \nCars on track by 1030am\, running until 1230pm APPRX. \n1230-115 Lunch break. \n130-4pm Cars back on track. \n4-5PM non-comp runs (Fun Runs) \n5-6pm Track cleanup.
URL:https://www.caccautosport.org/event/prma-autocross-16/
LOCATION:Quesnel Caribou Raceway Park\, 785 Oval Rd\, Quesnel\, BC\, V2J4R6\, Canada
CATEGORIES:Auto Slalom,Autocross
END:VEVENT
BEGIN:VEVENT
DTSTART;TZID=America/Vancouver:20240628T163000
DTEND;TZID=America/Vancouver:20240628T203000
DTSTAMP:20260425T114547
CREATED:20240317T171523Z
LAST-MODIFIED:20240419T163642Z
UID:8732-1719592200-1719606600@www.caccautosport.org
SUMMARY:OPDA Okanagan Autocross - Kelowna
DESCRIPTION:
URL:https://www.caccautosport.org/event/opda-okanagan-autocross-22/
LOCATION:Okanagan College West Lot\, 1000 K.L.O Road\, Kelowna\, BC\, Canada
CATEGORIES:Auto Slalom,Autocross
ORGANIZER;CN="Okanagan Precision Driving Association":MAILTO:web@okanaganautocross.net
END:VEVENT
BEGIN:VEVENT
DTSTART;VALUE=DATE:20240630
DTEND;VALUE=DATE:20240701
DTSTAMP:20260425T114547
CREATED:20240612T164351Z
LAST-MODIFIED:20240612T164351Z
UID:8886-1719705600-1719791999@www.caccautosport.org
SUMMARY:PRMA Autocross
DESCRIPTION:No Pre-Registration Available currently. We apologise for this inconvenience.\nRegistration opens at 9am and runs until 10am.\nDriver’s Meeting and course walk will take place at 1015-1030. It will be announced over loudspeaker for those attending the event.\nTech Inspections are to be submitted and waivers must be signed to obtain a wristband showing it to marshals before car will be let out on track.\nFollowing a 1 car at a time\, timed lap event.\nCars on track by 1030am\, running until 1230pm APPRX.\n1230-115 Lunch break.\n130-4pm Cars back on track.\n4-5PM non-comp runs (Fun Runs)\n5-6pm Track cleanup.
URL:https://www.caccautosport.org/event/prma-autocross-18/
LOCATION:Home Hardware Fort St. John\, 9820-108th Street\, Fort St. John\, BC\, V1J 0A7\, Canada
CATEGORIES:Auto Slalom,Autocross
END:VEVENT
BEGIN:VEVENT
DTSTART;TZID=America/Vancouver:20240630T073000
DTEND;TZID=America/Vancouver:20240630T150000
DTSTAMP:20260425T114547
CREATED:20240319T161036Z
LAST-MODIFIED:20240419T163502Z
UID:8744-1719732600-1719759600@www.caccautosport.org
SUMMARY:OPDA Okanagan Autocross - Vernon
DESCRIPTION:
URL:https://www.caccautosport.org/event/opda-okanagan-autocross-13/
LOCATION:Kal Tire Place\, 3445 43rd Avenue\, Vernon\, BC\, Canada
CATEGORIES:Auto Slalom,Autocross
ORGANIZER;CN="Okanagan Precision Driving Association":MAILTO:web@okanaganautocross.net
END:VEVENT
END:VCALENDAR