BEGIN:VCALENDAR
VERSION:2.0
PRODID:-//The Confederation of Autosport Car Clubs - ECPv6.15.20//NONSGML v1.0//EN
CALSCALE:GREGORIAN
METHOD:PUBLISH
X-ORIGINAL-URL:https://www.caccautosport.org
X-WR-CALDESC:Events for The Confederation of Autosport Car Clubs
REFRESH-INTERVAL;VALUE=DURATION:PT1H
X-Robots-Tag:noindex
X-PUBLISHED-TTL:PT1H
BEGIN:VTIMEZONE
TZID:America/Vancouver
BEGIN:DAYLIGHT
TZOFFSETFROM:-0800
TZOFFSETTO:-0700
TZNAME:PDT
DTSTART:20230312T100000
END:DAYLIGHT
BEGIN:STANDARD
TZOFFSETFROM:-0700
TZOFFSETTO:-0800
TZNAME:PST
DTSTART:20231105T090000
END:STANDARD
BEGIN:DAYLIGHT
TZOFFSETFROM:-0800
TZOFFSETTO:-0700
TZNAME:PDT
DTSTART:20240310T100000
END:DAYLIGHT
BEGIN:STANDARD
TZOFFSETFROM:-0700
TZOFFSETTO:-0800
TZNAME:PST
DTSTART:20241103T090000
END:STANDARD
BEGIN:DAYLIGHT
TZOFFSETFROM:-0800
TZOFFSETTO:-0700
TZNAME:PDT
DTSTART:20250309T100000
END:DAYLIGHT
BEGIN:STANDARD
TZOFFSETFROM:-0700
TZOFFSETTO:-0800
TZNAME:PST
DTSTART:20251102T090000
END:STANDARD
END:VTIMEZONE
BEGIN:VEVENT
DTSTART;TZID=America/Vancouver:20240803T073000
DTEND;TZID=America/Vancouver:20240803T150000
DTSTAMP:20260425T062243
CREATED:20240419T163240Z
LAST-MODIFIED:20240419T163240Z
UID:8809-1722670200-1722697200@www.caccautosport.org
SUMMARY:OPDA Okanagan Autocross - Vernon
DESCRIPTION:
URL:https://www.caccautosport.org/event/opda-okanagan-autocross-vernon-6/
LOCATION:Kal Tire Place\, 3445 43rd Avenue\, Vernon\, BC\, Canada
CATEGORIES:Administration,Autocross
ORGANIZER;CN="Okanagan Precision Driving Association":MAILTO:web@okanaganautocross.net
END:VEVENT
BEGIN:VEVENT
DTSTART;TZID=America/Vancouver:20240809T163000
DTEND;TZID=America/Vancouver:20240809T203000
DTSTAMP:20260425T062243
CREATED:20240317T171804Z
LAST-MODIFIED:20240419T163555Z
UID:8740-1723221000-1723235400@www.caccautosport.org
SUMMARY:OPDA Okanagan Autocross - Kelowna
DESCRIPTION:
URL:https://www.caccautosport.org/event/opda-okanagan-autocross-26/
LOCATION:Okanagan College West Lot\, 1000 K.L.O Road\, Kelowna\, BC\, Canada
CATEGORIES:Auto Slalom,Autocross
ORGANIZER;CN="Okanagan Precision Driving Association":MAILTO:web@okanaganautocross.net
END:VEVENT
BEGIN:VEVENT
DTSTART;TZID=America/Vancouver:20240811T090000
DTEND;TZID=America/Vancouver:20240811T180000
DTSTAMP:20260425T062243
CREATED:20240418T142349Z
LAST-MODIFIED:20240418T142349Z
UID:8801-1723366800-1723399200@www.caccautosport.org
SUMMARY:PRMA Autocross
DESCRIPTION:Event Itinerary for all PRMA run events.\nNo Pre-Registration Available currently. We apologise for this inconvenience.\nRegistration opens at 9am and runs until 10am.\nDriver’s Meeting and course walk will take place at 1015-1030. It will be announced over loudspeaker for those attending the event.\nTech Inspections are to be submitted and waivers must be signed to obtain a wristband showing it to marshals before car will be let out on track.\nFollowing a 1 car at a time\, timed lap event.\nCars on track by 1030am\, running until 1230pm APPRX.\n1230-115 Lunch break.\n130-4pm Cars back on track.\n4-5PM non-comp runs (Fun Runs)\n5-6pm Track cleanup.
URL:https://www.caccautosport.org/event/prma-autocross-14/
LOCATION:Taylor Chain-up\, Taylor Hill\, Taylor\, BC\, Canada
CATEGORIES:Auto Slalom,Autocross
END:VEVENT
BEGIN:VEVENT
DTSTART;TZID=America/Vancouver:20240823T043000
DTEND;TZID=America/Vancouver:20240823T203000
DTSTAMP:20260425T062243
CREATED:20240309T160505Z
LAST-MODIFIED:20240419T164021Z
UID:8691-1724387400-1724445000@www.caccautosport.org
SUMMARY:OPDA Okanagan Autocross - Kelowna
DESCRIPTION:
URL:https://www.caccautosport.org/event/opda-okanagan-autocross-8/
LOCATION:Okanagan College West Lot\, 1000 K.L.O Road\, Kelowna\, BC\, Canada
CATEGORIES:Auto Slalom,Autocross
ORGANIZER;CN="Okanagan Precision Driving Association":MAILTO:web@okanaganautocross.net
END:VEVENT
BEGIN:VEVENT
DTSTART;TZID=America/Vancouver:20240825T090000
DTEND;TZID=America/Vancouver:20240825T180000
DTSTAMP:20260425T062243
CREATED:20240418T142445Z
LAST-MODIFIED:20240418T142445Z
UID:8803-1724576400-1724608800@www.caccautosport.org
SUMMARY:PRMA Autocross
DESCRIPTION:Event Itinerary for all PRMA run events.\nNo Pre-Registration Available currently. We apologise for this inconvenience.\nRegistration opens at 9am and runs until 10am.\nDriver’s Meeting and course walk will take place at 1015-1030. It will be announced over loudspeaker for those attending the event.\nTech Inspections are to be submitted and waivers must be signed to obtain a wristband showing it to marshals before car will be let out on track.\nFollowing a 1 car at a time\, timed lap event.\nCars on track by 1030am\, running until 1230pm APPRX.\n1230-115 Lunch break.\n130-4pm Cars back on track.\n4-5PM non-comp runs (Fun Runs)\n5-6pm Track cleanup.
URL:https://www.caccautosport.org/event/prma-autocross-15/
LOCATION:Taylor Chain-up\, Taylor Hill\, Taylor\, BC\, Canada
CATEGORIES:Auto Slalom,Autocross
END:VEVENT
BEGIN:VEVENT
DTSTART;TZID=America/Vancouver:20240830T163000
DTEND;TZID=America/Vancouver:20240830T203000
DTSTAMP:20260425T062243
CREATED:20240317T170952Z
LAST-MODIFIED:20240419T163954Z
UID:8716-1725035400-1725049800@www.caccautosport.org
SUMMARY:OPDA Okanagan Autocross - Kelowna
DESCRIPTION:
URL:https://www.caccautosport.org/event/opda-okanagan-autocross-14/
LOCATION:Okanagan College West Lot\, 1000 K.L.O Road\, Kelowna\, BC\, Canada
CATEGORIES:Auto Slalom,Autocross
ORGANIZER;CN="Okanagan Precision Driving Association":MAILTO:web@okanaganautocross.net
END:VEVENT
END:VCALENDAR