BEGIN:VCALENDAR
VERSION:2.0
PRODID:-//The Confederation of Autosport Car Clubs - ECPv6.15.20//NONSGML v1.0//EN
CALSCALE:GREGORIAN
METHOD:PUBLISH
X-WR-CALNAME:The Confederation of Autosport Car Clubs
X-ORIGINAL-URL:https://www.caccautosport.org
X-WR-CALDESC:Events for The Confederation of Autosport Car Clubs
REFRESH-INTERVAL;VALUE=DURATION:PT1H
X-Robots-Tag:noindex
X-PUBLISHED-TTL:PT1H
BEGIN:VTIMEZONE
TZID:America/Vancouver
BEGIN:DAYLIGHT
TZOFFSETFROM:-0800
TZOFFSETTO:-0700
TZNAME:PDT
DTSTART:20230312T100000
END:DAYLIGHT
BEGIN:STANDARD
TZOFFSETFROM:-0700
TZOFFSETTO:-0800
TZNAME:PST
DTSTART:20231105T090000
END:STANDARD
BEGIN:DAYLIGHT
TZOFFSETFROM:-0800
TZOFFSETTO:-0700
TZNAME:PDT
DTSTART:20240310T100000
END:DAYLIGHT
BEGIN:STANDARD
TZOFFSETFROM:-0700
TZOFFSETTO:-0800
TZNAME:PST
DTSTART:20241103T090000
END:STANDARD
BEGIN:DAYLIGHT
TZOFFSETFROM:-0800
TZOFFSETTO:-0700
TZNAME:PDT
DTSTART:20250309T100000
END:DAYLIGHT
BEGIN:STANDARD
TZOFFSETFROM:-0700
TZOFFSETTO:-0800
TZNAME:PST
DTSTART:20251102T090000
END:STANDARD
END:VTIMEZONE
BEGIN:VEVENT
DTSTART;TZID=America/Vancouver:20240908T073000
DTEND;TZID=America/Vancouver:20240908T150000
DTSTAMP:20260425T051217
CREATED:20240418T175934Z
LAST-MODIFIED:20240419T163422Z
UID:8805-1725780600-1725807600@www.caccautosport.org
SUMMARY:OPDA Okanagan Autocross - Vernon
DESCRIPTION:Check-in Opens 7:30 AM\nCheck-in Closes 8:00 AM\nCourse Walk Starts 8:00 AM\nDrivers Meeting Starts 8:45 AM\nCompetition Starts 9:00 AM\nCompetition Complete 3:00 PM
URL:https://www.caccautosport.org/event/opda-okanagan-autocross-9/
LOCATION:Kal Tire Place\, 3445 43rd Avenue\, Vernon\, BC\, Canada
CATEGORIES:Auto Slalom,Autocross
ORGANIZER;CN="Okanagan Precision Driving Association":MAILTO:web@okanaganautocross.net
END:VEVENT
BEGIN:VEVENT
DTSTART;TZID=America/Vancouver:20240921T073000
DTEND;TZID=America/Vancouver:20240922T150000
DTSTAMP:20260425T051218
CREATED:20240418T180110Z
LAST-MODIFIED:20240418T180110Z
UID:8807-1726903800-1727017200@www.caccautosport.org
SUMMARY:OPDA Okanagan Autocross 2-Day Eliminator
DESCRIPTION:Check-in Opens 7:30 AM\nCheck-in Closes 8:00 AM\nCourse Walk Starts 8:00 AM\nDrivers Meeting Starts 8:45 AM\nCompetition Starts 9:00 AM\nCompetition Complete 3:00 PM
URL:https://www.caccautosport.org/event/opda-okanagan-autocross-2-day-eliminator-2/
LOCATION:Kal Tire Place\, 3445 43rd Avenue\, Vernon\, BC\, Canada
CATEGORIES:Auto Slalom,Autocross
ORGANIZER;CN="Okanagan Precision Driving Association":MAILTO:web@okanaganautocross.net
END:VEVENT
BEGIN:VEVENT
DTSTART;VALUE=DATE:20240928
DTEND;VALUE=DATE:20240929
DTSTAMP:20260425T051218
CREATED:20240909T161205Z
LAST-MODIFIED:20240909T161205Z
UID:8920-1727481600-1727567999@www.caccautosport.org
SUMMARY:VCMC Autoslalom Test and Tune
DESCRIPTION:
URL:https://www.caccautosport.org/event/vcmc-autoslalom-test-and-tune/
LOCATION:Merritt Regional Airport\, 4510 Airport Rd\, Merritt\, BC\, V1K 1M5\, Canada
CATEGORIES:Auto Slalom,Autocross
END:VEVENT
BEGIN:VEVENT
DTSTART;VALUE=DATE:20240929
DTEND;VALUE=DATE:20240930
DTSTAMP:20260425T051218
CREATED:20240909T161252Z
LAST-MODIFIED:20240909T161252Z
UID:8922-1727568000-1727654399@www.caccautosport.org
SUMMARY:VCMC Autoslalom
DESCRIPTION:
URL:https://www.caccautosport.org/event/vcmc-autoslalom-7/
LOCATION:Merritt Regional Airport\, 4510 Airport Rd\, Merritt\, BC\, V1K 1M5\, Canada
CATEGORIES:Auto Slalom,Autocross
END:VEVENT
END:VCALENDAR