BEGIN:VCALENDAR
VERSION:2.0
PRODID:-//The Confederation of Autosport Car Clubs - ECPv6.15.20//NONSGML v1.0//EN
CALSCALE:GREGORIAN
METHOD:PUBLISH
X-ORIGINAL-URL:https://www.caccautosport.org
X-WR-CALDESC:Events for The Confederation of Autosport Car Clubs
REFRESH-INTERVAL;VALUE=DURATION:PT1H
X-Robots-Tag:noindex
X-PUBLISHED-TTL:PT1H
BEGIN:VTIMEZONE
TZID:America/Vancouver
BEGIN:DAYLIGHT
TZOFFSETFROM:-0800
TZOFFSETTO:-0700
TZNAME:PDT
DTSTART:20200308T100000
END:DAYLIGHT
BEGIN:STANDARD
TZOFFSETFROM:-0700
TZOFFSETTO:-0800
TZNAME:PST
DTSTART:20201101T090000
END:STANDARD
BEGIN:DAYLIGHT
TZOFFSETFROM:-0800
TZOFFSETTO:-0700
TZNAME:PDT
DTSTART:20210314T100000
END:DAYLIGHT
BEGIN:STANDARD
TZOFFSETFROM:-0700
TZOFFSETTO:-0800
TZNAME:PST
DTSTART:20211107T090000
END:STANDARD
BEGIN:DAYLIGHT
TZOFFSETFROM:-0800
TZOFFSETTO:-0700
TZNAME:PDT
DTSTART:20220313T100000
END:DAYLIGHT
BEGIN:STANDARD
TZOFFSETFROM:-0700
TZOFFSETTO:-0800
TZNAME:PST
DTSTART:20221106T090000
END:STANDARD
END:VTIMEZONE
BEGIN:VEVENT
DTSTART;VALUE=DATE:20210711
DTEND;VALUE=DATE:20210712
DTSTAMP:20260424T204702
CREATED:20210618T160934Z
LAST-MODIFIED:20210621T150049Z
UID:3702-1625961600-1626047999@www.caccautosport.org
SUMMARY:PRMA Autocross
DESCRIPTION:
URL:https://www.caccautosport.org/event/prma-autocross/
LOCATION:Taylor Chain-up\, Taylor Hill\, Taylor\, BC\, Canada
CATEGORIES:Autocross
END:VEVENT
BEGIN:VEVENT
DTSTART;TZID=America/Vancouver:20210709T170000
DTEND;TZID=America/Vancouver:20210709T203000
DTSTAMP:20260424T204702
CREATED:20210528T151948Z
LAST-MODIFIED:20210528T152655Z
UID:3397-1625850000-1625862600@www.caccautosport.org
SUMMARY:Okanagan Autocross - Kelowna
DESCRIPTION:
URL:https://www.caccautosport.org/event/kelowna-autocross-2/
LOCATION:Okanagan College West Lot\, 1000 K.L.O Road\, Kelowna\, BC\, Canada
CATEGORIES:Autocross
ORGANIZER;CN="Okanagan Precision Driving Association":MAILTO:web@okanaganautocross.net
END:VEVENT
BEGIN:VEVENT
DTSTART;VALUE=DATE:20210705
DTEND;VALUE=DATE:20210706
DTSTAMP:20260424T204702
CREATED:20210629T153545Z
LAST-MODIFIED:20210629T153545Z
UID:3758-1625443200-1625529599@www.caccautosport.org
SUMMARY:VCMC Autocross
DESCRIPTION:
URL:https://www.caccautosport.org/event/vcmc-autocross-2/
LOCATION:Mission Raceway Park\, 32670 Dyke Road\, Mission\, BC\, Canada
CATEGORIES:Autocross
END:VEVENT
BEGIN:VEVENT
DTSTART;VALUE=DATE:20210704
DTEND;VALUE=DATE:20210705
DTSTAMP:20260424T204702
CREATED:20210618T161327Z
LAST-MODIFIED:20210618T161327Z
UID:3707-1625356800-1625443199@www.caccautosport.org
SUMMARY:PRMA Autocross
DESCRIPTION:
URL:https://www.caccautosport.org/event/prma-autocross-3/
LOCATION:Home Hardware Fort St. John\, 9820-108th Street\, Fort St. John\, BC\, V1J 0A7\, Canada
CATEGORIES:Autocross
END:VEVENT
BEGIN:VEVENT
DTSTART;TZID=America/Vancouver:20210627T080000
DTEND;TZID=America/Vancouver:20210627T160000
DTSTAMP:20260424T204702
CREATED:20210528T152030Z
LAST-MODIFIED:20210528T152713Z
UID:3396-1624780800-1624809600@www.caccautosport.org
SUMMARY:Okanagan Autocross - Vernon
DESCRIPTION:
URL:https://www.caccautosport.org/event/vernon-autocross/
LOCATION:Kal Tire Place\, 3445 43rd Avenue\, Vernon\, BC\, Canada
CATEGORIES:Autocross
ORGANIZER;CN="Okanagan Precision Driving Association":MAILTO:web@okanaganautocross.net
END:VEVENT
BEGIN:VEVENT
DTSTART;TZID=America/Vancouver:20210625T170000
DTEND;TZID=America/Vancouver:20210625T203000
DTSTAMP:20260424T204702
CREATED:20210528T152148Z
LAST-MODIFIED:20210528T152840Z
UID:3395-1624640400-1624653000@www.caccautosport.org
SUMMARY:Okanagan Autocross - Kelowna
DESCRIPTION:
URL:https://www.caccautosport.org/event/kelowna-autocross-3/
LOCATION:Okanagan College West Lot\, 1000 K.L.O Road\, Kelowna\, BC\, Canada
CATEGORIES:Autocross
ORGANIZER;CN="Okanagan Precision Driving Association":MAILTO:web@okanaganautocross.net
END:VEVENT
BEGIN:VEVENT
DTSTART;VALUE=DATE:20210619
DTEND;VALUE=DATE:20210621
DTSTAMP:20260424T204702
CREATED:20210618T161457Z
LAST-MODIFIED:20210621T145939Z
UID:3709-1624060800-1624233599@www.caccautosport.org
SUMMARY:PRMA Autocross
DESCRIPTION:
URL:https://www.caccautosport.org/event/prma-autocross-4/
LOCATION:Quesnel Caribou Raceway Park\, 785 Oval Rd\, Quesnel\, BC\, V2J4R6\, Canada
CATEGORIES:Autocross
END:VEVENT
BEGIN:VEVENT
DTSTART;TZID=America/Vancouver:20210618T170000
DTEND;TZID=America/Vancouver:20210618T203000
DTSTAMP:20260424T204702
CREATED:20210528T152255Z
LAST-MODIFIED:20210528T152852Z
UID:3394-1624035600-1624048200@www.caccautosport.org
SUMMARY:Okanagan Autocross - Kelowna
DESCRIPTION:
URL:https://www.caccautosport.org/event/kelowna-autocross-4/
LOCATION:Okanagan College West Lot\, 1000 K.L.O Road\, Kelowna\, BC\, Canada
CATEGORIES:Autocross
ORGANIZER;CN="Okanagan Precision Driving Association":MAILTO:web@okanaganautocross.net
END:VEVENT
BEGIN:VEVENT
DTSTART;TZID=America/Vancouver:20210613T080000
DTEND;TZID=America/Vancouver:20210613T170000
DTSTAMP:20260424T204702
CREATED:20210601T205829Z
LAST-MODIFIED:20210603T233205Z
UID:3524-1623571200-1623603600@www.caccautosport.org
SUMMARY:VMSC Autocross
DESCRIPTION:
URL:https://www.caccautosport.org/event/vmsc-autocross/
LOCATION:Westshore Motorsports Park\, 2207 Millstream Rd\, Victoria\, BC\, V9B0J7\, Canada
CATEGORIES:Autocross
END:VEVENT
BEGIN:VEVENT
DTSTART;TZID=America/Vancouver:20210613T080000
DTEND;TZID=America/Vancouver:20210613T170000
DTSTAMP:20260424T204702
CREATED:20210531T154606Z
LAST-MODIFIED:20210604T030416Z
UID:3510-1623571200-1623603600@www.caccautosport.org
SUMMARY:VCMC Autocross
DESCRIPTION:
URL:https://www.caccautosport.org/event/vcmc-autocross/
LOCATION:Mission Raceway Park\, 32670 Dyke Road\, Mission\, BC\, Canada
CATEGORIES:Autocross
END:VEVENT
BEGIN:VEVENT
DTSTART;TZID=America/Vancouver:20210611T170000
DTEND;TZID=America/Vancouver:20210611T203000
DTSTAMP:20260424T204702
CREATED:20210528T152327Z
LAST-MODIFIED:20210528T152906Z
UID:3393-1623430800-1623443400@www.caccautosport.org
SUMMARY:Okanagan Autocross - Kelowna
DESCRIPTION:
URL:https://www.caccautosport.org/event/kelowna-autocross-5/
LOCATION:Okanagan College West Lot\, 1000 K.L.O Road\, Kelowna\, BC\, Canada
CATEGORIES:Autocross
ORGANIZER;CN="Okanagan Precision Driving Association":MAILTO:web@okanaganautocross.net
END:VEVENT
BEGIN:VEVENT
DTSTART;TZID=America/Vancouver:20210606T080000
DTEND;TZID=America/Vancouver:20210606T160000
DTSTAMP:20260424T204702
CREATED:20210528T152355Z
LAST-MODIFIED:20210528T152926Z
UID:3392-1622966400-1622995200@www.caccautosport.org
SUMMARY:Okanagan Autocross - Vernon
DESCRIPTION:
URL:https://www.caccautosport.org/event/vernon-autocross-2/
LOCATION:Kal Tire Place\, 3445 43rd Avenue\, Vernon\, BC\, Canada
CATEGORIES:Autocross
ORGANIZER;CN="Okanagan Precision Driving Association":MAILTO:web@okanaganautocross.net
END:VEVENT
BEGIN:VEVENT
DTSTART;TZID=America/Vancouver:20210604T170000
DTEND;TZID=America/Vancouver:20210604T203000
DTSTAMP:20260424T204702
CREATED:20210528T152427Z
LAST-MODIFIED:20210528T152945Z
UID:3391-1622826000-1622838600@www.caccautosport.org
SUMMARY:Okanagan Autocross - Kelowna
DESCRIPTION:
URL:https://www.caccautosport.org/event/kelowna-autocross-6/
LOCATION:Kal Tire Place\, 3445 43rd Avenue\, Vernon\, BC\, Canada
CATEGORIES:Autocross
ORGANIZER;CN="Okanagan Precision Driving Association":MAILTO:web@okanaganautocross.net
END:VEVENT
BEGIN:VEVENT
DTSTART;TZID=America/Vancouver:20210530T080000
DTEND;TZID=America/Vancouver:20210530T160000
DTSTAMP:20260424T204702
CREATED:20210528T152456Z
LAST-MODIFIED:20210528T153150Z
UID:3390-1622361600-1622390400@www.caccautosport.org
SUMMARY:Okanagan Autocross - Vernon
DESCRIPTION:
URL:https://www.caccautosport.org/event/vernon-autocross-3/
LOCATION:Kal Tire Place\, 3445 43rd Avenue\, Vernon\, BC\, Canada
CATEGORIES:Autocross
ORGANIZER;CN="Okanagan Precision Driving Association":MAILTO:web@okanaganautocross.net
END:VEVENT
BEGIN:VEVENT
DTSTART;TZID=America/Vancouver:20210528T170000
DTEND;TZID=America/Vancouver:20210528T210000
DTSTAMP:20260424T204702
CREATED:20210524T215657Z
LAST-MODIFIED:20210526T034312Z
UID:3104-1622221200-1622235600@www.caccautosport.org
SUMMARY:Okanagan Autocross - Kelowna
DESCRIPTION:
URL:https://www.caccautosport.org/event/okanagan-autocross/
LOCATION:Okanagan College West Lot\, 1000 K.L.O Road\, Kelowna\, BC\, Canada
CATEGORIES:Autocross
ORGANIZER;CN="Okanagan Precision Driving Association":MAILTO:web@okanaganautocross.net
END:VEVENT
END:VCALENDAR