BEGIN:VCALENDAR
VERSION:2.0
PRODID:-//The Confederation of Autosport Car Clubs - ECPv6.15.20//NONSGML v1.0//EN
CALSCALE:GREGORIAN
METHOD:PUBLISH
X-WR-CALNAME:The Confederation of Autosport Car Clubs
X-ORIGINAL-URL:https://www.caccautosport.org
X-WR-CALDESC:Events for The Confederation of Autosport Car Clubs
REFRESH-INTERVAL;VALUE=DURATION:PT1H
X-Robots-Tag:noindex
X-PUBLISHED-TTL:PT1H
BEGIN:VTIMEZONE
TZID:America/Vancouver
BEGIN:DAYLIGHT
TZOFFSETFROM:-0800
TZOFFSETTO:-0700
TZNAME:PDT
DTSTART:20240310T100000
END:DAYLIGHT
BEGIN:STANDARD
TZOFFSETFROM:-0700
TZOFFSETTO:-0800
TZNAME:PST
DTSTART:20241103T090000
END:STANDARD
BEGIN:DAYLIGHT
TZOFFSETFROM:-0800
TZOFFSETTO:-0700
TZNAME:PDT
DTSTART:20250309T100000
END:DAYLIGHT
BEGIN:STANDARD
TZOFFSETFROM:-0700
TZOFFSETTO:-0800
TZNAME:PST
DTSTART:20251102T090000
END:STANDARD
BEGIN:DAYLIGHT
TZOFFSETFROM:-0800
TZOFFSETTO:-0700
TZNAME:PDT
DTSTART:20260308T100000
END:DAYLIGHT
BEGIN:STANDARD
TZOFFSETFROM:-0700
TZOFFSETTO:-0800
TZNAME:PST
DTSTART:20261101T090000
END:STANDARD
END:VTIMEZONE
BEGIN:VEVENT
DTSTART;VALUE=DATE:20250607
DTEND;VALUE=DATE:20250609
DTSTAMP:20260423T165323
CREATED:20250506T182444Z
LAST-MODIFIED:20250529T020758Z
UID:9336-1749254400-1749427199@www.caccautosport.org
SUMMARY:VCMC Autoslalom
DESCRIPTION:The Event – Cup 1 (Saturday) VCMC is excited to bring you the first 2025 AutoX weekend in Merritt\, BC at the Airport. This event is the first in the year and will be a double header (Saturday and Sunday). Each day is a seperate event and you can sign up for one or both (search Cup 2 for the Sunday event). The facility offers a large apron and a full runway that can be used for the event surface. The Saturday event starts later to allow for people to have time to travel in the morning of to save on hotel costs for people who want to do both days. \nThe event is capped at 90 participants. \nSpectators are welcome. \nNo drop-in\, online registration only (closes 48 hours before the day of the event) \nPlease note that 2010 helmets are NOT qualified anymore \nThere is camping space on site for tents and some RV’s Friday and Saturday night. Space is limited. \nJoin us for autoslalom at VCMC Cup 1 and 2 Merritt Airport! We are hosting dinner too! Pay $5 to get a $25 meal! We are excited to get everyone together and celebrate our shared love for motorsport. We’ll also have a heated hospitality tent for before\, during\, and after the event. We are ready for anything! Camping available on site. \nThis event schedule plan applies to all autoslalom events in VCMC’s 2025 season.\n7:30 AM Gates are open as well as Tech and Registration\n8:30 AM Tech and Registration Close\n8:30 AM Senior Driver lead novice course walk\n9:00 AM Drivers meeting\n9:30 AM First car\n5:00 PM Final Car\, Driver’s closing meeting
URL:https://www.caccautosport.org/event/vcmc-autoslalom-8/
LOCATION:Merritt Regional Airport\, 4510 Airport Rd\, Merritt\, BC\, V1K 1M5\, Canada
CATEGORIES:Auto Slalom,Autoslalom - Open
END:VEVENT
END:VCALENDAR