BEGIN:VCALENDAR
VERSION:2.0
PRODID:-//The Confederation of Autosport Car Clubs - ECPv6.15.20//NONSGML v1.0//EN
CALSCALE:GREGORIAN
METHOD:PUBLISH
X-WR-CALNAME:The Confederation of Autosport Car Clubs
X-ORIGINAL-URL:https://www.caccautosport.org
X-WR-CALDESC:Events for The Confederation of Autosport Car Clubs
REFRESH-INTERVAL;VALUE=DURATION:PT1H
X-Robots-Tag:noindex
X-PUBLISHED-TTL:PT1H
BEGIN:VTIMEZONE
TZID:America/Vancouver
BEGIN:DAYLIGHT
TZOFFSETFROM:-0800
TZOFFSETTO:-0700
TZNAME:PDT
DTSTART:20240310T100000
END:DAYLIGHT
BEGIN:STANDARD
TZOFFSETFROM:-0700
TZOFFSETTO:-0800
TZNAME:PST
DTSTART:20241103T090000
END:STANDARD
BEGIN:DAYLIGHT
TZOFFSETFROM:-0800
TZOFFSETTO:-0700
TZNAME:PDT
DTSTART:20250309T100000
END:DAYLIGHT
BEGIN:STANDARD
TZOFFSETFROM:-0700
TZOFFSETTO:-0800
TZNAME:PST
DTSTART:20251102T090000
END:STANDARD
BEGIN:DAYLIGHT
TZOFFSETFROM:-0800
TZOFFSETTO:-0700
TZNAME:PDT
DTSTART:20260308T100000
END:DAYLIGHT
BEGIN:STANDARD
TZOFFSETFROM:-0700
TZOFFSETTO:-0800
TZNAME:PST
DTSTART:20261101T090000
END:STANDARD
END:VTIMEZONE
BEGIN:VEVENT
DTSTART;TZID=America/Vancouver:20250711T163000
DTEND;TZID=America/Vancouver:20250711T203000
DTSTAMP:20260423T213044
CREATED:20250604T161455Z
LAST-MODIFIED:20250604T162147Z
UID:9380-1752251400-1752265800@www.caccautosport.org
SUMMARY:OPDA Okanagan Autocross - Kelowna
DESCRIPTION:This Okanagan Autocross event is being held at Okanagan College\, west parking lot\, 1000 K.L.O. Road in Kelowna\, BC. \n3:30 PM – Setup begins\n4:30 PM – Onsite check-in\n5:00 PM – Course walk\n5:45 PM – Driver’s meeting\n6:00 PM – Competition begins \nAll competitors must check-in at the registration table on arrival and complete the course walk in order to participate in the event. \nParticipants must be familiar with the OPDA Okanagan Autoslalom Supplementary Regulations and the CACC Autoslalom Regulations. \nPlease remember that an approved helmet is required\, and that no open-toed shoes are allowed. Also note that\, competitors are required to submit a completed technical self-declaration form to the technical inspector once annually for each vehicle used in an Okanagan Autocross event. \nThe Okanagan Precision Driving Association reserves the right to retain all or partial payment for cancellations less than 48 hours before the event. Failing to appear (no-show) will result in a full forfeit of the event fee. If you wish to cancel your event registration\, please visit the event dashboard and choose “Cancel registration”.
URL:https://www.caccautosport.org/event/opda-autoslalom-restricted-2/
LOCATION:Okanagan College West Lot\, 1000 K.L.O Road\, Kelowna\, BC\, Canada
CATEGORIES:Autocross,Autoslalom
ORGANIZER;CN="Okanagan Precision Driving Association":MAILTO:web@okanaganautocross.net
END:VEVENT
BEGIN:VEVENT
DTSTART;TZID=America/Vancouver:20250725T163000
DTEND;TZID=America/Vancouver:20250725T163000
DTSTAMP:20260423T213044
CREATED:20250604T161912Z
LAST-MODIFIED:20250604T162122Z
UID:9382-1753461000-1753461000@www.caccautosport.org
SUMMARY:OPDA Okanagan Autocross - Kelowna
DESCRIPTION:This Okanagan Autocross event is being held at Okanagan College\, west parking lot\, 1000 K.L.O. Road in Kelowna\, BC. \n3:30 PM – Setup begins\n4:30 PM – Onsite check-in\n5:00 PM – Course walk\n5:45 PM – Driver’s meeting\n6:00 PM – Competition begins \nAll competitors must check-in at the registration table on arrival and complete the course walk in order to participate in the event. \nParticipants must be familiar with the OPDA Okanagan Autoslalom Supplementary Regulations and the CACC Autoslalom Regulations. \nPlease remember that an approved helmet is required\, and that no open-toed shoes are allowed. Also note that\, competitors are required to submit a completed technical self-declaration form to the technical inspector once annually for each vehicle used in an Okanagan Autocross event. \nThe Okanagan Precision Driving Association reserves the right to retain all or partial payment for cancellations less than 48 hours before the event. Failing to appear (no-show) will result in a full forfeit of the event fee. If you wish to cancel your event registration\, please visit the event dashboard and choose “Cancel registration”.
URL:https://www.caccautosport.org/event/opda-autocross-kelowna-2/
LOCATION:Okanagan College West Lot\, 1000 K.L.O Road\, Kelowna\, BC\, Canada
CATEGORIES:Autocross,Autoslalom
ORGANIZER;CN="Okanagan Precision Driving Association":MAILTO:web@okanaganautocross.net
END:VEVENT
END:VCALENDAR