BEGIN:VCALENDAR
VERSION:2.0
PRODID:-//The Confederation of Autosport Car Clubs - ECPv6.15.20//NONSGML v1.0//EN
CALSCALE:GREGORIAN
METHOD:PUBLISH
X-WR-CALNAME:The Confederation of Autosport Car Clubs
X-ORIGINAL-URL:https://www.caccautosport.org
X-WR-CALDESC:Events for The Confederation of Autosport Car Clubs
REFRESH-INTERVAL;VALUE=DURATION:PT1H
X-Robots-Tag:noindex
X-PUBLISHED-TTL:PT1H
BEGIN:VTIMEZONE
TZID:America/Vancouver
BEGIN:DAYLIGHT
TZOFFSETFROM:-0800
TZOFFSETTO:-0700
TZNAME:PDT
DTSTART:20240310T100000
END:DAYLIGHT
BEGIN:STANDARD
TZOFFSETFROM:-0700
TZOFFSETTO:-0800
TZNAME:PST
DTSTART:20241103T090000
END:STANDARD
BEGIN:DAYLIGHT
TZOFFSETFROM:-0800
TZOFFSETTO:-0700
TZNAME:PDT
DTSTART:20250309T100000
END:DAYLIGHT
BEGIN:STANDARD
TZOFFSETFROM:-0700
TZOFFSETTO:-0800
TZNAME:PST
DTSTART:20251102T090000
END:STANDARD
BEGIN:DAYLIGHT
TZOFFSETFROM:-0800
TZOFFSETTO:-0700
TZNAME:PDT
DTSTART:20260308T100000
END:DAYLIGHT
BEGIN:STANDARD
TZOFFSETFROM:-0700
TZOFFSETTO:-0800
TZNAME:PST
DTSTART:20261101T090000
END:STANDARD
BEGIN:DAYLIGHT
TZOFFSETFROM:-0800
TZOFFSETTO:-0700
TZNAME:PDT
DTSTART:20270314T100000
END:DAYLIGHT
BEGIN:STANDARD
TZOFFSETFROM:-0700
TZOFFSETTO:-0800
TZNAME:PST
DTSTART:20271107T090000
END:STANDARD
END:VTIMEZONE
BEGIN:VEVENT
DTSTART;TZID=America/Vancouver:20250920T073000
DTEND;TZID=America/Vancouver:20250921T160000
DTSTAMP:20260424T065813
CREATED:20250604T163731Z
LAST-MODIFIED:20250604T163731Z
UID:9402-1758353400-1758470400@www.caccautosport.org
SUMMARY:OPDA Okanagan Autocross – Vernon 2-Day Eliminator
DESCRIPTION:OPDA Okanagan Autocross Annual 2-Day Eliminator \nThis Okanagan Autocross event is being held at Kal Tire Place\, 3445 43rd Avenue\, Vernon\, BC. Please be aware of the morning schedule to ensure you arrive on time. \n7:30 AM – Onsite check-in\n8:00 AM – Course walk\n8:45 AM – Driver’s meeting\n9:00 AM – Competition begins \nAll competitors must check-in at the registration table on arrival and complete the course walk in order to participate in the event. \nParticipants must be familiar with the OPDA Okanagan Autoslalom Supplementary Regulations and the CACC Autoslalom Regulations. \nPlease remember that an approved helmet is required\, and that no open-toed shoes are allowed. Also note that\, competitors are required to submit a completed technical self-declaration form to the technical inspector once annually for each vehicle used in an Okanagan Autocross event. \nThe Okanagan Precision Driving Association reserves the right to retain all or partial payment for cancellations less than 48 hours before the event. Failing to appear (no-show) will result in a full forfeit of the event fee. If you wish to cancel your event registration\, please visit the event dashboard and choose “Cancel registration”.
URL:https://www.caccautosport.org/event/opda-okanagan-autocross-vernon-2-day-eliminator/
LOCATION:Kal Tire Place\, 3445 43rd Avenue\, Vernon\, BC\, Canada
CATEGORIES:Autocross,Autoslalom
ORGANIZER;CN="Okanagan Precision Driving Association":MAILTO:web@okanaganautocross.net
END:VEVENT
BEGIN:VEVENT
DTSTART;TZID=America/Vancouver:20251027T190000
DTEND;TZID=America/Vancouver:20251027T200000
DTSTAMP:20260424T065813
CREATED:20250917T001557Z
LAST-MODIFIED:20251023T045227Z
UID:9440-1761591600-1761595200@www.caccautosport.org
SUMMARY:2025 Autoslalom Discipline Fall Meeting
DESCRIPTION:
URL:https://www.caccautosport.org/event/2025-autoslalom-fall-discipline-meeting/
LOCATION:Virtual Meeting
CATEGORIES:Administration,Autoslalom,Discipline Meeting
END:VEVENT
BEGIN:VEVENT
DTSTART;VALUE=DATE:20260215
DTEND;VALUE=DATE:20260216
DTSTAMP:20260424T065813
CREATED:20260209T215002Z
LAST-MODIFIED:20260209T215002Z
UID:9650-1771113600-1771199999@www.caccautosport.org
SUMMARY:VMSC Autoslalom
DESCRIPTION:Applicable to all Victoria Motor Sports Club Autoslalom events at Vancouver Island Motorsport Circuit for 2026 \nVenue:\nVancouver Island Motorsports Circuit (VIMC)\n4063 Cowichan Valley Hwy\, Duncan\, BC V9L 6K4 \nEvent Schedule:\n0930 Gates Open for Registration and Tech\n0940 Course open for walking\n1030 Novice Briefing\n1040 Drivers Meeting\n1100 First run group on track\n1500 Last group off track – Actual time may vary.  \nRun Groups/Work Assignments:\nEntrants will be assigned a run group and a work assignment at registration.
URL:https://www.caccautosport.org/event/vmsc-autoslalom-12/
LOCATION:Vancouver Island Motorsport Circuit\, 4063 Cowichan Valley Hwy\, Lake Cowichan\, BC\, V9L 6K4\, Canada
CATEGORIES:Autoslalom
END:VEVENT
BEGIN:VEVENT
DTSTART;TZID=America/Vancouver:20260309T190000
DTEND;TZID=America/Vancouver:20260309T200000
DTSTAMP:20260424T065813
CREATED:20260309T152830Z
LAST-MODIFIED:20260309T152839Z
UID:9757-1773082800-1773086400@www.caccautosport.org
SUMMARY:CACC Autoslalom Discipline Meeting
DESCRIPTION:
URL:https://www.caccautosport.org/event/cacc-autoslalom-discipline-meeting/
LOCATION:Virtual Meeting
CATEGORIES:Administration,Autocross,Autoslalom,Discipline Meeting
END:VEVENT
BEGIN:VEVENT
DTSTART;VALUE=DATE:20260322
DTEND;VALUE=DATE:20260323
DTSTAMP:20260424T065813
CREATED:20260209T215032Z
LAST-MODIFIED:20260209T215032Z
UID:9651-1774137600-1774223999@www.caccautosport.org
SUMMARY:VMSC Autoslalom
DESCRIPTION:Applicable to all Victoria Motor Sports Club Autoslalom events at Vancouver Island Motorsport Circuit for 2026 \nVenue:\nVancouver Island Motorsports Circuit (VIMC)\n4063 Cowichan Valley Hwy\, Duncan\, BC V9L 6K4 \nEvent Schedule:\n0930 Gates Open for Registration and Tech\n0940 Course open for walking\n1030 Novice Briefing\n1040 Drivers Meeting\n1100 First run group on track\n1500 Last group off track – Actual time may vary.  \nRun Groups/Work Assignments:\nEntrants will be assigned a run group and a work assignment at registration.
URL:https://www.caccautosport.org/event/vmsc-autoslalom-13/
LOCATION:Vancouver Island Motorsport Circuit\, 4063 Cowichan Valley Hwy\, Lake Cowichan\, BC\, V9L 6K4\, Canada
CATEGORIES:Autoslalom
END:VEVENT
BEGIN:VEVENT
DTSTART;VALUE=DATE:20260412
DTEND;VALUE=DATE:20260413
DTSTAMP:20260424T065813
CREATED:20260209T215056Z
LAST-MODIFIED:20260209T215056Z
UID:9652-1775952000-1776038399@www.caccautosport.org
SUMMARY:VMSC Autoslalom
DESCRIPTION:Applicable to all Victoria Motor Sports Club Autoslalom events at Vancouver Island Motorsport Circuit for 2026 \nVenue:\nVancouver Island Motorsports Circuit (VIMC)\n4063 Cowichan Valley Hwy\, Duncan\, BC V9L 6K4 \nEvent Schedule:\n0930 Gates Open for Registration and Tech\n0940 Course open for walking\n1030 Novice Briefing\n1040 Drivers Meeting\n1100 First run group on track\n1500 Last group off track – Actual time may vary.  \nRun Groups/Work Assignments:\nEntrants will be assigned a run group and a work assignment at registration.
URL:https://www.caccautosport.org/event/vmsc-autoslalom-14/
LOCATION:Vancouver Island Motorsport Circuit\, 4063 Cowichan Valley Hwy\, Lake Cowichan\, BC\, V9L 6K4\, Canada
CATEGORIES:Autoslalom
END:VEVENT
BEGIN:VEVENT
DTSTART;TZID=America/Vancouver:20260417T163000
DTEND;TZID=America/Vancouver:20260417T203000
DTSTAMP:20260424T065813
CREATED:20260224T180002Z
LAST-MODIFIED:20260224T180002Z
UID:9705-1776443400-1776457800@www.caccautosport.org
SUMMARY:OPDA Friday Evening Autocross
DESCRIPTION:
URL:https://www.caccautosport.org/event/opda-friday-evening-autocross-10/
LOCATION:Okanagan College West Lot\, 1000 K.L.O Road\, Kelowna\, BC\, Canada
CATEGORIES:Autocross,Autoslalom
ORGANIZER;CN="Okanagan Precision Driving Association":MAILTO:web@okanaganautocross.net
END:VEVENT
BEGIN:VEVENT
DTSTART;TZID=America/Vancouver:20260418T073000
DTEND;TZID=America/Vancouver:20260418T153000
DTSTAMP:20260424T065813
CREATED:20260224T180002Z
LAST-MODIFIED:20260224T180002Z
UID:9706-1776497400-1776526200@www.caccautosport.org
SUMMARY:OPDA Introduction to Autocross
DESCRIPTION:
URL:https://www.caccautosport.org/event/opda-introduction-to-autocross-3/
LOCATION:Okanagan College West Lot\, 1000 K.L.O Road\, Kelowna\, BC\, Canada
CATEGORIES:Autocross,Autoslalom
ORGANIZER;CN="Okanagan Precision Driving Association":MAILTO:web@okanaganautocross.net
END:VEVENT
BEGIN:VEVENT
DTSTART;TZID=America/Vancouver:20260425T073000
DTEND;TZID=America/Vancouver:20260425T153000
DTSTAMP:20260424T065813
CREATED:20260224T180002Z
LAST-MODIFIED:20260224T180002Z
UID:9707-1777102200-1777131000@www.caccautosport.org
SUMMARY:OPDA Saturday Autocross
DESCRIPTION:
URL:https://www.caccautosport.org/event/opda-saturday-autocross-4/
LOCATION:Okanagan College West Lot\, 1000 K.L.O Road\, Kelowna\, BC\, Canada
CATEGORIES:Autocross,Autoslalom
ORGANIZER;CN="Okanagan Precision Driving Association":MAILTO:web@okanaganautocross.net
END:VEVENT
BEGIN:VEVENT
DTSTART;TZID=America/Vancouver:20260501T163000
DTEND;TZID=America/Vancouver:20260501T203000
DTSTAMP:20260424T065813
CREATED:20260224T180002Z
LAST-MODIFIED:20260224T180002Z
UID:9708-1777653000-1777667400@www.caccautosport.org
SUMMARY:OPDA Friday Evening Autocross
DESCRIPTION:
URL:https://www.caccautosport.org/event/opda-friday-evening-autocross-9/
LOCATION:Okanagan College West Lot\, 1000 K.L.O Road\, Kelowna\, BC\, Canada
CATEGORIES:Autocross,Autoslalom
ORGANIZER;CN="Okanagan Precision Driving Association":MAILTO:web@okanaganautocross.net
END:VEVENT
BEGIN:VEVENT
DTSTART;TZID=America/Vancouver:20260509T073000
DTEND;TZID=America/Vancouver:20260509T153000
DTSTAMP:20260424T065813
CREATED:20260224T180002Z
LAST-MODIFIED:20260224T180002Z
UID:9709-1778311800-1778340600@www.caccautosport.org
SUMMARY:OPDA Saturday Autocross
DESCRIPTION:
URL:https://www.caccautosport.org/event/opda-saturday-autocross-3/
LOCATION:Okanagan College West Lot\, 1000 K.L.O Road\, Kelowna\, BC\, Canada
CATEGORIES:Autocross,Autoslalom
ORGANIZER;CN="Okanagan Precision Driving Association":MAILTO:web@okanaganautocross.net
END:VEVENT
BEGIN:VEVENT
DTSTART;TZID=America/Vancouver:20260522T163000
DTEND;TZID=America/Vancouver:20260522T203000
DTSTAMP:20260424T065813
CREATED:20260224T180002Z
LAST-MODIFIED:20260224T180002Z
UID:9710-1779467400-1779481800@www.caccautosport.org
SUMMARY:OPDA Friday Evening Autocross
DESCRIPTION:
URL:https://www.caccautosport.org/event/opda-friday-evening-autocross-8/
LOCATION:Okanagan College West Lot\, 1000 K.L.O Road\, Kelowna\, BC\, Canada
CATEGORIES:Autocross,Autoslalom
ORGANIZER;CN="Okanagan Precision Driving Association":MAILTO:web@okanaganautocross.net
END:VEVENT
BEGIN:VEVENT
DTSTART;VALUE=DATE:20260531
DTEND;VALUE=DATE:20260601
DTSTAMP:20260424T065813
CREATED:20260310T133852Z
LAST-MODIFIED:20260310T140745Z
UID:9769-1780185600-1780271999@www.caccautosport.org
SUMMARY:PRMA Autocross
DESCRIPTION:
URL:https://www.caccautosport.org/event/prma-autocross-19/
LOCATION:Taylor Chain-up\, Taylor Hill\, Taylor\, BC\, Canada
CATEGORIES:Autocross,Autoslalom
END:VEVENT
BEGIN:VEVENT
DTSTART;TZID=America/Vancouver:20260605T163000
DTEND;TZID=America/Vancouver:20260605T203000
DTSTAMP:20260424T065813
CREATED:20260224T180002Z
LAST-MODIFIED:20260224T180002Z
UID:9711-1780677000-1780691400@www.caccautosport.org
SUMMARY:OPDA Friday Evening Autocross
DESCRIPTION:
URL:https://www.caccautosport.org/event/opda-friday-evening-autocross-7/
LOCATION:Okanagan College West Lot\, 1000 K.L.O Road\, Kelowna\, BC\, Canada
CATEGORIES:Autocross,Autoslalom
ORGANIZER;CN="Okanagan Precision Driving Association":MAILTO:web@okanaganautocross.net
END:VEVENT
BEGIN:VEVENT
DTSTART;VALUE=DATE:20260613
DTEND;VALUE=DATE:20260615
DTSTAMP:20260424T065813
CREATED:20260224T180002Z
LAST-MODIFIED:20260224T180002Z
UID:9712-1781308800-1781481599@www.caccautosport.org
SUMMARY:VCMC Merritt Autocross
DESCRIPTION:
URL:https://www.caccautosport.org/event/vcmc-merritt-autocross-3/
LOCATION:Merritt Regional Airport\, 4510 Airport Rd\, Merritt\, BC\, V1K 1M5\, Canada
CATEGORIES:Autocross,Autoslalom
END:VEVENT
BEGIN:VEVENT
DTSTART;TZID=America/Vancouver:20260619T163000
DTEND;TZID=America/Vancouver:20260619T203000
DTSTAMP:20260424T065813
CREATED:20260224T180002Z
LAST-MODIFIED:20260224T180002Z
UID:9713-1781886600-1781901000@www.caccautosport.org
SUMMARY:OPDA Friday Evening Autocross
DESCRIPTION:
URL:https://www.caccautosport.org/event/opda-friday-evening-autocross-6/
LOCATION:Okanagan College West Lot\, 1000 K.L.O Road\, Kelowna\, BC\, Canada
CATEGORIES:Autocross,Autoslalom
ORGANIZER;CN="Okanagan Precision Driving Association":MAILTO:web@okanaganautocross.net
END:VEVENT
BEGIN:VEVENT
DTSTART;VALUE=DATE:20260620
DTEND;VALUE=DATE:20260622
DTSTAMP:20260424T065813
CREATED:20260310T143631Z
LAST-MODIFIED:20260310T153310Z
UID:9774-1781913600-1782086399@www.caccautosport.org
SUMMARY:PRMA Autocross
DESCRIPTION:
URL:https://www.caccautosport.org/event/prma-autocross-20/
LOCATION:Quesnel Caribou Raceway Park\, 785 Oval Rd\, Quesnel\, BC\, V2J4R6\, Canada
CATEGORIES:Autocross,Autoslalom
END:VEVENT
BEGIN:VEVENT
DTSTART;TZID=America/Vancouver:20260627T073000
DTEND;TZID=America/Vancouver:20260627T153000
DTSTAMP:20260424T065813
CREATED:20260224T180002Z
LAST-MODIFIED:20260224T180002Z
UID:9714-1782545400-1782574200@www.caccautosport.org
SUMMARY:OPDA Saturday Autocross
DESCRIPTION:
URL:https://www.caccautosport.org/event/opda-saturday-autocross-2/
LOCATION:Okanagan College West Lot\, 1000 K.L.O Road\, Kelowna\, BC\, Canada
CATEGORIES:Autocross,Autoslalom
ORGANIZER;CN="Okanagan Precision Driving Association":MAILTO:web@okanaganautocross.net
END:VEVENT
BEGIN:VEVENT
DTSTART;VALUE=DATE:20260705
DTEND;VALUE=DATE:20260706
DTSTAMP:20260424T065813
CREATED:20260310T143734Z
LAST-MODIFIED:20260310T153254Z
UID:9776-1783209600-1783295999@www.caccautosport.org
SUMMARY:PRMA Autocross
DESCRIPTION:
URL:https://www.caccautosport.org/event/prma-autocross-21/
LOCATION:Home Hardware Fort St. John\, 9820-108th Street\, Fort St. John\, BC\, V1J 0A7\, Canada
CATEGORIES:Autocross,Autoslalom
END:VEVENT
BEGIN:VEVENT
DTSTART;TZID=America/Vancouver:20260710T163000
DTEND;TZID=America/Vancouver:20260710T203000
DTSTAMP:20260424T065813
CREATED:20260224T180002Z
LAST-MODIFIED:20260224T180002Z
UID:9715-1783701000-1783715400@www.caccautosport.org
SUMMARY:OPDA Friday Evening Autocross
DESCRIPTION:
URL:https://www.caccautosport.org/event/opda-friday-evening-autocross-5/
LOCATION:Okanagan College West Lot\, 1000 K.L.O Road\, Kelowna\, BC\, Canada
CATEGORIES:Autocross,Autoslalom
ORGANIZER;CN="Okanagan Precision Driving Association":MAILTO:web@okanaganautocross.net
END:VEVENT
BEGIN:VEVENT
DTSTART;TZID=America/Vancouver:20260724T163000
DTEND;TZID=America/Vancouver:20260724T203000
DTSTAMP:20260424T065813
CREATED:20260224T180002Z
LAST-MODIFIED:20260224T180002Z
UID:9716-1784910600-1784925000@www.caccautosport.org
SUMMARY:OPDA Friday Evening Autocross
DESCRIPTION:
URL:https://www.caccautosport.org/event/opda-friday-evening-autocross-4/
LOCATION:Okanagan College West Lot\, 1000 K.L.O Road\, Kelowna\, BC\, Canada
CATEGORIES:Autocross,Autoslalom
ORGANIZER;CN="Okanagan Precision Driving Association":MAILTO:web@okanaganautocross.net
END:VEVENT
BEGIN:VEVENT
DTSTART;TZID=America/Vancouver:20260808T073000
DTEND;TZID=America/Vancouver:20260808T153000
DTSTAMP:20260424T065813
CREATED:20260224T180002Z
LAST-MODIFIED:20260224T180002Z
UID:9717-1786174200-1786203000@www.caccautosport.org
SUMMARY:OPDA Saturday Autocross
DESCRIPTION:
URL:https://www.caccautosport.org/event/opda-saturday-autocross/
LOCATION:Okanagan College West Lot\, 1000 K.L.O Road\, Kelowna\, BC\, Canada
CATEGORIES:Autocross,Autoslalom
ORGANIZER;CN="Okanagan Precision Driving Association":MAILTO:web@okanaganautocross.net
END:VEVENT
BEGIN:VEVENT
DTSTART;VALUE=DATE:20260809
DTEND;VALUE=DATE:20260810
DTSTAMP:20260424T065813
CREATED:20260225T155228Z
LAST-MODIFIED:20260225T155228Z
UID:9746-1786233600-1786319999@www.caccautosport.org
SUMMARY:PRMA Autoslalom
DESCRIPTION:PRMA Autoslalom (Autoslalom Discipline)
URL:https://www.caccautosport.org/event/prma-autoslalom-16/
LOCATION:BC
CATEGORIES:Autocross,Autoslalom
END:VEVENT
BEGIN:VEVENT
DTSTART;TZID=America/Vancouver:20260814T163000
DTEND;TZID=America/Vancouver:20260814T203000
DTSTAMP:20260424T065813
CREATED:20260224T180002Z
LAST-MODIFIED:20260224T180002Z
UID:9718-1786725000-1786739400@www.caccautosport.org
SUMMARY:OPDA Friday Evening Autocross
DESCRIPTION:
URL:https://www.caccautosport.org/event/opda-friday-evening-autocross-3/
LOCATION:Okanagan College West Lot\, 1000 K.L.O Road\, Kelowna\, BC\, Canada
CATEGORIES:Autocross,Autoslalom
ORGANIZER;CN="Okanagan Precision Driving Association":MAILTO:web@okanaganautocross.net
END:VEVENT
BEGIN:VEVENT
DTSTART;VALUE=DATE:20260822
DTEND;VALUE=DATE:20260824
DTSTAMP:20260424T065813
CREATED:20260224T180002Z
LAST-MODIFIED:20260224T180002Z
UID:9719-1787356800-1787529599@www.caccautosport.org
SUMMARY:VCMC Merritt Autocross
DESCRIPTION:
URL:https://www.caccautosport.org/event/vcmc-merritt-autocross-2/
LOCATION:Merritt Regional Airport\, 4510 Airport Rd\, Merritt\, BC\, V1K 1M5\, Canada
CATEGORIES:Autocross,Autoslalom
END:VEVENT
BEGIN:VEVENT
DTSTART;TZID=America/Vancouver:20260828T163000
DTEND;TZID=America/Vancouver:20260828T203000
DTSTAMP:20260424T065813
CREATED:20260224T180002Z
LAST-MODIFIED:20260224T180002Z
UID:9720-1787934600-1787949000@www.caccautosport.org
SUMMARY:OPDA Friday Evening Autocross
DESCRIPTION:
URL:https://www.caccautosport.org/event/opda-friday-evening-autocross-2/
LOCATION:Okanagan College West Lot\, 1000 K.L.O Road\, Kelowna\, BC\, Canada
CATEGORIES:Autocross,Autoslalom
ORGANIZER;CN="Okanagan Precision Driving Association":MAILTO:web@okanaganautocross.net
END:VEVENT
BEGIN:VEVENT
DTSTART;VALUE=DATE:20260830
DTEND;VALUE=DATE:20260831
DTSTAMP:20260424T065813
CREATED:20260310T152720Z
LAST-MODIFIED:20260310T152720Z
UID:9780-1788048000-1788134399@www.caccautosport.org
SUMMARY:PRMA Autocross
DESCRIPTION:
URL:https://www.caccautosport.org/event/prma-autocross-23/
LOCATION:Taylor Chain-up\, Taylor Hill\, Taylor\, BC\, Canada
CATEGORIES:Autocross,Autoslalom
END:VEVENT
BEGIN:VEVENT
DTSTART;TZID=America/Vancouver:20260911T163000
DTEND;TZID=America/Vancouver:20260911T203000
DTSTAMP:20260424T065813
CREATED:20260224T180002Z
LAST-MODIFIED:20260224T180002Z
UID:9721-1789144200-1789158600@www.caccautosport.org
SUMMARY:OPDA Friday Evening Autocross
DESCRIPTION:
URL:https://www.caccautosport.org/event/opda-friday-evening-autocross/
LOCATION:Okanagan College West Lot\, 1000 K.L.O Road\, Kelowna\, BC\, Canada
CATEGORIES:Autocross,Autoslalom
ORGANIZER;CN="Okanagan Precision Driving Association":MAILTO:web@okanaganautocross.net
END:VEVENT
BEGIN:VEVENT
DTSTART;VALUE=DATE:20260912
DTEND;VALUE=DATE:20260913
DTSTAMP:20260424T065813
CREATED:20260310T154101Z
LAST-MODIFIED:20260310T154101Z
UID:9787-1789171200-1789257599@www.caccautosport.org
SUMMARY:PRMA Autocross
DESCRIPTION:
URL:https://www.caccautosport.org/event/prma-autocross-22/
LOCATION:Quesnel Caribou Raceway Park\, 785 Oval Rd\, Quesnel\, BC\, V2J4R6\, Canada
CATEGORIES:Autocross,Autoslalom
END:VEVENT
BEGIN:VEVENT
DTSTART;VALUE=DATE:20260913
DTEND;VALUE=DATE:20260914
DTSTAMP:20260424T065813
CREATED:20260310T152811Z
LAST-MODIFIED:20260310T153208Z
UID:9782-1789257600-1789343999@www.caccautosport.org
SUMMARY:PRMA Autocross
DESCRIPTION:
URL:https://www.caccautosport.org/event/prma-autocross-24/
LOCATION:Prince George Airport\, 4141 Airport Road\, Prince George\, BC\, V2N 4M6\, Canada
CATEGORIES:Autocross,Autoslalom
END:VEVENT
BEGIN:VEVENT
DTSTART;VALUE=DATE:20260919
DTEND;VALUE=DATE:20260921
DTSTAMP:20260424T065813
CREATED:20260224T180002Z
LAST-MODIFIED:20260225T151036Z
UID:9722-1789776000-1789948799@www.caccautosport.org
SUMMARY:VCMC Merritt Autocross
DESCRIPTION:
URL:https://www.caccautosport.org/event/vcmc-merritt-autocross/
LOCATION:Merritt Regional Airport\, 4510 Airport Rd\, Merritt\, BC\, V1K 1M5\, Canada
CATEGORIES:Autocross,Autoslalom
END:VEVENT
BEGIN:VEVENT
DTSTART;TZID=America/Vancouver:20260926T073000
DTEND;TZID=America/Vancouver:20260927T153000
DTSTAMP:20260424T065813
CREATED:20260224T175927Z
LAST-MODIFIED:20260224T175927Z
UID:9723-1790407800-1790523000@www.caccautosport.org
SUMMARY:OPDA Autocross 2-Day Eliminator
DESCRIPTION:
URL:https://www.caccautosport.org/event/opda-autocross-2-day-eliminator/
LOCATION:Okanagan College West Lot\, 1000 K.L.O Road\, Kelowna\, BC\, Canada
CATEGORIES:Autocross,Autoslalom
ORGANIZER;CN="Okanagan Precision Driving Association":MAILTO:web@okanaganautocross.net
END:VEVENT
END:VCALENDAR