BEGIN:VCALENDAR
VERSION:2.0
PRODID:-//The Confederation of Autosport Car Clubs - ECPv6.15.20//NONSGML v1.0//EN
CALSCALE:GREGORIAN
METHOD:PUBLISH
X-WR-CALNAME:The Confederation of Autosport Car Clubs
X-ORIGINAL-URL:https://www.caccautosport.org
X-WR-CALDESC:Events for The Confederation of Autosport Car Clubs
REFRESH-INTERVAL;VALUE=DURATION:PT1H
X-Robots-Tag:noindex
X-PUBLISHED-TTL:PT1H
BEGIN:VTIMEZONE
TZID:America/Vancouver
BEGIN:DAYLIGHT
TZOFFSETFROM:-0800
TZOFFSETTO:-0700
TZNAME:PDT
DTSTART:20250309T100000
END:DAYLIGHT
BEGIN:STANDARD
TZOFFSETFROM:-0700
TZOFFSETTO:-0800
TZNAME:PST
DTSTART:20251102T090000
END:STANDARD
BEGIN:DAYLIGHT
TZOFFSETFROM:-0800
TZOFFSETTO:-0700
TZNAME:PDT
DTSTART:20260308T100000
END:DAYLIGHT
BEGIN:STANDARD
TZOFFSETFROM:-0700
TZOFFSETTO:-0800
TZNAME:PST
DTSTART:20261101T090000
END:STANDARD
BEGIN:DAYLIGHT
TZOFFSETFROM:-0800
TZOFFSETTO:-0700
TZNAME:PDT
DTSTART:20270314T100000
END:DAYLIGHT
BEGIN:STANDARD
TZOFFSETFROM:-0700
TZOFFSETTO:-0800
TZNAME:PST
DTSTART:20271107T090000
END:STANDARD
END:VTIMEZONE
BEGIN:VEVENT
DTSTART;TZID=America/Vancouver:20260309T190000
DTEND;TZID=America/Vancouver:20260309T200000
DTSTAMP:20260423T132318
CREATED:20260309T152830Z
LAST-MODIFIED:20260309T152839Z
UID:9757-1773082800-1773086400@www.caccautosport.org
SUMMARY:CACC Autoslalom Discipline Meeting
DESCRIPTION:
URL:https://www.caccautosport.org/event/cacc-autoslalom-discipline-meeting/
LOCATION:Virtual Meeting
CATEGORIES:Administration,Autocross,Autoslalom,Discipline Meeting
END:VEVENT
BEGIN:VEVENT
DTSTART;TZID=America/Vancouver:20260309T200000
DTEND;TZID=America/Vancouver:20260309T210000
DTSTAMP:20260423T132318
CREATED:20260309T152954Z
LAST-MODIFIED:20260309T152954Z
UID:9759-1773086400-1773090000@www.caccautosport.org
SUMMARY:CACC Ice Race Discipline Meeting
DESCRIPTION:
URL:https://www.caccautosport.org/event/cacc-ice-race-discipline-meeting/
LOCATION:Virtual Meeting
CATEGORIES:Administration,Discipline Meeting,Ice Racing
END:VEVENT
BEGIN:VEVENT
DTSTART;TZID=America/Vancouver:20260316T190000
DTEND;TZID=America/Vancouver:20260316T200000
DTSTAMP:20260423T132318
CREATED:20260309T153440Z
LAST-MODIFIED:20260309T153440Z
UID:9765-1773687600-1773691200@www.caccautosport.org
SUMMARY:CACC Time Attack Discipline Meeting
DESCRIPTION:
URL:https://www.caccautosport.org/event/cacc-time-attack-discipline-meeting/
LOCATION:Virtual Meeting
CATEGORIES:Administration,Discipline Meeting,Time Attack
END:VEVENT
BEGIN:VEVENT
DTSTART;TZID=America/Vancouver:20260316T200000
DTEND;TZID=America/Vancouver:20260316T210000
DTSTAMP:20260423T132318
CREATED:20260309T153304Z
LAST-MODIFIED:20260309T153315Z
UID:9763-1773691200-1773694800@www.caccautosport.org
SUMMARY:CACC Race Discipline Meeting
DESCRIPTION:
URL:https://www.caccautosport.org/event/cacc-race-discipline-meeting/
LOCATION:Virtual Meeting
CATEGORIES:Discipline Meeting,Road Racing
END:VEVENT
BEGIN:VEVENT
DTSTART;TZID=America/Vancouver:20260318T190000
DTEND;TZID=America/Vancouver:20260318T200000
DTSTAMP:20260423T132318
CREATED:20260309T153133Z
LAST-MODIFIED:20260309T153133Z
UID:9761-1773860400-1773864000@www.caccautosport.org
SUMMARY:CACC Officials Discipline Meeting
DESCRIPTION:
URL:https://www.caccautosport.org/event/cacc-officials-discipline-meeting/
LOCATION:Virtual Meeting
CATEGORIES:Administration,Discipline Meeting,Officials
END:VEVENT
BEGIN:VEVENT
DTSTART;TZID=America/Vancouver:20260318T200000
DTEND;TZID=America/Vancouver:20260318T210000
DTSTAMP:20260423T132318
CREATED:20260309T153545Z
LAST-MODIFIED:20260309T153753Z
UID:9767-1773864000-1773867600@www.caccautosport.org
SUMMARY:CACC Vintage Discipline Meeting
DESCRIPTION:
URL:https://www.caccautosport.org/event/cacc-vintage-discipline-meeting/
LOCATION:Virtual Meeting
CATEGORIES:Administration,Discipline Meeting,Vintage Racing
END:VEVENT
END:VCALENDAR