BEGIN:VCALENDAR
VERSION:2.0
PRODID:-//The Confederation of Autosport Car Clubs - ECPv6.15.20//NONSGML v1.0//EN
CALSCALE:GREGORIAN
METHOD:PUBLISH
X-WR-CALNAME:The Confederation of Autosport Car Clubs
X-ORIGINAL-URL:https://www.caccautosport.org
X-WR-CALDESC:Events for The Confederation of Autosport Car Clubs
REFRESH-INTERVAL;VALUE=DURATION:PT1H
X-Robots-Tag:noindex
X-PUBLISHED-TTL:PT1H
BEGIN:VTIMEZONE
TZID:America/Vancouver
BEGIN:DAYLIGHT
TZOFFSETFROM:-0800
TZOFFSETTO:-0700
TZNAME:PDT
DTSTART:20220313T100000
END:DAYLIGHT
BEGIN:STANDARD
TZOFFSETFROM:-0700
TZOFFSETTO:-0800
TZNAME:PST
DTSTART:20221106T090000
END:STANDARD
BEGIN:DAYLIGHT
TZOFFSETFROM:-0800
TZOFFSETTO:-0700
TZNAME:PDT
DTSTART:20230312T100000
END:DAYLIGHT
BEGIN:STANDARD
TZOFFSETFROM:-0700
TZOFFSETTO:-0800
TZNAME:PST
DTSTART:20231105T090000
END:STANDARD
BEGIN:DAYLIGHT
TZOFFSETFROM:-0800
TZOFFSETTO:-0700
TZNAME:PDT
DTSTART:20240310T100000
END:DAYLIGHT
BEGIN:STANDARD
TZOFFSETFROM:-0700
TZOFFSETTO:-0800
TZNAME:PST
DTSTART:20241103T090000
END:STANDARD
BEGIN:DAYLIGHT
TZOFFSETFROM:-0800
TZOFFSETTO:-0700
TZNAME:PDT
DTSTART:20250309T100000
END:DAYLIGHT
BEGIN:STANDARD
TZOFFSETFROM:-0700
TZOFFSETTO:-0800
TZNAME:PST
DTSTART:20251102T090000
END:STANDARD
END:VTIMEZONE
BEGIN:VEVENT
DTSTART;VALUE=DATE:20240317
DTEND;VALUE=DATE:20240318
DTSTAMP:20260423T203417
CREATED:20240304T163700Z
LAST-MODIFIED:20240312T170319Z
UID:8677-1710633600-1710719999@www.caccautosport.org
SUMMARY:PRMA Ice Attack Event - CANCELLED
DESCRIPTION:
URL:https://www.caccautosport.org/event/prma-ice-attack-event-2/
LOCATION:Charlie Lake\, Lake Shore Drive\, Fort St. John\, BC\, V0C 1H0\, Canada
CATEGORIES:Ice Attack,Ice Racing
END:VEVENT
BEGIN:VEVENT
DTSTART;VALUE=DATE:20240217
DTEND;VALUE=DATE:20240219
DTSTAMP:20260423T203417
CREATED:20240202T133109Z
LAST-MODIFIED:20240202T133313Z
UID:8613-1708128000-1708300799@www.caccautosport.org
SUMMARY:PRMA Ice Attack Event
DESCRIPTION:
URL:https://www.caccautosport.org/event/prma-ice-attack-event/
LOCATION:Charlie Lake\, Lake Shore Drive\, Fort St. John\, BC\, V0C 1H0\, Canada
CATEGORIES:Ice Attack,Ice Racing
END:VEVENT
BEGIN:VEVENT
DTSTART;VALUE=DATE:20240120
DTEND;VALUE=DATE:20240122
DTSTAMP:20260423T203417
CREATED:20240115T232249Z
LAST-MODIFIED:20240119T163559Z
UID:8580-1705708800-1705881599@www.caccautosport.org
SUMMARY:WCIRABC/Cars on Ice - Ice Attack - CANCELLED
DESCRIPTION:
URL:https://www.caccautosport.org/event/wcirabc-ice-attack/
LOCATION:Barnes Lake\, Barnes Lake Road (50°42'21.8"N 121°14'20.5"W)\, Ashcroft\, BC\, Canada
CATEGORIES:Ice Attack,Ice Racing
ORGANIZER;CN="Western Canadian Ice Racing Association of BC":MAILTO:info@carsonice.ca
END:VEVENT
BEGIN:VEVENT
DTSTART;TZID=America/Vancouver:20230225T083000
DTEND;TZID=America/Vancouver:20230226T154500
DTSTAMP:20260423T203417
CREATED:20230206T172432Z
LAST-MODIFIED:20230206T173320Z
UID:6712-1677313800-1677426300@www.caccautosport.org
SUMMARY:WCIRABC Ice Attack
DESCRIPTION:Requirements\nIce X\nIce Attack\nIce Race\n\n\n\n\nHelmet\nX\nX\nX\n\n\nSnow Tires\nX\nX\nX\n\n\nPrevious Ice Racing Experience\n\nX\nX\n\n\nRoll Cage\n\n\nX\n\n\nCACC Licence\n\nX\nX
URL:https://www.caccautosport.org/event/wcirabc-ice-attack-ice-racing/
LOCATION:Barnes Lake\, Barnes Lake Road (50°42'21.8"N 121°14'20.5"W)\, Ashcroft\, BC\, Canada
CATEGORIES:Ice Attack,Ice Racing
ORGANIZER;CN="Western Canadian Ice Racing Association of BC":MAILTO:info@carsonice.ca
END:VEVENT
END:VCALENDAR