BEGIN:VCALENDAR
VERSION:2.0
PRODID:-//The Confederation of Autosport Car Clubs - ECPv6.15.20//NONSGML v1.0//EN
CALSCALE:GREGORIAN
METHOD:PUBLISH
X-ORIGINAL-URL:https://www.caccautosport.org
X-WR-CALDESC:Events for The Confederation of Autosport Car Clubs
REFRESH-INTERVAL;VALUE=DURATION:PT1H
X-Robots-Tag:noindex
X-PUBLISHED-TTL:PT1H
BEGIN:VTIMEZONE
TZID:America/Vancouver
BEGIN:DAYLIGHT
TZOFFSETFROM:-0800
TZOFFSETTO:-0700
TZNAME:PDT
DTSTART:20220313T100000
END:DAYLIGHT
BEGIN:STANDARD
TZOFFSETFROM:-0700
TZOFFSETTO:-0800
TZNAME:PST
DTSTART:20221106T090000
END:STANDARD
BEGIN:DAYLIGHT
TZOFFSETFROM:-0800
TZOFFSETTO:-0700
TZNAME:PDT
DTSTART:20230312T100000
END:DAYLIGHT
BEGIN:STANDARD
TZOFFSETFROM:-0700
TZOFFSETTO:-0800
TZNAME:PST
DTSTART:20231105T090000
END:STANDARD
BEGIN:DAYLIGHT
TZOFFSETFROM:-0800
TZOFFSETTO:-0700
TZNAME:PDT
DTSTART:20240310T100000
END:DAYLIGHT
BEGIN:STANDARD
TZOFFSETFROM:-0700
TZOFFSETTO:-0800
TZNAME:PST
DTSTART:20241103T090000
END:STANDARD
BEGIN:DAYLIGHT
TZOFFSETFROM:-0800
TZOFFSETTO:-0700
TZNAME:PDT
DTSTART:20250309T100000
END:DAYLIGHT
BEGIN:STANDARD
TZOFFSETFROM:-0700
TZOFFSETTO:-0800
TZNAME:PST
DTSTART:20251102T090000
END:STANDARD
END:VTIMEZONE
BEGIN:VEVENT
DTSTART;VALUE=DATE:20240203
DTEND;VALUE=DATE:20240205
DTSTAMP:20260423T133038
CREATED:20240124T164932Z
LAST-MODIFIED:20240207T144311Z
UID:8600-1706918400-1707091199@www.caccautosport.org
SUMMARY:WCIRABC/Cars on Ice - Ice Cross - CANCELLED
DESCRIPTION:
URL:https://www.caccautosport.org/event/wcirabc-cars-on-ice-ice-cross/
LOCATION:Barnes Lake\, Barnes Lake Road (50°42'21.8"N 121°14'20.5"W)\, Ashcroft\, BC\, Canada
CATEGORIES:Ice Cross,Ice Racing
ORGANIZER;CN="Western Canadian Ice Racing Association of BC":MAILTO:info@carsonice.ca
END:VEVENT
BEGIN:VEVENT
DTSTART;VALUE=DATE:20240128
DTEND;VALUE=DATE:20240129
DTSTAMP:20260423T133038
CREATED:20240115T232146Z
LAST-MODIFIED:20240115T232547Z
UID:8578-1706400000-1706486399@www.caccautosport.org
SUMMARY:PRMA Ice Cross Event
DESCRIPTION:
URL:https://www.caccautosport.org/event/prma-ice-cross-event/
LOCATION:Charlie Lake\, Lake Shore Drive\, Fort St. John\, BC\, V0C 1H0\, Canada
CATEGORIES:Ice Cross,Ice Racing
END:VEVENT
BEGIN:VEVENT
DTSTART;VALUE=DATE:20230326
DTEND;VALUE=DATE:20230327
DTSTAMP:20260423T133038
CREATED:20230315T175824Z
LAST-MODIFIED:20230316T162436Z
UID:7209-1679788800-1679875199@www.caccautosport.org
SUMMARY:PRMA Ice-X (Ice Cross)
DESCRIPTION:
URL:https://www.caccautosport.org/event/prma-ice-cross/
LOCATION:Charlie Lake\, Lake Shore Drive\, Fort St. John\, BC\, V0C 1H0\, Canada
CATEGORIES:Ice Cross,Ice Racing
END:VEVENT
BEGIN:VEVENT
DTSTART;TZID=America/Vancouver:20230312T080000
DTEND;TZID=America/Vancouver:20230312T170000
DTSTAMP:20260423T133038
CREATED:20230301T011632Z
LAST-MODIFIED:20230301T011650Z
UID:7084-1678608000-1678640400@www.caccautosport.org
SUMMARY:PRMA Ice-X (Ice Cross)
DESCRIPTION:Peace Region Motorsports Association presents Ice Cross Ice Racing at Charlie Lake.
URL:https://www.caccautosport.org/event/prma-ice-x-at-charlie-lake/
LOCATION:Charlie Lake\, Lake Shore Drive\, Fort St. John\, BC\, V0C 1H0\, Canada
CATEGORIES:Ice Cross
END:VEVENT
END:VCALENDAR