BEGIN:VCALENDAR
VERSION:2.0
PRODID:-//The Confederation of Autosport Car Clubs - ECPv6.15.20//NONSGML v1.0//EN
CALSCALE:GREGORIAN
METHOD:PUBLISH
X-WR-CALNAME:The Confederation of Autosport Car Clubs
X-ORIGINAL-URL:https://www.caccautosport.org
X-WR-CALDESC:Events for The Confederation of Autosport Car Clubs
REFRESH-INTERVAL;VALUE=DURATION:PT1H
X-Robots-Tag:noindex
X-PUBLISHED-TTL:PT1H
BEGIN:VTIMEZONE
TZID:America/Vancouver
BEGIN:DAYLIGHT
TZOFFSETFROM:-0800
TZOFFSETTO:-0700
TZNAME:PDT
DTSTART:20200308T100000
END:DAYLIGHT
BEGIN:STANDARD
TZOFFSETFROM:-0700
TZOFFSETTO:-0800
TZNAME:PST
DTSTART:20201101T090000
END:STANDARD
BEGIN:DAYLIGHT
TZOFFSETFROM:-0800
TZOFFSETTO:-0700
TZNAME:PDT
DTSTART:20210314T100000
END:DAYLIGHT
BEGIN:STANDARD
TZOFFSETFROM:-0700
TZOFFSETTO:-0800
TZNAME:PST
DTSTART:20211107T090000
END:STANDARD
BEGIN:DAYLIGHT
TZOFFSETFROM:-0800
TZOFFSETTO:-0700
TZNAME:PDT
DTSTART:20220313T100000
END:DAYLIGHT
BEGIN:STANDARD
TZOFFSETFROM:-0700
TZOFFSETTO:-0800
TZNAME:PST
DTSTART:20221106T090000
END:STANDARD
BEGIN:DAYLIGHT
TZOFFSETFROM:-0800
TZOFFSETTO:-0700
TZNAME:PDT
DTSTART:20230312T100000
END:DAYLIGHT
BEGIN:STANDARD
TZOFFSETFROM:-0700
TZOFFSETTO:-0800
TZNAME:PST
DTSTART:20231105T090000
END:STANDARD
END:VTIMEZONE
BEGIN:VEVENT
DTSTART;TZID=America/Vancouver:20221015T083000
DTEND;TZID=America/Vancouver:20221016T170000
DTSTAMP:20260423T203258
CREATED:20220729T154357Z
LAST-MODIFIED:20220729T154357Z
UID:4870-1665822600-1665939600@www.caccautosport.org
SUMMARY:SIKA 2-Day Kart Race
DESCRIPTION:
URL:https://www.caccautosport.org/event/sika-2-day-kart-race-2/
LOCATION:Kal Tire Place\, 3445 43rd Avenue\, Vernon\, BC\, Canada
CATEGORIES:Karting
END:VEVENT
BEGIN:VEVENT
DTSTART;TZID=America/Vancouver:20220917T083000
DTEND;TZID=America/Vancouver:20220918T170000
DTSTAMP:20260423T203258
CREATED:20220729T154300Z
LAST-MODIFIED:20220729T154300Z
UID:4868-1663403400-1663520400@www.caccautosport.org
SUMMARY:SIKA 2-Day Kart Race
DESCRIPTION:
URL:https://www.caccautosport.org/event/sika-2-day-kart-race/
LOCATION:Kal Tire Place\, 3445 43rd Avenue\, Vernon\, BC\, Canada
CATEGORIES:Karting
END:VEVENT
BEGIN:VEVENT
DTSTART;TZID=America/Vancouver:20220827T083000
DTEND;TZID=America/Vancouver:20220828T170000
DTSTAMP:20260423T203258
CREATED:20220729T154135Z
LAST-MODIFIED:20220729T154417Z
UID:4866-1661589000-1661706000@www.caccautosport.org
SUMMARY:SIKA 2-Day Kart Race
DESCRIPTION:
URL:https://www.caccautosport.org/event/sika-kart-race-11/
LOCATION:Kal Tire Place\, 3445 43rd Avenue\, Vernon\, BC\, Canada
CATEGORIES:Karting
END:VEVENT
BEGIN:VEVENT
DTSTART;TZID=America/Vancouver:20220709T083000
DTEND;TZID=America/Vancouver:20220709T170000
DTSTAMP:20260423T203258
CREATED:20220412T173616Z
LAST-MODIFIED:20220412T173616Z
UID:4566-1657355400-1657386000@www.caccautosport.org
SUMMARY:SIKA Kart Race
DESCRIPTION:
URL:https://www.caccautosport.org/event/sika-kart-race-10/
LOCATION:Kal Tire Place\, 3445 43rd Avenue\, Vernon\, BC\, Canada
CATEGORIES:Karting
END:VEVENT
BEGIN:VEVENT
DTSTART;TZID=America/Vancouver:20220625T083000
DTEND;TZID=America/Vancouver:20220625T170000
DTSTAMP:20260423T203258
CREATED:20220412T173528Z
LAST-MODIFIED:20220412T173528Z
UID:4564-1656145800-1656176400@www.caccautosport.org
SUMMARY:SIKA Kart Race
DESCRIPTION:
URL:https://www.caccautosport.org/event/sika-kart-race-9/
LOCATION:Kal Tire Place\, 3445 43rd Avenue\, Vernon\, BC\, Canada
CATEGORIES:Karting
END:VEVENT
BEGIN:VEVENT
DTSTART;TZID=America/Vancouver:20220528T083000
DTEND;TZID=America/Vancouver:20220528T170000
DTSTAMP:20260423T203258
CREATED:20220412T173442Z
LAST-MODIFIED:20220412T173442Z
UID:4562-1653726600-1653757200@www.caccautosport.org
SUMMARY:SIKA Kart Race
DESCRIPTION:
URL:https://www.caccautosport.org/event/sika-kart-race-8/
LOCATION:Kal Tire Place\, 3445 43rd Avenue\, Vernon\, BC\, Canada
CATEGORIES:Karting
END:VEVENT
BEGIN:VEVENT
DTSTART;TZID=America/Vancouver:20220423T083000
DTEND;TZID=America/Vancouver:20220423T170000
DTSTAMP:20260423T203258
CREATED:20220412T173401Z
LAST-MODIFIED:20220412T173401Z
UID:4560-1650702600-1650733200@www.caccautosport.org
SUMMARY:SIKA Kart Race
DESCRIPTION:
URL:https://www.caccautosport.org/event/sika-kart-race-7/
LOCATION:Kal Tire Place\, 3445 43rd Avenue\, Vernon\, BC\, Canada
CATEGORIES:Karting
END:VEVENT
BEGIN:VEVENT
DTSTART;TZID=America/Vancouver:20210925T080000
DTEND;TZID=America/Vancouver:20210926T170000
DTSTAMP:20260423T203258
CREATED:20210603T202416Z
LAST-MODIFIED:20210603T202416Z
UID:3555-1632556800-1632675600@www.caccautosport.org
SUMMARY:SIKA Kart Race
DESCRIPTION:
URL:https://www.caccautosport.org/event/sika-kart-race-6/
LOCATION:Kal Tire Place\, 3445 43rd Avenue\, Vernon\, BC\, Canada
CATEGORIES:Karting
END:VEVENT
BEGIN:VEVENT
DTSTART;TZID=America/Vancouver:20210911T080000
DTEND;TZID=America/Vancouver:20210912T170000
DTSTAMP:20260423T203258
CREATED:20210603T202337Z
LAST-MODIFIED:20210603T202337Z
UID:3553-1631347200-1631466000@www.caccautosport.org
SUMMARY:SIKA Kart Race
DESCRIPTION:
URL:https://www.caccautosport.org/event/sika-kart-race-5/
LOCATION:Kal Tire Place\, 3445 43rd Avenue\, Vernon\, BC\, Canada
CATEGORIES:Karting
END:VEVENT
BEGIN:VEVENT
DTSTART;TZID=America/Vancouver:20210828T080000
DTEND;TZID=America/Vancouver:20210829T170000
DTSTAMP:20260423T203258
CREATED:20210603T202250Z
LAST-MODIFIED:20210603T202250Z
UID:3551-1630137600-1630256400@www.caccautosport.org
SUMMARY:SIKA Kart Race
DESCRIPTION:
URL:https://www.caccautosport.org/event/sika-kart-race-4/
LOCATION:Kal Tire Place\, 3445 43rd Avenue\, Vernon\, BC\, Canada
CATEGORIES:Karting
END:VEVENT
BEGIN:VEVENT
DTSTART;TZID=America/Vancouver:20210814T080000
DTEND;TZID=America/Vancouver:20210815T170000
DTSTAMP:20260423T203258
CREATED:20210603T202159Z
LAST-MODIFIED:20210603T202159Z
UID:3549-1628928000-1629046800@www.caccautosport.org
SUMMARY:SIKA Kart Race
DESCRIPTION:
URL:https://www.caccautosport.org/event/sika-kart-race-3/
LOCATION:Kal Tire Place\, 3445 43rd Avenue\, Vernon\, BC\, Canada
CATEGORIES:Karting
END:VEVENT
BEGIN:VEVENT
DTSTART;TZID=America/Vancouver:20210710T080000
DTEND;TZID=America/Vancouver:20210711T170000
DTSTAMP:20260423T203258
CREATED:20210531T153931Z
LAST-MODIFIED:20210603T202546Z
UID:3508-1625904000-1626022800@www.caccautosport.org
SUMMARY:SIKA Kart Race
DESCRIPTION:
URL:https://www.caccautosport.org/event/sika-kart-race-2/
LOCATION:Kal Tire Place\, 3445 43rd Avenue\, Vernon\, BC\, Canada
CATEGORIES:Karting
END:VEVENT
BEGIN:VEVENT
DTSTART;TZID=America/Vancouver:20210612T080000
DTEND;TZID=America/Vancouver:20210613T170000
DTSTAMP:20260423T203258
CREATED:20210526T143712Z
LAST-MODIFIED:20210526T145145Z
UID:3279-1623484800-1623603600@www.caccautosport.org
SUMMARY:SIKA Kart Race
DESCRIPTION:
URL:https://www.caccautosport.org/event/sika-kart-race/
LOCATION:Kal Tire Place\, 3445 43rd Avenue\, Vernon\, BC\, Canada
CATEGORIES:Karting
END:VEVENT
END:VCALENDAR