BEGIN:VCALENDAR
VERSION:2.0
PRODID:-//The Confederation of Autosport Car Clubs - ECPv6.15.20//NONSGML v1.0//EN
CALSCALE:GREGORIAN
METHOD:PUBLISH
X-WR-CALNAME:The Confederation of Autosport Car Clubs
X-ORIGINAL-URL:https://www.caccautosport.org
X-WR-CALDESC:Events for The Confederation of Autosport Car Clubs
REFRESH-INTERVAL;VALUE=DURATION:PT1H
X-Robots-Tag:noindex
X-PUBLISHED-TTL:PT1H
BEGIN:VTIMEZONE
TZID:America/Vancouver
BEGIN:DAYLIGHT
TZOFFSETFROM:-0800
TZOFFSETTO:-0700
TZNAME:PDT
DTSTART:20210314T100000
END:DAYLIGHT
BEGIN:STANDARD
TZOFFSETFROM:-0700
TZOFFSETTO:-0800
TZNAME:PST
DTSTART:20211107T090000
END:STANDARD
BEGIN:DAYLIGHT
TZOFFSETFROM:-0800
TZOFFSETTO:-0700
TZNAME:PDT
DTSTART:20220313T100000
END:DAYLIGHT
BEGIN:STANDARD
TZOFFSETFROM:-0700
TZOFFSETTO:-0800
TZNAME:PST
DTSTART:20221106T090000
END:STANDARD
BEGIN:DAYLIGHT
TZOFFSETFROM:-0800
TZOFFSETTO:-0700
TZNAME:PDT
DTSTART:20230312T100000
END:DAYLIGHT
BEGIN:STANDARD
TZOFFSETFROM:-0700
TZOFFSETTO:-0800
TZNAME:PST
DTSTART:20231105T090000
END:STANDARD
BEGIN:DAYLIGHT
TZOFFSETFROM:-0800
TZOFFSETTO:-0700
TZNAME:PDT
DTSTART:20240310T100000
END:DAYLIGHT
BEGIN:STANDARD
TZOFFSETFROM:-0700
TZOFFSETTO:-0800
TZNAME:PST
DTSTART:20241103T090000
END:STANDARD
BEGIN:DAYLIGHT
TZOFFSETFROM:-0800
TZOFFSETTO:-0700
TZNAME:PDT
DTSTART:20250309T100000
END:DAYLIGHT
BEGIN:STANDARD
TZOFFSETFROM:-0700
TZOFFSETTO:-0800
TZNAME:PST
DTSTART:20251102T090000
END:STANDARD
BEGIN:DAYLIGHT
TZOFFSETFROM:-0800
TZOFFSETTO:-0700
TZNAME:PDT
DTSTART:20260308T100000
END:DAYLIGHT
BEGIN:STANDARD
TZOFFSETFROM:-0700
TZOFFSETTO:-0800
TZNAME:PST
DTSTART:20261101T090000
END:STANDARD
BEGIN:DAYLIGHT
TZOFFSETFROM:-0800
TZOFFSETTO:-0700
TZNAME:PDT
DTSTART:20270314T100000
END:DAYLIGHT
BEGIN:STANDARD
TZOFFSETFROM:-0700
TZOFFSETTO:-0800
TZNAME:PST
DTSTART:20271107T090000
END:STANDARD
END:VTIMEZONE
BEGIN:VEVENT
DTSTART;TZID=America/Vancouver:20260318T190000
DTEND;TZID=America/Vancouver:20260318T200000
DTSTAMP:20260423T132817
CREATED:20260309T153133Z
LAST-MODIFIED:20260309T153133Z
UID:9761-1773860400-1773864000@www.caccautosport.org
SUMMARY:CACC Officials Discipline Meeting
DESCRIPTION:
URL:https://www.caccautosport.org/event/cacc-officials-discipline-meeting/
LOCATION:Virtual Meeting
CATEGORIES:Administration,Discipline Meeting,Officials
END:VEVENT
BEGIN:VEVENT
DTSTART;TZID=America/Vancouver:20251023T190000
DTEND;TZID=America/Vancouver:20251023T200000
DTSTAMP:20260423T132817
CREATED:20250921T124211Z
LAST-MODIFIED:20251023T045152Z
UID:9445-1761246000-1761249600@www.caccautosport.org
SUMMARY:2025 Officials Discipline Fall Meeting
DESCRIPTION:
URL:https://www.caccautosport.org/event/2025-officials-discipline-fall-meeting/
LOCATION:Virtual Meeting
CATEGORIES:Administration,Discipline Meeting,Officials
END:VEVENT
BEGIN:VEVENT
DTSTART;TZID=America/Vancouver:20250225T190000
DTEND;TZID=America/Vancouver:20250225T200000
DTSTAMP:20260423T132817
CREATED:20250208T163746Z
LAST-MODIFIED:20250208T163746Z
UID:9152-1740510000-1740513600@www.caccautosport.org
SUMMARY:CACC Officials Discipline Spring Meeting
DESCRIPTION:
URL:https://www.caccautosport.org/event/cacc-officials-discipline-spring-meeting/
LOCATION:Virtual Meeting
CATEGORIES:Discipline Meeting,Officials
END:VEVENT
BEGIN:VEVENT
DTSTART;TZID=America/Vancouver:20241106T070000
DTEND;TZID=America/Vancouver:20241106T200000
DTSTAMP:20260423T132817
CREATED:20240903T001632Z
LAST-MODIFIED:20240927T144808Z
UID:8914-1730876400-1730923200@www.caccautosport.org
SUMMARY:CACC Officials Discipline Fall Meeting
DESCRIPTION:
URL:https://www.caccautosport.org/event/cacc-officials-discipline-fall-meeting-2/
LOCATION:Virtual Meeting
CATEGORIES:Administration,Discipline Meeting,Officials
END:VEVENT
BEGIN:VEVENT
DTSTART;TZID=America/Vancouver:20240306T190000
DTEND;TZID=America/Vancouver:20240306T200000
DTSTAMP:20260423T132817
CREATED:20240209T165814Z
LAST-MODIFIED:20240209T203419Z
UID:8641-1709751600-1709755200@www.caccautosport.org
SUMMARY:CACC Officials Discipline Spring Meeting
DESCRIPTION:Join Zoom Meeting\nhttps://us06web.zoom.us/j/89465066777\nMeeting ID: 894 6506 6777\n—\nOne tap mobile\n+17789072071\,\,89465066777# Canada\n+17806660144\,\,89465066777# Canada\n—\nDial by your location\n• +1 778 907 2071 Canada\n• +1 780 666 0144 Canada\n• +1 204 272 7920 Canada\n• +1 438 809 7799 Canada\n• +1 587 328 1099 Canada\n• +1 647 374 4685 Canada\n• +1 647 558 0588 Canada\nMeeting ID: 894 6506 6777\nFind your local number: https://us06web.zoom.us/u/kbV36S51db \nWhen\nWednesday Mar 6\, 2024 ⋅ 7pm – 7:30pm (Pacific Time – Vancouver)\nLocation\nhttps://us06web.zoom.us/j/89465066777
URL:https://www.caccautosport.org/event/cacc-spring-officials-discipline-meeting/
LOCATION:Virtual Meeting
CATEGORIES:Discipline Meeting,Officials
END:VEVENT
BEGIN:VEVENT
DTSTART;TZID=America/Vancouver:20230315T190000
DTEND;TZID=America/Vancouver:20230315T200000
DTSTAMP:20260423T132817
CREATED:20230224T145335Z
LAST-MODIFIED:20230224T145335Z
UID:7007-1678906800-1678910400@www.caccautosport.org
SUMMARY:CACC Officials Discipline Spring General Meeting
DESCRIPTION:
URL:https://www.caccautosport.org/event/cacc-officials-discipline-spring-general-meeting/
LOCATION:Virtual Meeting
CATEGORIES:Administration,Officials
END:VEVENT
BEGIN:VEVENT
DTSTART;TZID=America/Vancouver:20221025T190000
DTEND;TZID=America/Vancouver:20221025T203000
DTSTAMP:20260423T132817
CREATED:20220929T144803Z
LAST-MODIFIED:20221013T161709Z
UID:5324-1666724400-1666729800@www.caccautosport.org
SUMMARY:CACC Officials Discipline Fall Meeting
DESCRIPTION:
URL:https://www.caccautosport.org/event/cacc-officials-discipline-fall-general-meeting/
LOCATION:Virtual Meeting
CATEGORIES:Administration,Officials
END:VEVENT
END:VCALENDAR