BEGIN:VCALENDAR
VERSION:2.0
PRODID:-//The Confederation of Autosport Car Clubs - ECPv6.15.20//NONSGML v1.0//EN
CALSCALE:GREGORIAN
METHOD:PUBLISH
X-WR-CALNAME:The Confederation of Autosport Car Clubs
X-ORIGINAL-URL:https://www.caccautosport.org
X-WR-CALDESC:Events for The Confederation of Autosport Car Clubs
REFRESH-INTERVAL;VALUE=DURATION:PT1H
X-Robots-Tag:noindex
X-PUBLISHED-TTL:PT1H
BEGIN:VTIMEZONE
TZID:America/Vancouver
BEGIN:DAYLIGHT
TZOFFSETFROM:-0800
TZOFFSETTO:-0700
TZNAME:PDT
DTSTART:20200308T100000
END:DAYLIGHT
BEGIN:STANDARD
TZOFFSETFROM:-0700
TZOFFSETTO:-0800
TZNAME:PST
DTSTART:20201101T090000
END:STANDARD
BEGIN:DAYLIGHT
TZOFFSETFROM:-0800
TZOFFSETTO:-0700
TZNAME:PDT
DTSTART:20210314T100000
END:DAYLIGHT
BEGIN:STANDARD
TZOFFSETFROM:-0700
TZOFFSETTO:-0800
TZNAME:PST
DTSTART:20211107T090000
END:STANDARD
BEGIN:DAYLIGHT
TZOFFSETFROM:-0800
TZOFFSETTO:-0700
TZNAME:PDT
DTSTART:20220313T100000
END:DAYLIGHT
BEGIN:STANDARD
TZOFFSETFROM:-0700
TZOFFSETTO:-0800
TZNAME:PST
DTSTART:20221106T090000
END:STANDARD
BEGIN:DAYLIGHT
TZOFFSETFROM:-0800
TZOFFSETTO:-0700
TZNAME:PDT
DTSTART:20230312T100000
END:DAYLIGHT
BEGIN:STANDARD
TZOFFSETFROM:-0700
TZOFFSETTO:-0800
TZNAME:PST
DTSTART:20231105T090000
END:STANDARD
END:VTIMEZONE
BEGIN:VEVENT
DTSTART;VALUE=DATE:20220402
DTEND;VALUE=DATE:20220403
DTSTAMP:20260423T192149
CREATED:20220327T155623Z
LAST-MODIFIED:20220327T155623Z
UID:4430-1648857600-1648943999@www.caccautosport.org
SUMMARY:VMSC Race Driver Training
DESCRIPTION:
URL:https://www.caccautosport.org/event/vmsc-race-driver-training-2/
LOCATION:Westshore Motorsports Park\, 2207 Millstream Rd\, Victoria\, BC\, V9B0J7\, Canada
CATEGORIES:Race Driver Training
END:VEVENT
BEGIN:VEVENT
DTSTART;TZID=America/Vancouver:20211009T080000
DTEND;TZID=America/Vancouver:20211010T170000
DTSTAMP:20260423T192149
CREATED:20210528T164200Z
LAST-MODIFIED:20210827T142414Z
UID:3451-1633766400-1633885200@www.caccautosport.org
SUMMARY:SCCBC CACC Road Race #5
DESCRIPTION:
URL:https://www.caccautosport.org/event/sccbc-cacc-race-6/
LOCATION:Mission Raceway Park\, 32670 Dyke Road\, Mission\, BC\, Canada
CATEGORIES:Road Racing
ORGANIZER;CN="Sports Car Club of BC":MAILTO:secretary@sccbc.net
END:VEVENT
BEGIN:VEVENT
DTSTART;TZID=America/Vancouver:20210918T080000
DTEND;TZID=America/Vancouver:20210919T170000
DTSTAMP:20260423T192149
CREATED:20210528T164228Z
LAST-MODIFIED:20210827T142356Z
UID:3450-1631952000-1632070800@www.caccautosport.org
SUMMARY:SCCBC CACC Road Race #4
DESCRIPTION:
URL:https://www.caccautosport.org/event/sccbc-cacc-race-5/
LOCATION:Mission Raceway Park\, 32670 Dyke Road\, Mission\, BC\, Canada
CATEGORIES:Road Racing
ORGANIZER;CN="Sports Car Club of BC":MAILTO:secretary@sccbc.net
END:VEVENT
BEGIN:VEVENT
DTSTART;TZID=America/Vancouver:20210904T080000
DTEND;TZID=America/Vancouver:20210906T170000
DTSTAMP:20260423T192149
CREATED:20210528T164306Z
LAST-MODIFIED:20210827T142041Z
UID:3449-1630742400-1630947600@www.caccautosport.org
SUMMARY:SCCBC CACC Road Race #3
DESCRIPTION:
URL:https://www.caccautosport.org/event/sccbc-icscc-races/
LOCATION:Mission Raceway Park\, 32670 Dyke Road\, Mission\, BC\, Canada
CATEGORIES:Road Racing
ORGANIZER;CN="Sports Car Club of BC":MAILTO:secretary@sccbc.net
END:VEVENT
BEGIN:VEVENT
DTSTART;TZID=America/Vancouver:20210903T080000
DTEND;TZID=America/Vancouver:20210903T170000
DTSTAMP:20260423T192149
CREATED:20210827T142334Z
LAST-MODIFIED:20210827T142504Z
UID:3997-1630656000-1630688400@www.caccautosport.org
SUMMARY:SCCBC Member Test and Tune Day #2
DESCRIPTION:A pre-race practice day for race or vintage licensed SCCBC members.
URL:https://www.caccautosport.org/event/sccbc-race-practice-day/
LOCATION:Mission Raceway Park\, 32670 Dyke Road\, Mission\, BC\, Canada
CATEGORIES:Practice Day
ORGANIZER;CN="Sports Car Club of BC":MAILTO:secretary@sccbc.net
END:VEVENT
BEGIN:VEVENT
DTSTART;TZID=America/Vancouver:20210813T080000
DTEND;TZID=America/Vancouver:20210813T170000
DTSTAMP:20260423T192149
CREATED:20210528T170658Z
LAST-MODIFIED:20210827T142524Z
UID:3458-1628841600-1628874000@www.caccautosport.org
SUMMARY:SCCBC Member Test and Tune Day #1
DESCRIPTION:
URL:https://www.caccautosport.org/event/bchmr-practice-day/
LOCATION:Mission Raceway Park\, 32670 Dyke Road\, Mission\, BC\, Canada
CATEGORIES:Road Racing
ORGANIZER;CN="Sports Car Club of BC":MAILTO:secretary@sccbc.net
END:VEVENT
BEGIN:VEVENT
DTSTART;TZID=America/Vancouver:20210724T080000
DTEND;TZID=America/Vancouver:20210725T170000
DTSTAMP:20260423T192149
CREATED:20210528T164357Z
LAST-MODIFIED:20210603T233326Z
UID:3447-1627113600-1627232400@www.caccautosport.org
SUMMARY:SCCBC CACC Road Race #2
DESCRIPTION:
URL:https://www.caccautosport.org/event/sccbc-cacc-race-4/
LOCATION:Mission Raceway Park\, 32670 Dyke Road\, Mission\, BC\, Canada
CATEGORIES:Road Racing
ORGANIZER;CN="Sports Car Club of BC":MAILTO:secretary@sccbc.net
END:VEVENT
BEGIN:VEVENT
DTSTART;TZID=America/Vancouver:20210612T080000
DTEND;TZID=America/Vancouver:20210613T170000
DTSTAMP:20260423T192149
CREATED:20210528T164435Z
LAST-MODIFIED:20210603T233307Z
UID:3446-1623484800-1623603600@www.caccautosport.org
SUMMARY:SCCBC CACC Road Race #1
DESCRIPTION:
URL:https://www.caccautosport.org/event/sccbc-cacc-race-3/
LOCATION:Mission Raceway Park\, 32670 Dyke Road\, Mission\, BC\, Canada
CATEGORIES:Road Racing
ORGANIZER;CN="Sports Car Club of BC":MAILTO:secretary@sccbc.net
END:VEVENT
END:VCALENDAR