BEGIN:VCALENDAR
VERSION:2.0
PRODID:-//The Confederation of Autosport Car Clubs - ECPv6.15.20//NONSGML v1.0//EN
CALSCALE:GREGORIAN
METHOD:PUBLISH
X-WR-CALNAME:The Confederation of Autosport Car Clubs
X-ORIGINAL-URL:https://www.caccautosport.org
X-WR-CALDESC:Events for The Confederation of Autosport Car Clubs
REFRESH-INTERVAL;VALUE=DURATION:PT1H
X-Robots-Tag:noindex
X-PUBLISHED-TTL:PT1H
BEGIN:VTIMEZONE
TZID:America/Vancouver
BEGIN:DAYLIGHT
TZOFFSETFROM:-0800
TZOFFSETTO:-0700
TZNAME:PDT
DTSTART:20200308T100000
END:DAYLIGHT
BEGIN:STANDARD
TZOFFSETFROM:-0700
TZOFFSETTO:-0800
TZNAME:PST
DTSTART:20201101T090000
END:STANDARD
BEGIN:DAYLIGHT
TZOFFSETFROM:-0800
TZOFFSETTO:-0700
TZNAME:PDT
DTSTART:20210314T100000
END:DAYLIGHT
BEGIN:STANDARD
TZOFFSETFROM:-0700
TZOFFSETTO:-0800
TZNAME:PST
DTSTART:20211107T090000
END:STANDARD
BEGIN:DAYLIGHT
TZOFFSETFROM:-0800
TZOFFSETTO:-0700
TZNAME:PDT
DTSTART:20220313T100000
END:DAYLIGHT
BEGIN:STANDARD
TZOFFSETFROM:-0700
TZOFFSETTO:-0800
TZNAME:PST
DTSTART:20221106T090000
END:STANDARD
BEGIN:DAYLIGHT
TZOFFSETFROM:-0800
TZOFFSETTO:-0700
TZNAME:PDT
DTSTART:20230312T100000
END:DAYLIGHT
BEGIN:STANDARD
TZOFFSETFROM:-0700
TZOFFSETTO:-0800
TZNAME:PST
DTSTART:20231105T090000
END:STANDARD
BEGIN:DAYLIGHT
TZOFFSETFROM:-0800
TZOFFSETTO:-0700
TZNAME:PDT
DTSTART:20240310T100000
END:DAYLIGHT
BEGIN:STANDARD
TZOFFSETFROM:-0700
TZOFFSETTO:-0800
TZNAME:PST
DTSTART:20241103T090000
END:STANDARD
BEGIN:DAYLIGHT
TZOFFSETFROM:-0800
TZOFFSETTO:-0700
TZNAME:PDT
DTSTART:20250309T100000
END:DAYLIGHT
BEGIN:STANDARD
TZOFFSETFROM:-0700
TZOFFSETTO:-0800
TZNAME:PST
DTSTART:20251102T090000
END:STANDARD
BEGIN:DAYLIGHT
TZOFFSETFROM:-0800
TZOFFSETTO:-0700
TZNAME:PDT
DTSTART:20260308T100000
END:DAYLIGHT
BEGIN:STANDARD
TZOFFSETFROM:-0700
TZOFFSETTO:-0800
TZNAME:PST
DTSTART:20261101T090000
END:STANDARD
END:VTIMEZONE
BEGIN:VEVENT
DTSTART;VALUE=DATE:20250425
DTEND;VALUE=DATE:20250426
DTSTAMP:20260423T143923
CREATED:20250408T135733Z
LAST-MODIFIED:20250408T140832Z
UID:9270-1745539200-1745625599@www.caccautosport.org
SUMMARY:SCCBC Road Race Practice Day
DESCRIPTION:Practice Day Rules
URL:https://www.caccautosport.org/event/sccbc-road-race-practice-day-2/
LOCATION:Road Course at Mission Raceway Park\, 32670 Dyke Road\, Mission\, BC\, Canada
CATEGORIES:Practice Day,Road Racing,Vintage Racing
ORGANIZER;CN="Sports Car Club of BC":MAILTO:secretary@sccbc.net
END:VEVENT
BEGIN:VEVENT
DTSTART;VALUE=DATE:20240524
DTEND;VALUE=DATE:20240525
DTSTAMP:20260423T143923
CREATED:20231128T204215Z
LAST-MODIFIED:20231128T204215Z
UID:8291-1716508800-1716595199@www.caccautosport.org
SUMMARY:SCCBC Race/Vintage Practice Day
DESCRIPTION:
URL:https://www.caccautosport.org/event/sccbc-race-vintage-practice-day-2/
LOCATION:Road Course at Mission Raceway Park\, 32670 Dyke Road\, Mission\, BC\, Canada
CATEGORIES:Practice Day,Road Racing
ORGANIZER;CN="Sports Car Club of BC":MAILTO:secretary@sccbc.net
END:VEVENT
BEGIN:VEVENT
DTSTART;VALUE=DATE:20240426
DTEND;VALUE=DATE:20240427
DTSTAMP:20260423T143923
CREATED:20231128T203945Z
LAST-MODIFIED:20231128T203945Z
UID:8287-1714089600-1714175999@www.caccautosport.org
SUMMARY:SCCBC Race/Vintage Practice Day
DESCRIPTION:
URL:https://www.caccautosport.org/event/sccbc-race-vintage-practice-day/
LOCATION:Road Course at Mission Raceway Park\, 32670 Dyke Road\, Mission\, BC\, Canada
CATEGORIES:Practice Day,Road Racing
ORGANIZER;CN="Sports Car Club of BC":MAILTO:secretary@sccbc.net
END:VEVENT
BEGIN:VEVENT
DTSTART;TZID=America/Vancouver:20230915T080000
DTEND;TZID=America/Vancouver:20230915T170000
DTSTAMP:20260423T143923
CREATED:20230224T164012Z
LAST-MODIFIED:20230224T164012Z
UID:7047-1694764800-1694797200@www.caccautosport.org
SUMMARY:ICSCC Test and Tune Day
DESCRIPTION:
URL:https://www.caccautosport.org/event/icscc-test-and-tune-day/
LOCATION:Mission Raceway Park\, 32670 Dyke Road\, Mission\, BC\, Canada
CATEGORIES:Practice Day,Road Racing
END:VEVENT
BEGIN:VEVENT
DTSTART;TZID=America/Vancouver:20230401T080000
DTEND;TZID=America/Vancouver:20230401T170000
DTSTAMP:20260423T143923
CREATED:20230320T145556Z
LAST-MODIFIED:20230320T145556Z
UID:7247-1680336000-1680368400@www.caccautosport.org
SUMMARY:SCCBC Race Practice Day
DESCRIPTION:
URL:https://www.caccautosport.org/event/sccbc-race-practice-day-2/
LOCATION:Road Course at Mission Raceway Park\, 32670 Dyke Road\, Mission\, BC\, Canada
CATEGORIES:Practice Day,Road Racing
ORGANIZER;CN="Sports Car Club of BC":MAILTO:secretary@sccbc.net
END:VEVENT
BEGIN:VEVENT
DTSTART;TZID=America/Vancouver:20220916T080000
DTEND;TZID=America/Vancouver:20220916T170000
DTSTAMP:20260423T143923
CREATED:20220902T141943Z
LAST-MODIFIED:20220916T155426Z
UID:4920-1663315200-1663347600@www.caccautosport.org
SUMMARY:SCCBC Road Race Practice Day
DESCRIPTION:A practice day ahead of the ICSCC race weekend on September 17 and 18.
URL:https://www.caccautosport.org/event/sccbc-road-race-practice-day/
LOCATION:Mission Raceway Park\, 32670 Dyke Road\, Mission\, BC\, Canada
CATEGORIES:Practice Day,Road Racing,Vintage Racing
ORGANIZER;CN="Sports Car Club of BC":MAILTO:secretary@sccbc.net
END:VEVENT
BEGIN:VEVENT
DTSTART;VALUE=DATE:20220408
DTEND;VALUE=DATE:20220409
DTSTAMP:20260423T143923
CREATED:20220327T161444Z
LAST-MODIFIED:20220327T161444Z
UID:4448-1649376000-1649462399@www.caccautosport.org
SUMMARY:SCCBC Race and Vintage Practice Day
DESCRIPTION:
URL:https://www.caccautosport.org/event/sccbc-race-and-vintage-practice-day/
LOCATION:Mission Raceway Park\, 32670 Dyke Road\, Mission\, BC\, Canada
CATEGORIES:Practice Day,Road Racing
ORGANIZER;CN="Sports Car Club of BC":MAILTO:secretary@sccbc.net
END:VEVENT
BEGIN:VEVENT
DTSTART;TZID=America/Vancouver:20210903T080000
DTEND;TZID=America/Vancouver:20210903T170000
DTSTAMP:20260423T143923
CREATED:20210827T142334Z
LAST-MODIFIED:20210827T142504Z
UID:3997-1630656000-1630688400@www.caccautosport.org
SUMMARY:SCCBC Member Test and Tune Day #2
DESCRIPTION:A pre-race practice day for race or vintage licensed SCCBC members.
URL:https://www.caccautosport.org/event/sccbc-race-practice-day/
LOCATION:Mission Raceway Park\, 32670 Dyke Road\, Mission\, BC\, Canada
CATEGORIES:Practice Day
ORGANIZER;CN="Sports Car Club of BC":MAILTO:secretary@sccbc.net
END:VEVENT
END:VCALENDAR