BEGIN:VCALENDAR
VERSION:2.0
PRODID:-//The Confederation of Autosport Car Clubs - ECPv6.15.20//NONSGML v1.0//EN
CALSCALE:GREGORIAN
METHOD:PUBLISH
X-ORIGINAL-URL:https://www.caccautosport.org
X-WR-CALDESC:Events for The Confederation of Autosport Car Clubs
REFRESH-INTERVAL;VALUE=DURATION:PT1H
X-Robots-Tag:noindex
X-PUBLISHED-TTL:PT1H
BEGIN:VTIMEZONE
TZID:America/Vancouver
BEGIN:DAYLIGHT
TZOFFSETFROM:-0800
TZOFFSETTO:-0700
TZNAME:PDT
DTSTART:20240310T100000
END:DAYLIGHT
BEGIN:STANDARD
TZOFFSETFROM:-0700
TZOFFSETTO:-0800
TZNAME:PST
DTSTART:20241103T090000
END:STANDARD
BEGIN:DAYLIGHT
TZOFFSETFROM:-0800
TZOFFSETTO:-0700
TZNAME:PDT
DTSTART:20250309T100000
END:DAYLIGHT
BEGIN:STANDARD
TZOFFSETFROM:-0700
TZOFFSETTO:-0800
TZNAME:PST
DTSTART:20251102T090000
END:STANDARD
BEGIN:DAYLIGHT
TZOFFSETFROM:-0800
TZOFFSETTO:-0700
TZNAME:PDT
DTSTART:20260308T100000
END:DAYLIGHT
BEGIN:STANDARD
TZOFFSETFROM:-0700
TZOFFSETTO:-0800
TZNAME:PST
DTSTART:20261101T090000
END:STANDARD
END:VTIMEZONE
BEGIN:VEVENT
DTSTART;VALUE=DATE:20251018
DTEND;VALUE=DATE:20251020
DTSTAMP:20260424T043809
CREATED:20251014T171739Z
LAST-MODIFIED:20251014T171759Z
UID:9457-1760745600-1760918399@www.caccautosport.org
SUMMARY:SCCBC Race Driver Training
DESCRIPTION:Sports Car Club of British Columbia \nRace Driver Training Schedule \nSaturday\, October 18\, 2025 \n07:00–07:30              Registration & Tech \n07:30–08:40              Track Walk \n08:45–09:00              Driver Meeting & Instructors Meeting\n3 groups for 3 exercises (first come\, first serve) \n09:10–09:40              Exercise #1 \n09:40–10:10              Exercise #2 \n10:40–11:10              Exercise #3 \n11:20–11:40              Driver Meeting & Instructors Meeting\nSlow Lapping  \n11:45–11:55              Group Green—Instructor Driving \n12:00–12:10              Group Yellow—Instructor Driving \n12:10–01:10              Lunch \n01:10–01:20              Driver Meeting & Instructors Meeting\nSlow Lapping  \n01:25–01:40              Group Green—Instructor/Student Driving \n01:50–02:05              Group Yellow—Instructor/Student Driving \n02:15–02:30              Driver Meeting\nLow Speed Lapping Passing on Front straight only \n02:35–02:55              Group Green—Student Driving \n03:05–03:25              Group Yellow—Student Driving \nModerate Speed Lapping\nPassing on Front straight only \n03:35–03:50              Group Green—Student Driving\nGroup Yellow to clubhouse\, written exam \n04:00–04:25              Group Yellow—Student Driving\nGroup Green to clubhouse\, written exam \n  \n  \nSunday October 19\, 2025 \n  \n08:00 – 09:00               Track Walk – mandatory \n09:00 – 09:15               Driver Meeting \nModerate speed sessions – PASSING ON FRONT STRAIGHT \n09:20 – 09:35      Group Green      Lapping – Instructor / Student Drive \n09:45 – 10:00               Group Yellow    Lapping \n  \n10:05 – 10:15     Driver meeting – INTRODUCE passing exercise \n10:20 – 10:35      Group Green      Passing exercise \n10:45 – 11:00               Group Yellow    Passing exercise \n  \n11:10 – 11:25     Driver Meeting  \n                             PASSING ON FRONT STRAIGHT & T2-T3 \nInstructors observe from corners– Student solo – \n11:35 – 11:50      Group Green      Lapping \n11:55 – 12:10               Group Yellow    Lapping \n  \n12:10 – 01:00               LUNCH  \n  \n01:05 – 01:20               Driver Meeting  \n                                                                                                                 PASSING ON FRONT & BACK STRAIGHTS & T2-T3 \nInstructors observe from corners– Student solo \n  \n01:25 – 01:40      Group Green      Lapping \n01:45 – 02:00      Group Yellow    Lapping \n  \n02:10 – 02:25               Driver Meeting \nInstructors & students observe from corners \n02:35 – 02:50      Group Green      Lapping \n03:05 – 03:20      Group Yellow    Lapping \n  \n03:30 – 03:45     Driver Meeting- start procedure \nRace start simulation \n03:50 – 04:10      Group Green      Lapping \n04:15 – 04:35      Group Yellow    Lapping \n04:45 – 05:00     Driver Meeting / Instructors’ Meeting   \n 
URL:https://www.caccautosport.org/event/sccbc-race-driver-training-3/
LOCATION:Mission Raceway Park\, 32670 Dyke Road\, Mission\, BC\, Canada
CATEGORIES:Race Driver Training,Road Racing
ORGANIZER;CN="Sports Car Club of BC":MAILTO:secretary@sccbc.net
END:VEVENT
END:VCALENDAR