BEGIN:VCALENDAR
VERSION:2.0
PRODID:-//The Confederation of Autosport Car Clubs - ECPv6.15.20//NONSGML v1.0//EN
CALSCALE:GREGORIAN
METHOD:PUBLISH
X-ORIGINAL-URL:https://www.caccautosport.org
X-WR-CALDESC:Events for The Confederation of Autosport Car Clubs
REFRESH-INTERVAL;VALUE=DURATION:PT1H
X-Robots-Tag:noindex
X-PUBLISHED-TTL:PT1H
BEGIN:VTIMEZONE
TZID:America/Vancouver
BEGIN:DAYLIGHT
TZOFFSETFROM:-0800
TZOFFSETTO:-0700
TZNAME:PDT
DTSTART:20210314T100000
END:DAYLIGHT
BEGIN:STANDARD
TZOFFSETFROM:-0700
TZOFFSETTO:-0800
TZNAME:PST
DTSTART:20211107T090000
END:STANDARD
BEGIN:DAYLIGHT
TZOFFSETFROM:-0800
TZOFFSETTO:-0700
TZNAME:PDT
DTSTART:20220313T100000
END:DAYLIGHT
BEGIN:STANDARD
TZOFFSETFROM:-0700
TZOFFSETTO:-0800
TZNAME:PST
DTSTART:20221106T090000
END:STANDARD
BEGIN:DAYLIGHT
TZOFFSETFROM:-0800
TZOFFSETTO:-0700
TZNAME:PDT
DTSTART:20230312T100000
END:DAYLIGHT
BEGIN:STANDARD
TZOFFSETFROM:-0700
TZOFFSETTO:-0800
TZNAME:PST
DTSTART:20231105T090000
END:STANDARD
BEGIN:DAYLIGHT
TZOFFSETFROM:-0800
TZOFFSETTO:-0700
TZNAME:PDT
DTSTART:20240310T100000
END:DAYLIGHT
BEGIN:STANDARD
TZOFFSETFROM:-0700
TZOFFSETTO:-0800
TZNAME:PST
DTSTART:20241103T090000
END:STANDARD
END:VTIMEZONE
BEGIN:VEVENT
DTSTART;VALUE=DATE:20230803
DTEND;VALUE=DATE:20230804
DTSTAMP:20260423T122020
CREATED:20230801T182417Z
LAST-MODIFIED:20230801T182417Z
UID:8108-1691020800-1691107199@www.caccautosport.org
SUMMARY:Speed Fanatics 1-Day Race Driver Training School
DESCRIPTION:
URL:https://www.caccautosport.org/event/speed-fanatics-1-day-race-driver-training-school/
LOCATION:Road Course at Mission Raceway Park\, 32670 Dyke Road\, Mission\, BC\, Canada
CATEGORIES:Race Driver Training,Road Racing
END:VEVENT
BEGIN:VEVENT
DTSTART;TZID=America/Vancouver:20230610T080000
DTEND;TZID=America/Vancouver:20230611T170000
DTSTAMP:20260423T122020
CREATED:20230224T163124Z
LAST-MODIFIED:20230529T134452Z
UID:7035-1686384000-1686502800@www.caccautosport.org
SUMMARY:SCCBC Road Race Driver Training
DESCRIPTION:
URL:https://www.caccautosport.org/event/sccbc-road-race-driver-training/
LOCATION:Road Course at Mission Raceway Park\, 32670 Dyke Road\, Mission\, BC\, Canada
CATEGORIES:Race Driver Training,Road Racing
ORGANIZER;CN="Sports Car Club of BC":MAILTO:secretary@sccbc.net
END:VEVENT
BEGIN:VEVENT
DTSTART;TZID=America/Vancouver:20230325T080000
DTEND;TZID=America/Vancouver:20230326T170000
DTSTAMP:20260423T122020
CREATED:20230202T033611Z
LAST-MODIFIED:20230202T033633Z
UID:6653-1679731200-1679850000@www.caccautosport.org
SUMMARY:SCCBC Race Driver Training On-course Instruction
DESCRIPTION:The Race Driver Training Program is organized and operated by the SCCBC’s Race Drivers Committee. Membership on this committee is by invitation. The members of this committee are a group of the best racers in the club. Most have won championships in their class and others are those who have done consistently well over the years and proven themselves capable of excelling in all race conditions\, and whom have demonstrated an ability to teach their craft to others. \nThe two day course includes vehicle inspection\, classroom instruction\, and on-track instruction. Students are assigned an instructor which they may share with one or two other students. In the classroom session\, the students will engage in discussions with several instructors and study the Race Driver Training Manual. This covers the basics such as seating position\, shifting\, racing lines and apexes\, flags and general race procedures. \nThe on-track instruction starts with a walk of the track and a description of the corners. Next come several exercises including threshold braking\, cornering and vision segments. By the end of the first day on track\, the students have increased their driving speed considerably. The second day on the track starts with a track walk and short review\, then it’s back out on the track for lapping. The speed is slowly increased with each session\, until the student is comfortable driving the track at near racing speeds. \nThe students are observed by the instructors throughout the entire weekend. They are given feedback on their driving position\, and control in the driver’s seat\, awareness of\, and response to\, flags and other cars as well as their chosen line through the corners.
URL:https://www.caccautosport.org/event/sccbc-race-driver-training-on-course-instruction/
LOCATION:Mission Raceway Park\, 32670 Dyke Road\, Mission\, BC\, Canada
CATEGORIES:Race Driver Training,Road Racing
ORGANIZER;CN="Sports Car Club of BC":MAILTO:secretary@sccbc.net
END:VEVENT
BEGIN:VEVENT
DTSTART;TZID=America/Vancouver:20230311T070000
DTEND;TZID=America/Vancouver:20230311T180000
DTSTAMP:20260423T122020
CREATED:20230301T012022Z
LAST-MODIFIED:20230307T214333Z
UID:7087-1678518000-1678557600@www.caccautosport.org
SUMMARY:Speed Fanatics MC Race Driver Training
DESCRIPTION:The Speed-Fanatics Motorsports Club (SFMC) is offering a one day on track\, focused race driver training school around the Speed-Fanatics Motorsports Circuit at Mission Raceway Park. \nOur one day program is perfect for those who have previous track experience and would like to learn more about racing knowledge\, techniques\, and procedures. \nPrior to the one day track event\, there will be an online classroom session held via Zoom on March 4th at 10am PST. \nThe classroom session will in depth go through subjects such as seating positions\, racing lines\, vehicle dynamics\, racing knowledge\, theory\, flags\, procedures and conducts involved to become a race driver. \nAll instructors involved in teaching this course are CACC/ASN licensed race instructors and most of them are current race drivers as well. \nThe program rapidly picks up the pace as you learn and experience each aspect of racing with in car instructing on the race track. \nThis is the ideal program for helping motorsport enthusiasts in having their dreams come true. \nUpon successful completion of this program\, students will receive a Certification of Completion document which will is needed in applying for their novice race licenses with the CACC. \nProgram Cost – $699
URL:https://www.caccautosport.org/event/sfmc-race-driver-training/
LOCATION:Road Course at Mission Raceway Park\, 32670 Dyke Road\, Mission\, BC\, Canada
CATEGORIES:Race Driver Training,Road Racing
END:VEVENT
BEGIN:VEVENT
DTSTART;VALUE=DATE:20220813
DTEND;VALUE=DATE:20220815
DTSTAMP:20260423T122020
CREATED:20220428T144906Z
LAST-MODIFIED:20220428T144906Z
UID:4600-1660348800-1660521599@www.caccautosport.org
SUMMARY:SCCBC Race Driver Training
DESCRIPTION:
URL:https://www.caccautosport.org/event/sccbc-race-driver-training-2/
LOCATION:Mission Raceway Park\, 32670 Dyke Road\, Mission\, BC\, Canada
CATEGORIES:Race Driver Training
ORGANIZER;CN="Sports Car Club of BC":MAILTO:secretary@sccbc.net
END:VEVENT
BEGIN:VEVENT
DTSTART;VALUE=DATE:20220409
DTEND;VALUE=DATE:20220411
DTSTAMP:20260423T122020
CREATED:20220327T161230Z
LAST-MODIFIED:20220327T161230Z
UID:4446-1649462400-1649635199@www.caccautosport.org
SUMMARY:SCCBC Race Driver Training
DESCRIPTION:
URL:https://www.caccautosport.org/event/sccbc-race-driver-training/
LOCATION:Mission Raceway Park\, 32670 Dyke Road\, Mission\, BC\, Canada
CATEGORIES:Race Driver Training
ORGANIZER;CN="Sports Car Club of BC":MAILTO:secretary@sccbc.net
END:VEVENT
BEGIN:VEVENT
DTSTART;VALUE=DATE:20220402
DTEND;VALUE=DATE:20220403
DTSTAMP:20260423T122020
CREATED:20220327T155623Z
LAST-MODIFIED:20220327T155623Z
UID:4430-1648857600-1648943999@www.caccautosport.org
SUMMARY:VMSC Race Driver Training
DESCRIPTION:
URL:https://www.caccautosport.org/event/vmsc-race-driver-training-2/
LOCATION:Westshore Motorsports Park\, 2207 Millstream Rd\, Victoria\, BC\, V9B0J7\, Canada
CATEGORIES:Race Driver Training
END:VEVENT
END:VCALENDAR