BEGIN:VCALENDAR
VERSION:2.0
PRODID:-//The Confederation of Autosport Car Clubs - ECPv6.15.20//NONSGML v1.0//EN
CALSCALE:GREGORIAN
METHOD:PUBLISH
X-ORIGINAL-URL:https://www.caccautosport.org
X-WR-CALDESC:Events for The Confederation of Autosport Car Clubs
REFRESH-INTERVAL;VALUE=DURATION:PT1H
X-Robots-Tag:noindex
X-PUBLISHED-TTL:PT1H
BEGIN:VTIMEZONE
TZID:America/Vancouver
BEGIN:DAYLIGHT
TZOFFSETFROM:-0800
TZOFFSETTO:-0700
TZNAME:PDT
DTSTART:20210314T100000
END:DAYLIGHT
BEGIN:STANDARD
TZOFFSETFROM:-0700
TZOFFSETTO:-0800
TZNAME:PST
DTSTART:20211107T090000
END:STANDARD
BEGIN:DAYLIGHT
TZOFFSETFROM:-0800
TZOFFSETTO:-0700
TZNAME:PDT
DTSTART:20220313T100000
END:DAYLIGHT
BEGIN:STANDARD
TZOFFSETFROM:-0700
TZOFFSETTO:-0800
TZNAME:PST
DTSTART:20221106T090000
END:STANDARD
BEGIN:DAYLIGHT
TZOFFSETFROM:-0800
TZOFFSETTO:-0700
TZNAME:PDT
DTSTART:20230312T100000
END:DAYLIGHT
BEGIN:STANDARD
TZOFFSETFROM:-0700
TZOFFSETTO:-0800
TZNAME:PST
DTSTART:20231105T090000
END:STANDARD
END:VTIMEZONE
BEGIN:VEVENT
DTSTART;VALUE=DATE:20220909
DTEND;VALUE=DATE:20220913
DTSTAMP:20260423T203534
CREATED:20220319T214402Z
LAST-MODIFIED:20220319T214833Z
UID:4395-1662681600-1663027199@www.caccautosport.org
SUMMARY:AHOABC North West Meet
DESCRIPTION:Open to any and all Austin-Healey Owners and interested parties. Registration required in advance via the link below: \nhttps://www.healeys.ca/ Untitled Page (healeys.ca)
URL:https://www.caccautosport.org/event/ahoabc-north-west-meet/
LOCATION:Harrison Hot Springs Resort\, 100 Esplanade Avenue\, Harrison Hot Springs\, BC\, Harrison Hot Springs\, BC\, V0M 1K0\, Canada
CATEGORIES:Marque Club Meet,Social Event
END:VEVENT
BEGIN:VEVENT
DTSTART;TZID=America/Vancouver:20220521T153000
DTEND;TZID=America/Vancouver:20220521T190000
DTSTAMP:20260423T203534
CREATED:20220319T214028Z
LAST-MODIFIED:20220319T214903Z
UID:4392-1653147000-1653159600@www.caccautosport.org
SUMMARY:AHOABC BBQ
DESCRIPTION:Barbeque to be held after the All British Field Meet on Saturday\, May 21st at 3:30 PM\, at the UBC University Golf Club. Registration required in advance by email: bgdrab@redzone.ca. \nPast members\, perspective members and interested parties welcome.
URL:https://www.caccautosport.org/event/ahoabc-bbq/
LOCATION:UBC University Golf Club\, 5185 University Blvd\, Vancouver\, BC\, V6T 1X5\, Canada
CATEGORIES:Social Event
ORGANIZER;CN="Austin Healey Owners Association of BC":MAILTO:ahoabc@healeys.ca
END:VEVENT
END:VCALENDAR