BEGIN:VCALENDAR
VERSION:2.0
PRODID:-//The Confederation of Autosport Car Clubs - ECPv6.15.20//NONSGML v1.0//EN
CALSCALE:GREGORIAN
METHOD:PUBLISH
X-ORIGINAL-URL:https://www.caccautosport.org
X-WR-CALDESC:Events for The Confederation of Autosport Car Clubs
REFRESH-INTERVAL;VALUE=DURATION:PT1H
X-Robots-Tag:noindex
X-PUBLISHED-TTL:PT1H
BEGIN:VTIMEZONE
TZID:America/Vancouver
BEGIN:DAYLIGHT
TZOFFSETFROM:-0800
TZOFFSETTO:-0700
TZNAME:PDT
DTSTART:20220313T100000
END:DAYLIGHT
BEGIN:STANDARD
TZOFFSETFROM:-0700
TZOFFSETTO:-0800
TZNAME:PST
DTSTART:20221106T090000
END:STANDARD
BEGIN:DAYLIGHT
TZOFFSETFROM:-0800
TZOFFSETTO:-0700
TZNAME:PDT
DTSTART:20230312T100000
END:DAYLIGHT
BEGIN:STANDARD
TZOFFSETFROM:-0700
TZOFFSETTO:-0800
TZNAME:PST
DTSTART:20231105T090000
END:STANDARD
BEGIN:DAYLIGHT
TZOFFSETFROM:-0800
TZOFFSETTO:-0700
TZNAME:PDT
DTSTART:20240310T100000
END:DAYLIGHT
BEGIN:STANDARD
TZOFFSETFROM:-0700
TZOFFSETTO:-0800
TZNAME:PST
DTSTART:20241103T090000
END:STANDARD
BEGIN:DAYLIGHT
TZOFFSETFROM:-0800
TZOFFSETTO:-0700
TZNAME:PDT
DTSTART:20250309T100000
END:DAYLIGHT
BEGIN:STANDARD
TZOFFSETFROM:-0700
TZOFFSETTO:-0800
TZNAME:PST
DTSTART:20251102T090000
END:STANDARD
BEGIN:DAYLIGHT
TZOFFSETFROM:-0800
TZOFFSETTO:-0700
TZNAME:PDT
DTSTART:20260308T100000
END:DAYLIGHT
BEGIN:STANDARD
TZOFFSETFROM:-0700
TZOFFSETTO:-0800
TZNAME:PST
DTSTART:20261101T090000
END:STANDARD
END:VTIMEZONE
BEGIN:VEVENT
DTSTART;VALUE=DATE:20250517
DTEND;VALUE=DATE:20250519
DTSTAMP:20260423T095908
CREATED:20250320T152018Z
LAST-MODIFIED:20250320T152018Z
UID:9216-1747440000-1747612799@www.caccautosport.org
SUMMARY:KMMS Knox Mountain Hillclimb
DESCRIPTION:The Leavitt Machinery Knox Mountain Hill Climb is an annual event at Knox Mountain Park\, in the City of Kelowna BC\, Canada. The 2.2 mile (3.5 km) paved road to the summit is narrow with off-camber corners\, steep grades\, and climbs approximately 800 feet (245 meters) in elevation for an average grade of 6.7%. The current hill record is 1m:34.903\, held by Aran Cook of Edmonton\, Alberta.
URL:https://www.caccautosport.org/event/kmms-knox-mountain-hillclimb/
LOCATION:Knox Mountain\, Kelowna\, BC\, Canada
CATEGORIES:Hillclimb,Time Attack
END:VEVENT
BEGIN:VEVENT
DTSTART;TZID=America/Vancouver:20240518T080000
DTEND;TZID=America/Vancouver:20240519T170000
DTSTAMP:20260423T095908
CREATED:20240411T142333Z
LAST-MODIFIED:20240411T142333Z
UID:8793-1716019200-1716138000@www.caccautosport.org
SUMMARY:Knox Mountain Hill Climb
DESCRIPTION:
URL:https://www.caccautosport.org/event/knox-mountain-hill-climb-3/
LOCATION:Knox Mountain\, Kelowna\, BC\, Canada
CATEGORIES:Hillclimb,Time Attack
END:VEVENT
BEGIN:VEVENT
DTSTART;VALUE=DATE:20230520
DTEND;VALUE=DATE:20230522
DTSTAMP:20260423T095908
CREATED:20230315T180253Z
LAST-MODIFIED:20230315T180253Z
UID:7211-1684540800-1684713599@www.caccautosport.org
SUMMARY:Knox Mountain Hill Climb
DESCRIPTION:
URL:https://www.caccautosport.org/event/knox-mountain-hill-climb-2/
LOCATION:Knox Mountain\, Kelowna\, BC\, Canada
CATEGORIES:Hillclimb,Time Attack
END:VEVENT
END:VCALENDAR