BEGIN:VCALENDAR
VERSION:2.0
PRODID:-//The Confederation of Autosport Car Clubs - ECPv6.15.20//NONSGML v1.0//EN
CALSCALE:GREGORIAN
METHOD:PUBLISH
X-WR-CALNAME:The Confederation of Autosport Car Clubs
X-ORIGINAL-URL:https://www.caccautosport.org
X-WR-CALDESC:Events for The Confederation of Autosport Car Clubs
REFRESH-INTERVAL;VALUE=DURATION:PT1H
X-Robots-Tag:noindex
X-PUBLISHED-TTL:PT1H
BEGIN:VTIMEZONE
TZID:America/Vancouver
BEGIN:DAYLIGHT
TZOFFSETFROM:-0800
TZOFFSETTO:-0700
TZNAME:PDT
DTSTART:20200308T100000
END:DAYLIGHT
BEGIN:STANDARD
TZOFFSETFROM:-0700
TZOFFSETTO:-0800
TZNAME:PST
DTSTART:20201101T090000
END:STANDARD
BEGIN:DAYLIGHT
TZOFFSETFROM:-0800
TZOFFSETTO:-0700
TZNAME:PDT
DTSTART:20210314T100000
END:DAYLIGHT
BEGIN:STANDARD
TZOFFSETFROM:-0700
TZOFFSETTO:-0800
TZNAME:PST
DTSTART:20211107T090000
END:STANDARD
BEGIN:DAYLIGHT
TZOFFSETFROM:-0800
TZOFFSETTO:-0700
TZNAME:PDT
DTSTART:20220313T100000
END:DAYLIGHT
BEGIN:STANDARD
TZOFFSETFROM:-0700
TZOFFSETTO:-0800
TZNAME:PST
DTSTART:20221106T090000
END:STANDARD
BEGIN:DAYLIGHT
TZOFFSETFROM:-0800
TZOFFSETTO:-0700
TZNAME:PDT
DTSTART:20230312T100000
END:DAYLIGHT
BEGIN:STANDARD
TZOFFSETFROM:-0700
TZOFFSETTO:-0800
TZNAME:PST
DTSTART:20231105T090000
END:STANDARD
BEGIN:DAYLIGHT
TZOFFSETFROM:-0800
TZOFFSETTO:-0700
TZNAME:PDT
DTSTART:20240310T100000
END:DAYLIGHT
BEGIN:STANDARD
TZOFFSETFROM:-0700
TZOFFSETTO:-0800
TZNAME:PST
DTSTART:20241103T090000
END:STANDARD
BEGIN:DAYLIGHT
TZOFFSETFROM:-0800
TZOFFSETTO:-0700
TZNAME:PDT
DTSTART:20250309T100000
END:DAYLIGHT
BEGIN:STANDARD
TZOFFSETFROM:-0700
TZOFFSETTO:-0800
TZNAME:PST
DTSTART:20251102T090000
END:STANDARD
BEGIN:DAYLIGHT
TZOFFSETFROM:-0800
TZOFFSETTO:-0700
TZNAME:PDT
DTSTART:20260308T100000
END:DAYLIGHT
BEGIN:STANDARD
TZOFFSETFROM:-0700
TZOFFSETTO:-0800
TZNAME:PST
DTSTART:20261101T090000
END:STANDARD
END:VTIMEZONE
BEGIN:VEVENT
DTSTART;TZID=America/Vancouver:20250615T080000
DTEND;TZID=America/Vancouver:20250615T160000
DTSTAMP:20260423T133413
CREATED:20250520T202002Z
LAST-MODIFIED:20250521T143547Z
UID:9371-1749974400-1750003200@www.caccautosport.org
SUMMARY:VMSC Track Day
DESCRIPTION:VMSC Supplemental Regulations 2025\nLapping at VIMC \nApplicable to all Lapping events at Vancouver Island Motorsport Circuit for 2025 \nVenue:\nVancouver Island Motorsports Circuit (VIMC)\n4063 Cowichan Valley Hwy\, Duncan\, BC V9L 6K4 \nEvent Schedule:\n08:00 – Gates open for registration and tech.\n08:40 – Drivers Meeting\n09:00 – Track goes hot for AM sessions\n12:00 – Break\n13:00 – Track goes hot for PM sessions\n16:00 – Track goes cold\nRun Groups:\nEntrants will be assigned a run group based on driver experience. \nContact:\nClub Competition Director: competition@victoriamotorsports.ca  \nEVENT DESCRIPTION: This event is designed for a driver to improve and test their car handling skills at speeds that may be slightly higher than Autoslalom speeds.\nEntrants will be divided into 3 groups with each group getting approximately 20 minute sessions rotating through the course of the day. \nWAIVERS: An online CACC Annual General Waiver will be used\, replacing paper waivers. Waiver is a available via: https://www.caccautosport.org/waiver \nENTRANT ELIGIBILITY: All drivers must hold a current provincial or state driver’s license. (Graduated license\, where the\ndriver is authorized to drive without another licensed driver being present\, are permitted.) \nRULES: This event will be run under the 2023 CACC Lapping rulebook. Participants are expected to be familiar with this rulebook. \nNOTE: See “PERSONAL PROTECTIVE EQUIPMENT” section below for helmet requirements. \nApplicable sections of this rule book include\, but are not limited to;\nSection 14: Competitor Eligibility \nAdditional requirements for open vehicles; rollover protection\nUnmodified convertible cars with stock roll protection will be allowed. \nThe top of the roll bar must not be below the top of the driver’s helmet when the driver is in the normal driving position and must not be more than 15.24 cm (6 inches) behind the driver. It is strongly suggested that the roll bar be at least 7.62 cm (3 inches) above the drivers’ helmet. In the case of two drivers\, both drivers must be the roll bar height requirement\, however\, only one driver must be within six inches of the roll bar. In a closed car with a roll bar/cage\, it must be as close as possible to the interior top of the car. \nPERSONAL PROTECTIVE EQUIPMENT: All competitors must wear helmets meeting one of the following standards:\n●	BS 6658-85 TYPE A/FR with all amendments (Great Britain)\n●	Snell Foundation M or SA 2015 or newer standard.\n●	SFI\, Spec 31.1A and 31.2A (USA) (Note: suffix must include “A”)\n●	FIA standards 8860-2010\, 8860-2018\, 8858-2002\, 8858-2010 or 8859-2015\n●	Or any helmet listed in current FIA Technical List 25 or FIA Technical List 49 \nSnell “M” helmets may not be worn in any roll bar or roll cage equipped vehicle.  \nMINORS: Anyone under the age of 19 years of age entering the closed area shall require parental consent via the Annual Parental Consent waiver. In addition\, a minor competing in the event must fill out and sign the Annual Minor Participant Waiver.\nForms will be available via the CACC Website at: https://www.caccautosport.org/  \nSPEED LIMITS: The off-course speed limit is 15 kph. This applies to all pit\, grid\, and parking areas past the main gate. Please observe posted speed limits on local roads. Violators are subject to immediate disqualification\, a potential ban\, and shall be escorted from the site.  \nINTOXICANTS: Absolutely no alcoholic beverages or drugs shall be permitted at the event. Please refer to the Alcohol and Narcotics Policy as outlined in Sections 14.3/14.4 of the 2023 Lapping Rulebook \nCHILDREN & PETS: The grid\, paddock\, and course areas are off-limits to small children. Pets are not permitted on-site at VIMC.  \nSITE AMENITIES: Air and helmets may not be readily available at the event site. Competitors must be prepared to make other arrangements should these items be unavailable. Fuel is available for sale from VIMC.  \nRESPECT THE SITE: Please do not litter. Keep your pit area safe. Any and all fluids removed from a vehicle must be taken with you at the end of the event day. Transit across the site parking lots shall be done with restraint -Stunting and similar exhibitions are prohibited and shall be dealt with severely.  \nPASSENGER POLICY: Passengers must wear an approved helmet and complete all waivers prior to entering the hot pit. Novices are not permitted passengers except for instruction purposes.  \nEQUIPMENT DAMAGE: Competitors are responsible for any damage to VMSC equipment and property (i.e. timing gear)\, accidental or otherwise.  \nOnly competition and official vehicles are allowed entry to the closed area. Tow vehicles and trailers require approval from event staff prior to entry.
URL:https://www.caccautosport.org/event/vmsc-track-day/
LOCATION:Vancouver Island Motorsport Circuit\, 4063 Cowichan Valley Hwy\, Lake Cowichan\, BC\, V9L 6K4\, Canada
CATEGORIES:Lapping,Track Days
END:VEVENT
BEGIN:VEVENT
DTSTART;TZID=America/Vancouver:20241026T160000
DTEND;TZID=America/Vancouver:20241026T213000
DTSTAMP:20260423T133413
CREATED:20241031T145300Z
LAST-MODIFIED:20241031T145340Z
UID:8964-1729958400-1729978200@www.caccautosport.org
SUMMARY:SFMC Time Attack
DESCRIPTION:TIME ATTACK\, RELAXED AND ADVANCED LAPPING\, TOUGE BATTLES\n3:45PM to 4:30PM Registrations and Tech\n4:30PM Drivers Meeting\n5:00PM Advanced Lapping\, Time Attack Warm Up\n5:20PM Relaxed Lapping\n5:40PM Time Attack Timed Run #1\n6:00PM Advanced Lapping\n6:20PM Relaxed Lapping\n6:40PM Time Attack Timed Run #2\n7:00PM Advanced Lapping\n7:20PM Relaxed Lapping\n7:40PM Time Attack Timed Run #3\n8:00PM to 8:15PM Touge Battles Drivers Meeting and Track Switch Over\n8:15PM to 9:15PM Touge Battles Eliminations\n9:30PM Track Closed\n10:00PM Gates Closed
URL:https://www.caccautosport.org/event/sfmc-time-attack/
LOCATION:Road Course at Mission Raceway Park\, 32670 Dyke Road\, Mission\, BC\, Canada
CATEGORIES:Lapping,Time Attack,Touge
END:VEVENT
BEGIN:VEVENT
DTSTART;TZID=America/Vancouver:20240701T083000
DTEND;TZID=America/Vancouver:20240701T180000
DTSTAMP:20260423T133413
CREATED:20240524T142843Z
LAST-MODIFIED:20240625T152643Z
UID:8872-1719822600-1719856800@www.caccautosport.org
SUMMARY:VMSC Lapping Day at VIMC
DESCRIPTION:Vancouver Island Motorsports Circuit (VIMC)\n4063 Cowichan Valley Hwy\, Duncan\, BC V9L 6K4\nEvent Schedule:\n0830 – Gates Open\, Registration\, Tech\, and Track Walk\n0930 – Mandatory drivers meeting\n1000 – First run group on track\n1700 – Checkered Flag for last run group of the day\n1800 – premises must be vacated\nRun Groups:\nEntrants will be assigned a run group based experience level.
URL:https://www.caccautosport.org/event/vmsc-time-attack-at-vimc-2/
LOCATION:Vancouver Island Motorsport Circuit\, 4063 Cowichan Valley Hwy\, Lake Cowichan\, BC\, V9L 6K4\, Canada
CATEGORIES:Lapping
END:VEVENT
BEGIN:VEVENT
DTSTART;VALUE=DATE:20240607
DTEND;VALUE=DATE:20240608
DTSTAMP:20260423T133413
CREATED:20240605T154454Z
LAST-MODIFIED:20240605T162013Z
UID:8876-1717718400-1717804799@www.caccautosport.org
SUMMARY:Speed-Fanatics Time Attack / Lapping / Touge
DESCRIPTION:2024.06.07 SFMC Time Attack / Lapping / Touge Event Schedule\n7:15am Gates Open\n7:45am Registration and Tech\n8:30am Drivers Meeting\n9:00am Lapping Closed Wheel\n9:20am Lapping Open Wheel\n9:40am Time Attack Practice\n10:00am Lapping Closed Wheel\n10:20am Lapping Open Wheel\n10:40am Time Attack Qualifying\n11:15am Lapping Closed Wheel\n11:35am Lapping Open Wheel\n12:00pm Time Attack 1st Timed Run #1\n12:30pm – 1:15pm LUNCH BREAK\n1:20pm Lapping Closed Wheel\n1:40pm Lapping Open Wheel\n2:00pm Time Attack 1st Timed Run #2\n2:30pm Touge Trial Run (Drivers will be paired based on their best TA lap times)\n4:00pm End of Day\n5:00pm Gates Close
URL:https://www.caccautosport.org/event/speed-fanatics-time-attack-3/
LOCATION:Road Course at Mission Raceway Park\, 32670 Dyke Road\, Mission\, BC\, Canada
CATEGORIES:Lapping,Time Attack,Touge
END:VEVENT
BEGIN:VEVENT
DTSTART;TZID=America/Vancouver:20230327T190000
DTEND;TZID=America/Vancouver:20230327T200000
DTSTAMP:20260423T133413
CREATED:20230224T145622Z
LAST-MODIFIED:20230224T145916Z
UID:7009-1679943600-1679947200@www.caccautosport.org
SUMMARY:CACC Time Attack Discipline Spring General Meeting
DESCRIPTION:
URL:https://www.caccautosport.org/event/cacc-time-attack-discipline-spring-general-meeting/
LOCATION:Virtual Meeting
CATEGORIES:Administration,HPDE,Lapping,Time Attack,Track Days
END:VEVENT
BEGIN:VEVENT
DTSTART;TZID=America/Vancouver:20220831T170000
DTEND;TZID=America/Vancouver:20220831T220000
DTSTAMP:20260423T133413
CREATED:20220523T144657Z
LAST-MODIFIED:20220523T144657Z
UID:4685-1661965200-1661983200@www.caccautosport.org
SUMMARY:VMSC Lapping Day
DESCRIPTION:Victoria Motorsports Club Lapping Day.
URL:https://www.caccautosport.org/event/vmsc-lapping-day-5/
LOCATION:BC
CATEGORIES:Lapping
END:VEVENT
BEGIN:VEVENT
DTSTART;TZID=America/Vancouver:20220718T040000
DTEND;TZID=America/Vancouver:20220718T043000
DTSTAMP:20260423T133413
CREATED:20220701T143558Z
LAST-MODIFIED:20220701T153053Z
UID:4717-1658116800-1658118600@www.caccautosport.org
SUMMARY:VCMC Lapping Day
DESCRIPTION:Register here!
URL:https://www.caccautosport.org/event/vcmc-lapping-day-5/
LOCATION:Mission Raceway Park\, 32670 Dyke Road\, Mission\, BC\, Canada
CATEGORIES:Lapping
END:VEVENT
BEGIN:VEVENT
DTSTART;TZID=America/Vancouver:20220610T170000
DTEND;TZID=America/Vancouver:20220610T220000
DTSTAMP:20260423T133413
CREATED:20220523T144551Z
LAST-MODIFIED:20220523T144551Z
UID:4682-1654880400-1654898400@www.caccautosport.org
SUMMARY:VMSC Lapping Day
DESCRIPTION:Victoria Motorsports Club Lapping Day.
URL:https://www.caccautosport.org/event/vmsc-lapping-day-4/
LOCATION:Westshore Motorsports Park\, 2207 Millstream Rd\, Victoria\, BC\, V9B0J7\, Canada
CATEGORIES:Lapping
END:VEVENT
BEGIN:VEVENT
DTSTART;VALUE=DATE:20220516
DTEND;VALUE=DATE:20220517
DTSTAMP:20260423T133413
CREATED:20220509T163634Z
LAST-MODIFIED:20220509T163634Z
UID:4633-1652659200-1652745599@www.caccautosport.org
SUMMARY:VCMC Lapping Day
DESCRIPTION:
URL:https://www.caccautosport.org/event/vcmc-lapping-day-4/
LOCATION:Area 27 Motorsport Park\, 27 Area 27 Drive\, Oliver\, BC\, V0H1T0\, Canada
CATEGORIES:Lapping
END:VEVENT
BEGIN:VEVENT
DTSTART;TZID=America/Vancouver:20220425T070000
DTEND;TZID=America/Vancouver:20220425T163000
DTSTAMP:20260423T133413
CREATED:20220418T023109Z
LAST-MODIFIED:20220418T023109Z
UID:4582-1650870000-1650904200@www.caccautosport.org
SUMMARY:VCMC Lapping Day
DESCRIPTION:
URL:https://www.caccautosport.org/event/vcmc-lapping-day-3/
LOCATION:Mission Raceway Park\, 32670 Dyke Road\, Mission\, BC\, Canada
CATEGORIES:Lapping
END:VEVENT
BEGIN:VEVENT
DTSTART;TZID=America/Vancouver:20210926T080000
DTEND;TZID=America/Vancouver:20210926T160000
DTSTAMP:20260423T133413
CREATED:20210617T163204Z
LAST-MODIFIED:20210617T163204Z
UID:3688-1632643200-1632672000@www.caccautosport.org
SUMMARY:VMSC Lapping Day
DESCRIPTION:
URL:https://www.caccautosport.org/event/vmsc-lapping-day-2/
LOCATION:BC
CATEGORIES:Lapping
END:VEVENT
BEGIN:VEVENT
DTSTART;TZID=America/Vancouver:20210909T170000
DTEND;TZID=America/Vancouver:20210909T200000
DTSTAMP:20260423T133413
CREATED:20210809T142349Z
LAST-MODIFIED:20210827T142723Z
UID:3869-1631206800-1631217600@www.caccautosport.org
SUMMARY:VCMC Lapping Day
DESCRIPTION:
URL:https://www.caccautosport.org/event/vcmc-autocross-3/
LOCATION:Mission Raceway Park\, 32670 Dyke Road\, Mission\, BC\, Canada
CATEGORIES:Lapping
END:VEVENT
BEGIN:VEVENT
DTSTART;VALUE=DATE:20210809
DTEND;VALUE=DATE:20210810
DTSTAMP:20260423T133413
CREATED:20210730T164345Z
LAST-MODIFIED:20210730T164345Z
UID:3860-1628467200-1628553599@www.caccautosport.org
SUMMARY:UBCSCC Lapping Day
DESCRIPTION:
URL:https://www.caccautosport.org/event/ubcscc-lapping-day-3/
LOCATION:Mission Raceway Park\, 32670 Dyke Road\, Mission\, BC\, Canada
CATEGORIES:Lapping
ORGANIZER;CN="UBC Sports Car Club":MAILTO:info@ubcscc.com
END:VEVENT
BEGIN:VEVENT
DTSTART;TZID=America/Vancouver:20210723T080000
DTEND;TZID=America/Vancouver:20210723T170000
DTSTAMP:20260423T133413
CREATED:20210720T153402Z
LAST-MODIFIED:20210720T153856Z
UID:3827-1627027200-1627059600@www.caccautosport.org
SUMMARY:VMSC Lapping Day
DESCRIPTION:
URL:https://www.caccautosport.org/event/vmsc-lapping-day-3/
LOCATION:BC
CATEGORIES:Lapping
END:VEVENT
BEGIN:VEVENT
DTSTART;TZID=America/Vancouver:20210723T080000
DTEND;TZID=America/Vancouver:20210723T160000
DTSTAMP:20260423T133413
CREATED:20210617T162855Z
LAST-MODIFIED:20210617T163235Z
UID:3684-1627027200-1627056000@www.caccautosport.org
SUMMARY:VMSC Lapping Day
DESCRIPTION:
URL:https://www.caccautosport.org/event/vmsc-lapping-day/
LOCATION:BC
CATEGORIES:Lapping
END:VEVENT
BEGIN:VEVENT
DTSTART;TZID=America/Vancouver:20210719T070000
DTEND;TZID=America/Vancouver:20210719T163000
DTSTAMP:20260423T133413
CREATED:20210704T144713Z
LAST-MODIFIED:20210704T144713Z
UID:3779-1626678000-1626712200@www.caccautosport.org
SUMMARY:VCMC Lapping Day
DESCRIPTION:
URL:https://www.caccautosport.org/event/vcmc-lapping-day-2/
LOCATION:Mission Raceway Park\, 32670 Dyke Road\, Mission\, BC\, Canada
CATEGORIES:Lapping
END:VEVENT
BEGIN:VEVENT
DTSTART;TZID=America/Vancouver:20210708T080000
DTEND;TZID=America/Vancouver:20210708T170000
DTSTAMP:20260423T133413
CREATED:20210621T152321Z
LAST-MODIFIED:20210621T152321Z
UID:3726-1625731200-1625763600@www.caccautosport.org
SUMMARY:UBCSCC Lapping Day
DESCRIPTION:
URL:https://www.caccautosport.org/event/ubcscc-lapping-day-2/
LOCATION:Mission Raceway Park\, 32670 Dyke Road\, Mission\, BC\, Canada
CATEGORIES:Lapping
ORGANIZER;CN="UBC Sports Car Club":MAILTO:info@ubcscc.com
END:VEVENT
BEGIN:VEVENT
DTSTART;TZID=America/Vancouver:20210614T080000
DTEND;TZID=America/Vancouver:20210614T170000
DTSTAMP:20260423T133413
CREATED:20210528T150438Z
LAST-MODIFIED:20210528T150438Z
UID:3385-1623657600-1623690000@www.caccautosport.org
SUMMARY:VCMC Lapping Day
DESCRIPTION:
URL:https://www.caccautosport.org/event/vcmc-lapping-day/
LOCATION:Mission Raceway Park\, 32670 Dyke Road\, Mission\, BC\, Canada
CATEGORIES:Lapping
END:VEVENT
BEGIN:VEVENT
DTSTART;TZID=America/Vancouver:20210610T080000
DTEND;TZID=America/Vancouver:20210610T170000
DTSTAMP:20260423T133413
CREATED:20210527T143443Z
LAST-MODIFIED:20210527T143443Z
UID:3293-1623312000-1623344400@www.caccautosport.org
SUMMARY:UBCSCC Lapping Day
DESCRIPTION:
URL:https://www.caccautosport.org/event/ubcscc-lapping-day/
LOCATION:Mission Raceway Park\, 32670 Dyke Road\, Mission\, BC\, Canada
CATEGORIES:Lapping
ORGANIZER;CN="UBC Sports Car Club":MAILTO:info@ubcscc.com
END:VEVENT
END:VCALENDAR