BEGIN:VCALENDAR
VERSION:2.0
PRODID:-//The Confederation of Autosport Car Clubs - ECPv6.15.20//NONSGML v1.0//EN
CALSCALE:GREGORIAN
METHOD:PUBLISH
X-ORIGINAL-URL:https://www.caccautosport.org
X-WR-CALDESC:Events for The Confederation of Autosport Car Clubs
REFRESH-INTERVAL;VALUE=DURATION:PT1H
X-Robots-Tag:noindex
X-PUBLISHED-TTL:PT1H
BEGIN:VTIMEZONE
TZID:America/Vancouver
BEGIN:DAYLIGHT
TZOFFSETFROM:-0800
TZOFFSETTO:-0700
TZNAME:PDT
DTSTART:20220313T100000
END:DAYLIGHT
BEGIN:STANDARD
TZOFFSETFROM:-0700
TZOFFSETTO:-0800
TZNAME:PST
DTSTART:20221106T090000
END:STANDARD
BEGIN:DAYLIGHT
TZOFFSETFROM:-0800
TZOFFSETTO:-0700
TZNAME:PDT
DTSTART:20230312T100000
END:DAYLIGHT
BEGIN:STANDARD
TZOFFSETFROM:-0700
TZOFFSETTO:-0800
TZNAME:PST
DTSTART:20231105T090000
END:STANDARD
BEGIN:DAYLIGHT
TZOFFSETFROM:-0800
TZOFFSETTO:-0700
TZNAME:PDT
DTSTART:20240310T100000
END:DAYLIGHT
BEGIN:STANDARD
TZOFFSETFROM:-0700
TZOFFSETTO:-0800
TZNAME:PST
DTSTART:20241103T090000
END:STANDARD
BEGIN:DAYLIGHT
TZOFFSETFROM:-0800
TZOFFSETTO:-0700
TZNAME:PDT
DTSTART:20250309T100000
END:DAYLIGHT
BEGIN:STANDARD
TZOFFSETFROM:-0700
TZOFFSETTO:-0800
TZNAME:PST
DTSTART:20251102T090000
END:STANDARD
BEGIN:DAYLIGHT
TZOFFSETFROM:-0800
TZOFFSETTO:-0700
TZNAME:PDT
DTSTART:20260308T100000
END:DAYLIGHT
BEGIN:STANDARD
TZOFFSETFROM:-0700
TZOFFSETTO:-0800
TZNAME:PST
DTSTART:20261101T090000
END:STANDARD
END:VTIMEZONE
BEGIN:VEVENT
DTSTART;TZID=America/Vancouver:20250615T080000
DTEND;TZID=America/Vancouver:20250615T160000
DTSTAMP:20260423T133022
CREATED:20250520T202002Z
LAST-MODIFIED:20250521T143547Z
UID:9371-1749974400-1750003200@www.caccautosport.org
SUMMARY:VMSC Track Day
DESCRIPTION:VMSC Supplemental Regulations 2025\nLapping at VIMC \nApplicable to all Lapping events at Vancouver Island Motorsport Circuit for 2025 \nVenue:\nVancouver Island Motorsports Circuit (VIMC)\n4063 Cowichan Valley Hwy\, Duncan\, BC V9L 6K4 \nEvent Schedule:\n08:00 – Gates open for registration and tech.\n08:40 – Drivers Meeting\n09:00 – Track goes hot for AM sessions\n12:00 – Break\n13:00 – Track goes hot for PM sessions\n16:00 – Track goes cold\nRun Groups:\nEntrants will be assigned a run group based on driver experience. \nContact:\nClub Competition Director: competition@victoriamotorsports.ca  \nEVENT DESCRIPTION: This event is designed for a driver to improve and test their car handling skills at speeds that may be slightly higher than Autoslalom speeds.\nEntrants will be divided into 3 groups with each group getting approximately 20 minute sessions rotating through the course of the day. \nWAIVERS: An online CACC Annual General Waiver will be used\, replacing paper waivers. Waiver is a available via: https://www.caccautosport.org/waiver \nENTRANT ELIGIBILITY: All drivers must hold a current provincial or state driver’s license. (Graduated license\, where the\ndriver is authorized to drive without another licensed driver being present\, are permitted.) \nRULES: This event will be run under the 2023 CACC Lapping rulebook. Participants are expected to be familiar with this rulebook. \nNOTE: See “PERSONAL PROTECTIVE EQUIPMENT” section below for helmet requirements. \nApplicable sections of this rule book include\, but are not limited to;\nSection 14: Competitor Eligibility \nAdditional requirements for open vehicles; rollover protection\nUnmodified convertible cars with stock roll protection will be allowed. \nThe top of the roll bar must not be below the top of the driver’s helmet when the driver is in the normal driving position and must not be more than 15.24 cm (6 inches) behind the driver. It is strongly suggested that the roll bar be at least 7.62 cm (3 inches) above the drivers’ helmet. In the case of two drivers\, both drivers must be the roll bar height requirement\, however\, only one driver must be within six inches of the roll bar. In a closed car with a roll bar/cage\, it must be as close as possible to the interior top of the car. \nPERSONAL PROTECTIVE EQUIPMENT: All competitors must wear helmets meeting one of the following standards:\n●	BS 6658-85 TYPE A/FR with all amendments (Great Britain)\n●	Snell Foundation M or SA 2015 or newer standard.\n●	SFI\, Spec 31.1A and 31.2A (USA) (Note: suffix must include “A”)\n●	FIA standards 8860-2010\, 8860-2018\, 8858-2002\, 8858-2010 or 8859-2015\n●	Or any helmet listed in current FIA Technical List 25 or FIA Technical List 49 \nSnell “M” helmets may not be worn in any roll bar or roll cage equipped vehicle.  \nMINORS: Anyone under the age of 19 years of age entering the closed area shall require parental consent via the Annual Parental Consent waiver. In addition\, a minor competing in the event must fill out and sign the Annual Minor Participant Waiver.\nForms will be available via the CACC Website at: https://www.caccautosport.org/  \nSPEED LIMITS: The off-course speed limit is 15 kph. This applies to all pit\, grid\, and parking areas past the main gate. Please observe posted speed limits on local roads. Violators are subject to immediate disqualification\, a potential ban\, and shall be escorted from the site.  \nINTOXICANTS: Absolutely no alcoholic beverages or drugs shall be permitted at the event. Please refer to the Alcohol and Narcotics Policy as outlined in Sections 14.3/14.4 of the 2023 Lapping Rulebook \nCHILDREN & PETS: The grid\, paddock\, and course areas are off-limits to small children. Pets are not permitted on-site at VIMC.  \nSITE AMENITIES: Air and helmets may not be readily available at the event site. Competitors must be prepared to make other arrangements should these items be unavailable. Fuel is available for sale from VIMC.  \nRESPECT THE SITE: Please do not litter. Keep your pit area safe. Any and all fluids removed from a vehicle must be taken with you at the end of the event day. Transit across the site parking lots shall be done with restraint -Stunting and similar exhibitions are prohibited and shall be dealt with severely.  \nPASSENGER POLICY: Passengers must wear an approved helmet and complete all waivers prior to entering the hot pit. Novices are not permitted passengers except for instruction purposes.  \nEQUIPMENT DAMAGE: Competitors are responsible for any damage to VMSC equipment and property (i.e. timing gear)\, accidental or otherwise.  \nOnly competition and official vehicles are allowed entry to the closed area. Tow vehicles and trailers require approval from event staff prior to entry.
URL:https://www.caccautosport.org/event/vmsc-track-day/
LOCATION:Vancouver Island Motorsport Circuit\, 4063 Cowichan Valley Hwy\, Lake Cowichan\, BC\, V9L 6K4\, Canada
CATEGORIES:Lapping,Track Days
END:VEVENT
BEGIN:VEVENT
DTSTART;TZID=America/Vancouver:20230327T190000
DTEND;TZID=America/Vancouver:20230327T200000
DTSTAMP:20260423T133022
CREATED:20230224T145622Z
LAST-MODIFIED:20230224T145916Z
UID:7009-1679943600-1679947200@www.caccautosport.org
SUMMARY:CACC Time Attack Discipline Spring General Meeting
DESCRIPTION:
URL:https://www.caccautosport.org/event/cacc-time-attack-discipline-spring-general-meeting/
LOCATION:Virtual Meeting
CATEGORIES:Administration,HPDE,Lapping,Time Attack,Track Days
END:VEVENT
END:VCALENDAR