BEGIN:VCALENDAR
VERSION:2.0
PRODID:-//The Confederation of Autosport Car Clubs - ECPv6.15.20//NONSGML v1.0//EN
CALSCALE:GREGORIAN
METHOD:PUBLISH
X-WR-CALNAME:The Confederation of Autosport Car Clubs
X-ORIGINAL-URL:https://www.caccautosport.org
X-WR-CALDESC:Events for The Confederation of Autosport Car Clubs
REFRESH-INTERVAL;VALUE=DURATION:PT1H
X-Robots-Tag:noindex
X-PUBLISHED-TTL:PT1H
BEGIN:VTIMEZONE
TZID:America/Vancouver
BEGIN:DAYLIGHT
TZOFFSETFROM:-0800
TZOFFSETTO:-0700
TZNAME:PDT
DTSTART:20240310T100000
END:DAYLIGHT
BEGIN:STANDARD
TZOFFSETFROM:-0700
TZOFFSETTO:-0800
TZNAME:PST
DTSTART:20241103T090000
END:STANDARD
BEGIN:DAYLIGHT
TZOFFSETFROM:-0800
TZOFFSETTO:-0700
TZNAME:PDT
DTSTART:20250309T100000
END:DAYLIGHT
BEGIN:STANDARD
TZOFFSETFROM:-0700
TZOFFSETTO:-0800
TZNAME:PST
DTSTART:20251102T090000
END:STANDARD
BEGIN:DAYLIGHT
TZOFFSETFROM:-0800
TZOFFSETTO:-0700
TZNAME:PDT
DTSTART:20260308T100000
END:DAYLIGHT
BEGIN:STANDARD
TZOFFSETFROM:-0700
TZOFFSETTO:-0800
TZNAME:PST
DTSTART:20261101T090000
END:STANDARD
END:VTIMEZONE
BEGIN:VEVENT
DTSTART;TZID=America/Vancouver:20250302T093000
DTEND;TZID=America/Vancouver:20250302T150000
DTSTAMP:20260424T093153
CREATED:20250225T160620Z
LAST-MODIFIED:20250225T160806Z
UID:9186-1740907800-1740927600@www.caccautosport.org
SUMMARY:VMSC Autoslalom
DESCRIPTION:Applicable to all Autoslalom events at Vancouver Island Motorsport Circuit for 2025 \nVenue:\nVancouver Island Motorsports Circuit (VIMC)\n4063 Cowichan Valley Hwy\, Duncan\, BC V9L 6K4 \nEvent Schedule:\n0930 Gates Open for Registration and Tech\n0940 Course open for walking\n1030 Novice Briefing\n1040 Drivers Meeting\n1100 First run group on track\n1500 Last group off track – Actual time may vary.  \nRun Groups/Work Assignments:\nEntrants will be assigned a run group and a work assignment at registration.
URL:https://www.caccautosport.org/event/vmsc-autoslalom-restricted/
LOCATION:Vancouver Island Motorsport Circuit\, 4063 Cowichan Valley Hwy\, Lake Cowichan\, BC\, V9L 6K4\, Canada
CATEGORIES:Auto Slalom
END:VEVENT
BEGIN:VEVENT
DTSTART;TZID=America/Vancouver:20250303T190000
DTEND;TZID=America/Vancouver:20250303T200000
DTSTAMP:20260424T093153
CREATED:20250212T150651Z
LAST-MODIFIED:20250212T150651Z
UID:9175-1741028400-1741032000@www.caccautosport.org
SUMMARY:CACC Ice Race Discipline Spring Meeting
DESCRIPTION:
URL:https://www.caccautosport.org/event/cacc-ice-race-discipline-spring-meeting-2/
LOCATION:Virtual Meeting
CATEGORIES:Discipline Meeting,Ice Racing
END:VEVENT
BEGIN:VEVENT
DTSTART;TZID=America/Vancouver:20250309T103000
DTEND;TZID=America/Vancouver:20250309T113000
DTSTAMP:20260424T093153
CREATED:20250206T200542Z
LAST-MODIFIED:20250210T175611Z
UID:9150-1741516200-1741519800@www.caccautosport.org
SUMMARY:CACC Time Attack Discipline Spring Meeting
DESCRIPTION:
URL:https://www.caccautosport.org/event/cacc-time-attack-discipline-spring-meeting/
LOCATION:Virtual Meeting
CATEGORIES:Discipline Meeting,Time Attack
END:VEVENT
BEGIN:VEVENT
DTSTART;TZID=America/Vancouver:20250313T200000
DTEND;TZID=America/Vancouver:20250313T210000
DTSTAMP:20260424T093153
CREATED:20250211T021443Z
LAST-MODIFIED:20250212T025447Z
UID:9158-1741896000-1741899600@www.caccautosport.org
SUMMARY:CACC Autoslalom Discipline Spring Meeting
DESCRIPTION:
URL:https://www.caccautosport.org/event/cacc-autoslalom-spring-discipline-meeting-2/
LOCATION:Virtual Meeting
CATEGORIES:Auto Slalom,Autocross,Discipline Meeting
END:VEVENT
BEGIN:VEVENT
DTSTART;TZID=America/Vancouver:20250316T093000
DTEND;TZID=America/Vancouver:20250316T150000
DTSTAMP:20260424T093153
CREATED:20250127T205142Z
LAST-MODIFIED:20250127T205142Z
UID:9103-1742117400-1742137200@www.caccautosport.org
SUMMARY:VMSC Autoslalom
DESCRIPTION:Event Schedule:\n0930 Gates Open for Registration and Tech\n0940 Course open for walking\n1030 Novice Briefing\n1040 Drivers Meeting\n1100 First run group on track\n1500 Last group off track – Actual time may vary.  \nRun Groups/Work Assignments:\nEntrants will be assigned a run group and a work assignment at registration.
URL:https://www.caccautosport.org/event/vmsc-autoslalom-7/
LOCATION:Vancouver Island Motorsport Circuit\, 4063 Cowichan Valley Hwy\, Lake Cowichan\, BC\, V9L 6K4\, Canada
CATEGORIES:Auto Slalom,Autocross
END:VEVENT
BEGIN:VEVENT
DTSTART;TZID=America/Vancouver:20250316T100000
DTEND;TZID=America/Vancouver:20250316T113000
DTSTAMP:20260424T093153
CREATED:20250210T175810Z
LAST-MODIFIED:20250210T175810Z
UID:9156-1742119200-1742124600@www.caccautosport.org
SUMMARY:CACC Annual General Meeting
DESCRIPTION:
URL:https://www.caccautosport.org/event/cacc-annual-general-meeting-2/
LOCATION:Virtual Meeting
CATEGORIES:Annual General Meeting
END:VEVENT
BEGIN:VEVENT
DTSTART;VALUE=DATE:20250319
DTEND;VALUE=DATE:20250324
DTSTAMP:20260424T093153
CREATED:20250109T162402Z
LAST-MODIFIED:20250109T162402Z
UID:9071-1742342400-1742774399@www.caccautosport.org
SUMMARY:Vancouver International Auto Show
DESCRIPTION:
URL:https://www.caccautosport.org/event/vancouver-international-auto-show/
LOCATION:Vancouver Convention Center West\, 1055 Canada Place\, Vancouver\, BC\, V6C0C3\, Canada
CATEGORIES:Car Show
END:VEVENT
BEGIN:VEVENT
DTSTART;VALUE=DATE:20250322
DTEND;VALUE=DATE:20250323
DTSTAMP:20260424T093153
CREATED:20250319T172835Z
LAST-MODIFIED:20250319T172835Z
UID:9203-1742601600-1742687999@www.caccautosport.org
SUMMARY:PRMA Ice Cross
DESCRIPTION:Ice X event #2\nHeld locally on the frozen surface of Charlie lake!\nAccessible from the south boat launch\, the track is open to all road going vehicles and SXS (providing vehicles have\nactive registration and insurance)\nClasses will be as follows;\nNo Stud 2WD\nStreet Stud 2WD\nNo Stud 4WD\nStreet Stud 4WD\nRace Stud (please refer to sticky on PRMA page for stud allowances)\nSXS\nA tarp must be used to park on by participants. A limited quantity of tarps are available to purchase for 10$ each\nAll drivers and passengers must wear a DOT or SNELL approved helmet and seatbelts must be operable.\nAll vehicles must complete a self tech proving no mechanical problems exist and no fluid leaks will be permitted to\nrace.\nAll participants must sign a digital on site waiver.\nSpectator parking will be marked a separate from pits area for racing.\nAbsolutely no reckless driving in the pits will be tolerated\, and could revoke your ability to race for the day.\n60$ gets a minimum of 6 timed laps\nAll drivers are required to attend the drivers meeting at 10AM sharp. All details of event and driver expectations will be\ndiscussed.\nIf any other details are required please send a PM to Ryan Mucci or Clay Sutherland\nSee you there!
URL:https://www.caccautosport.org/event/prma-ice-cross-2/
LOCATION:Charlie Lake\, Lake Shore Drive\, Fort St. John\, BC\, V0C 1H0\, Canada
CATEGORIES:Ice Cross,Ice Racing
END:VEVENT
BEGIN:VEVENT
DTSTART;VALUE=DATE:20250323
DTEND;VALUE=DATE:20250324
DTSTAMP:20260424T093153
CREATED:20250319T172952Z
LAST-MODIFIED:20250319T172952Z
UID:9205-1742688000-1742774399@www.caccautosport.org
SUMMARY:SFMC Race Driver Training
DESCRIPTION:1 Day race school at Mission Raceway Park
URL:https://www.caccautosport.org/event/sfmc-race-driver-training-2/
LOCATION:Road Course at Mission Raceway Park\, 32670 Dyke Road\, Mission\, BC\, Canada
CATEGORIES:Race Driver Training,Road Racing
END:VEVENT
BEGIN:VEVENT
DTSTART;VALUE=DATE:20250329
DTEND;VALUE=DATE:20250331
DTSTAMP:20260424T093153
CREATED:20250320T151751Z
LAST-MODIFIED:20250408T140844Z
UID:9211-1743206400-1743379199@www.caccautosport.org
SUMMARY:SCCBC Road Race Driver Training
DESCRIPTION:Spring Driver Training\, On-Track Days
URL:https://www.caccautosport.org/event/sccbc-road-race-driver-training-2/
LOCATION:Road Course at Mission Raceway Park\, 32670 Dyke Road\, Mission\, BC\, Canada
CATEGORIES:Race Driver Training,Road Race Driver Training,Vintage Racing
ORGANIZER;CN="Sports Car Club of BC":MAILTO:secretary@sccbc.net
END:VEVENT
END:VCALENDAR